BEGIN:VCALENDAR
PRODID:-//WikiCFP//Alefiyahussain 1.0//EN
VERSION:2.0
CALSCALE:GREGORIAN
BEGIN:VEVENT
DTSTAMP:20260421T105343Z
DTSTART;VALUE=DATE:20140820
DTEND;VALUE=DATE:20140823
SUMMARY:USENIX Security 2014
DESCRIPTION:23rd USENIX Security Symposium
URL:http://www.wikicfp.com/cfp/servlet/event.showcfp?eventid=34821&copyow
 nerid=165128
UID:cfp871433-E@wikicfp.com
END:VEVENT
BEGIN:VEVENT
DTSTAMP:20260421T105343Z
DTSTART;VALUE=DATE:20140227
SUMMARY:USENIX Security 2014 Deadline
DESCRIPTION:23rd USENIX Security Symposium
URL:http://www.wikicfp.com/cfp/servlet/event.showcfp?eventid=34821&copyow
 nerid=165128
UID:cfp871433-D@wikicfp.com
END:VEVENT
BEGIN:VEVENT
DTSTAMP:20260421T105343Z
DTSTART;VALUE=DATE:20140509
SUMMARY:USENIX Security 2014 Notification Due
DESCRIPTION:23rd USENIX Security Symposium
URL:http://www.wikicfp.com/cfp/servlet/event.showcfp?eventid=34821&copyow
 nerid=165128
UID:cfp871433-N@wikicfp.com
END:VEVENT
BEGIN:VEVENT
DTSTAMP:20260421T105343Z
DTSTART;VALUE=DATE:20140708
SUMMARY:USENIX Security 2014 Final Version Due
DESCRIPTION:23rd USENIX Security Symposium
URL:http://www.wikicfp.com/cfp/servlet/event.showcfp?eventid=34821&copyow
 nerid=165128
UID:cfp871433-N@wikicfp.com
END:VEVENT
BEGIN:VEVENT
DTSTAMP:20260421T105343Z
DTSTART;VALUE=DATE:20141006
DTEND;VALUE=DATE:20141009
SUMMARY:OSDI 2014
DESCRIPTION:11th USENIX Symposium on Operating Systems Design and Impleme
 ntation
URL:http://www.wikicfp.com/cfp/servlet/event.showcfp?eventid=33816&copyow
 nerid=165128
UID:cfp871432-E@wikicfp.com
END:VEVENT
BEGIN:VEVENT
DTSTAMP:20260421T105343Z
DTSTART;VALUE=DATE:20140424
SUMMARY:OSDI 2014 Abstract Due
DESCRIPTION:11th USENIX Symposium on Operating Systems Design and Impleme
 ntation
URL:http://www.wikicfp.com/cfp/servlet/event.showcfp?eventid=33816&copyow
 nerid=165128
UID:cfp871432-A@wikicfp.com
END:VEVENT
BEGIN:VEVENT
DTSTAMP:20260421T105343Z
DTSTART;VALUE=DATE:20140501
SUMMARY:OSDI 2014 Deadline
DESCRIPTION:11th USENIX Symposium on Operating Systems Design and Impleme
 ntation
URL:http://www.wikicfp.com/cfp/servlet/event.showcfp?eventid=33816&copyow
 nerid=165128
UID:cfp871432-D@wikicfp.com
END:VEVENT
BEGIN:VEVENT
DTSTAMP:20260421T105343Z
DTSTART;VALUE=DATE:20140717
SUMMARY:OSDI 2014 Notification Due
DESCRIPTION:11th USENIX Symposium on Operating Systems Design and Impleme
 ntation
URL:http://www.wikicfp.com/cfp/servlet/event.showcfp?eventid=33816&copyow
 nerid=165128
UID:cfp871432-N@wikicfp.com
END:VEVENT
BEGIN:VEVENT
DTSTAMP:20260421T105343Z
DTSTART;VALUE=DATE:20140910
SUMMARY:OSDI 2014 Final Version Due
DESCRIPTION:11th USENIX Symposium on Operating Systems Design and Impleme
 ntation
URL:http://www.wikicfp.com/cfp/servlet/event.showcfp?eventid=33816&copyow
 nerid=165128
UID:cfp871432-N@wikicfp.com
END:VEVENT
BEGIN:VEVENT
DTSTAMP:20260421T105343Z
DTSTART;VALUE=DATE:20141103
DTEND;VALUE=DATE:20141108
SUMMARY:CCS 2014
DESCRIPTION:21st ACM Conference on Computer and Communications Security
URL:http://www.wikicfp.com/cfp/servlet/event.showcfp?eventid=35798&copyow
 nerid=165128
UID:cfp871434-E@wikicfp.com
END:VEVENT
BEGIN:VEVENT
DTSTAMP:20260421T105343Z
DTSTART;VALUE=DATE:20140516
SUMMARY:CCS 2014 Deadline
DESCRIPTION:21st ACM Conference on Computer and Communications Security
URL:http://www.wikicfp.com/cfp/servlet/event.showcfp?eventid=35798&copyow
 nerid=165128
UID:cfp871434-D@wikicfp.com
END:VEVENT
BEGIN:VEVENT
DTSTAMP:20260421T105343Z
DTSTART;VALUE=DATE:20140722
SUMMARY:CCS 2014 Notification Due
DESCRIPTION:21st ACM Conference on Computer and Communications Security
URL:http://www.wikicfp.com/cfp/servlet/event.showcfp?eventid=35798&copyow
 nerid=165128
UID:cfp871434-N@wikicfp.com
END:VEVENT
BEGIN:VEVENT
DTSTAMP:20260421T105343Z
DTSTART;VALUE=DATE:20140824
SUMMARY:CCS 2014 Final Version Due
DESCRIPTION:21st ACM Conference on Computer and Communications Security
URL:http://www.wikicfp.com/cfp/servlet/event.showcfp?eventid=35798&copyow
 nerid=165128
UID:cfp871434-N@wikicfp.com
END:VEVENT
BEGIN:VEVENT
DTSTAMP:20260421T105343Z
DTSTART;VALUE=DATE:20210523
DTEND;VALUE=DATE:20210528
SUMMARY:S&P 2021
DESCRIPTION:IEEE Symposium on Security and Privacy (Spring Quarter)
URL:http://www.wikicfp.com/cfp/servlet/event.showcfp?eventid=109972&copyo
 wnerid=165128
UID:cfp871427-E@wikicfp.com
END:VEVENT
BEGIN:VEVENT
DTSTAMP:20260421T105343Z
DTSTART;VALUE=DATE:20200305
SUMMARY:S&P 2021 Deadline
DESCRIPTION:IEEE Symposium on Security and Privacy (Spring Quarter)
URL:http://www.wikicfp.com/cfp/servlet/event.showcfp?eventid=109972&copyo
 wnerid=165128
UID:cfp871427-D@wikicfp.com
END:VEVENT
BEGIN:VEVENT
DTSTAMP:20260421T105343Z
DTSTART;VALUE=DATE:20200421
SUMMARY:S&P 2021 Notification Due
DESCRIPTION:IEEE Symposium on Security and Privacy (Spring Quarter)
URL:http://www.wikicfp.com/cfp/servlet/event.showcfp?eventid=109972&copyo
 wnerid=165128
UID:cfp871427-N@wikicfp.com
END:VEVENT
BEGIN:VEVENT
DTSTAMP:20260421T105343Z
DTSTART;VALUE=DATE:20200701
SUMMARY:S&P 2021 Final Version Due
DESCRIPTION:IEEE Symposium on Security and Privacy (Spring Quarter)
URL:http://www.wikicfp.com/cfp/servlet/event.showcfp?eventid=109972&copyo
 wnerid=165128
UID:cfp871427-N@wikicfp.com
END:VEVENT
BEGIN:VEVENT
DTSTAMP:20260421T105343Z
DTSTART;VALUE=DATE:20210412
DTEND;VALUE=DATE:20210415
SUMMARY:NSDI 2021
DESCRIPTION:18th USENIX Symposium on Networked Systems Design and Impleme
 ntation
URL:http://www.wikicfp.com/cfp/servlet/event.showcfp?eventid=100152&copyo
 wnerid=165128
UID:cfp871435-E@wikicfp.com
END:VEVENT
BEGIN:VEVENT
DTSTAMP:20260421T105343Z
DTSTART;VALUE=DATE:20200410
SUMMARY:NSDI 2021 Abstract Due
DESCRIPTION:18th USENIX Symposium on Networked Systems Design and Impleme
 ntation
URL:http://www.wikicfp.com/cfp/servlet/event.showcfp?eventid=100152&copyo
 wnerid=165128
UID:cfp871435-A@wikicfp.com
END:VEVENT
BEGIN:VEVENT
DTSTAMP:20260421T105343Z
DTSTART;VALUE=DATE:20200417
SUMMARY:NSDI 2021 Deadline
DESCRIPTION:18th USENIX Symposium on Networked Systems Design and Impleme
 ntation
URL:http://www.wikicfp.com/cfp/servlet/event.showcfp?eventid=100152&copyo
 wnerid=165128
UID:cfp871435-D@wikicfp.com
END:VEVENT
BEGIN:VEVENT
DTSTAMP:20260421T105343Z
DTSTART;VALUE=DATE:20200702
SUMMARY:NSDI 2021 Notification Due
DESCRIPTION:18th USENIX Symposium on Networked Systems Design and Impleme
 ntation
URL:http://www.wikicfp.com/cfp/servlet/event.showcfp?eventid=100152&copyo
 wnerid=165128
UID:cfp871435-N@wikicfp.com
END:VEVENT
BEGIN:VEVENT
DTSTAMP:20260421T105343Z
DTSTART;VALUE=DATE:20200930
SUMMARY:NSDI 2021 Final Version Due
DESCRIPTION:18th USENIX Symposium on Networked Systems Design and Impleme
 ntation
URL:http://www.wikicfp.com/cfp/servlet/event.showcfp?eventid=100152&copyo
 wnerid=165128
UID:cfp871435-N@wikicfp.com
END:VEVENT
BEGIN:VEVENT
DTSTAMP:20260421T105343Z
DTSTART;VALUE=DATE:20201109
DTEND;VALUE=DATE:20201114
SUMMARY:ACM CCS 2020
DESCRIPTION:ACM Conference on Computer and Communications Security (2nd C
 ycle)
URL:http://www.wikicfp.com/cfp/servlet/event.showcfp?eventid=99379&copyow
 nerid=165128
UID:cfp871422-E@wikicfp.com
END:VEVENT
BEGIN:VEVENT
DTSTAMP:20260421T105343Z
DTSTART;VALUE=DATE:20200504
SUMMARY:ACM CCS 2020 Deadline
DESCRIPTION:ACM Conference on Computer and Communications Security (2nd C
 ycle)
URL:http://www.wikicfp.com/cfp/servlet/event.showcfp?eventid=99379&copyow
 nerid=165128
UID:cfp871422-D@wikicfp.com
END:VEVENT
BEGIN:VEVENT
DTSTAMP:20260421T105343Z
DTSTART;VALUE=DATE:20200721
SUMMARY:ACM CCS 2020 Notification Due
DESCRIPTION:ACM Conference on Computer and Communications Security (2nd C
 ycle)
URL:http://www.wikicfp.com/cfp/servlet/event.showcfp?eventid=99379&copyow
 nerid=165128
UID:cfp871422-N@wikicfp.com
END:VEVENT
BEGIN:VEVENT
DTSTAMP:20260421T105343Z
DTSTART;VALUE=DATE:20200908
SUMMARY:ACM CCS 2020 Final Version Due
DESCRIPTION:ACM Conference on Computer and Communications Security (2nd C
 ycle)
URL:http://www.wikicfp.com/cfp/servlet/event.showcfp?eventid=99379&copyow
 nerid=165128
UID:cfp871422-N@wikicfp.com
END:VEVENT
BEGIN:VEVENT
DTSTAMP:20260421T105343Z
DTSTART;VALUE=DATE:20210221
DTEND;VALUE=DATE:20210225
SUMMARY:NDSS 2021
DESCRIPTION:Network and Distributed System Security Symposium (Summer Cyc
 le)
URL:http://www.wikicfp.com/cfp/servlet/event.showcfp?eventid=109968&copyo
 wnerid=165128
UID:cfp871421-E@wikicfp.com
END:VEVENT
BEGIN:VEVENT
DTSTAMP:20260421T105343Z
DTSTART;VALUE=DATE:20200522
SUMMARY:NDSS 2021 Deadline
DESCRIPTION:Network and Distributed System Security Symposium (Summer Cyc
 le)
URL:http://www.wikicfp.com/cfp/servlet/event.showcfp?eventid=109968&copyo
 wnerid=165128
UID:cfp871421-D@wikicfp.com
END:VEVENT
BEGIN:VEVENT
DTSTAMP:20260421T105343Z
DTSTART;VALUE=DATE:20210523
DTEND;VALUE=DATE:20210528
SUMMARY:S&P 2021
DESCRIPTION:IEEE Symposium on Security and Privacy (Summer Quarter)
URL:http://www.wikicfp.com/cfp/servlet/event.showcfp?eventid=109973&copyo
 wnerid=165128
UID:cfp871428-E@wikicfp.com
END:VEVENT
BEGIN:VEVENT
DTSTAMP:20260421T105343Z
DTSTART;VALUE=DATE:20200604
SUMMARY:S&P 2021 Deadline
DESCRIPTION:IEEE Symposium on Security and Privacy (Summer Quarter)
URL:http://www.wikicfp.com/cfp/servlet/event.showcfp?eventid=109973&copyo
 wnerid=165128
UID:cfp871428-D@wikicfp.com
END:VEVENT
BEGIN:VEVENT
DTSTAMP:20260421T105343Z
DTSTART;VALUE=DATE:20200821
SUMMARY:S&P 2021 Notification Due
DESCRIPTION:IEEE Symposium on Security and Privacy (Summer Quarter)
URL:http://www.wikicfp.com/cfp/servlet/event.showcfp?eventid=109973&copyo
 wnerid=165128
UID:cfp871428-N@wikicfp.com
END:VEVENT
BEGIN:VEVENT
DTSTAMP:20260421T105343Z
DTSTART;VALUE=DATE:20200930
SUMMARY:S&P 2021 Final Version Due
DESCRIPTION:IEEE Symposium on Security and Privacy (Summer Quarter)
URL:http://www.wikicfp.com/cfp/servlet/event.showcfp?eventid=109973&copyo
 wnerid=165128
UID:cfp871428-N@wikicfp.com
END:VEVENT
BEGIN:VEVENT
DTSTAMP:20260421T105343Z
DTSTART;VALUE=DATE:20210419
DTEND;VALUE=DATE:20210424
SUMMARY:ICDE 2021
DESCRIPTION:International Conference on Data Engineering (1st Round)
URL:http://www.wikicfp.com/cfp/servlet/event.showcfp?eventid=113442&copyo
 wnerid=165128
UID:cfp871431-E@wikicfp.com
END:VEVENT
BEGIN:VEVENT
DTSTAMP:20260421T105343Z
DTSTART;VALUE=DATE:20200610
SUMMARY:ICDE 2021 Abstract Due
DESCRIPTION:International Conference on Data Engineering (1st Round)
URL:http://www.wikicfp.com/cfp/servlet/event.showcfp?eventid=113442&copyo
 wnerid=165128
UID:cfp871431-A@wikicfp.com
END:VEVENT
BEGIN:VEVENT
DTSTAMP:20260421T105343Z
DTSTART;VALUE=DATE:20200617
SUMMARY:ICDE 2021 Deadline
DESCRIPTION:International Conference on Data Engineering (1st Round)
URL:http://www.wikicfp.com/cfp/servlet/event.showcfp?eventid=113442&copyo
 wnerid=165128
UID:cfp871431-D@wikicfp.com
END:VEVENT
BEGIN:VEVENT
DTSTAMP:20260421T105343Z
DTSTART;VALUE=DATE:20201002
SUMMARY:ICDE 2021 Notification Due
DESCRIPTION:International Conference on Data Engineering (1st Round)
URL:http://www.wikicfp.com/cfp/servlet/event.showcfp?eventid=113442&copyo
 wnerid=165128
UID:cfp871431-N@wikicfp.com
END:VEVENT
BEGIN:VEVENT
DTSTAMP:20260421T105343Z
DTSTART;VALUE=DATE:20201102
SUMMARY:ICDE 2021 Final Version Due
DESCRIPTION:International Conference on Data Engineering (1st Round)
URL:http://www.wikicfp.com/cfp/servlet/event.showcfp?eventid=113442&copyo
 wnerid=165128
UID:cfp871431-N@wikicfp.com
END:VEVENT
BEGIN:VEVENT
DTSTAMP:20260421T105343Z
DTSTART;VALUE=DATE:20210811
DTEND;VALUE=DATE:20210814
SUMMARY:USENIX Security 2021
DESCRIPTION:30th USENIX Security Symposium (Summer Deadline)
URL:http://www.wikicfp.com/cfp/servlet/event.showcfp?eventid=109976&copyo
 wnerid=165128
UID:cfp871429-E@wikicfp.com
END:VEVENT
BEGIN:VEVENT
DTSTAMP:20260421T105343Z
DTSTART;VALUE=DATE:20200618
SUMMARY:USENIX Security 2021 Deadline
DESCRIPTION:30th USENIX Security Symposium (Summer Deadline)
URL:http://www.wikicfp.com/cfp/servlet/event.showcfp?eventid=109976&copyo
 wnerid=165128
UID:cfp871429-D@wikicfp.com
END:VEVENT
BEGIN:VEVENT
DTSTAMP:20260421T105343Z
DTSTART;VALUE=DATE:20200911
SUMMARY:USENIX Security 2021 Notification Due
DESCRIPTION:30th USENIX Security Symposium (Summer Deadline)
URL:http://www.wikicfp.com/cfp/servlet/event.showcfp?eventid=109976&copyo
 wnerid=165128
UID:cfp871429-N@wikicfp.com
END:VEVENT
BEGIN:VEVENT
DTSTAMP:20260421T105343Z
DTSTART;VALUE=DATE:20201013
SUMMARY:USENIX Security 2021 Final Version Due
DESCRIPTION:30th USENIX Security Symposium (Summer Deadline)
URL:http://www.wikicfp.com/cfp/servlet/event.showcfp?eventid=109976&copyo
 wnerid=165128
UID:cfp871429-N@wikicfp.com
END:VEVENT
BEGIN:VEVENT
DTSTAMP:20260421T105343Z
DTSTART;VALUE=DATE:20210620
DTEND;VALUE=DATE:20210626
SUMMARY:SIGMOD 2021
DESCRIPTION:International Conference on Management of Data (1st Cycle)
URL:http://www.wikicfp.com/cfp/servlet/event.showcfp?eventid=109978&copyo
 wnerid=165128
UID:cfp871430-E@wikicfp.com
END:VEVENT
BEGIN:VEVENT
DTSTAMP:20260421T105343Z
DTSTART;VALUE=DATE:20200707
SUMMARY:SIGMOD 2021 Deadline
DESCRIPTION:International Conference on Management of Data (1st Cycle)
URL:http://www.wikicfp.com/cfp/servlet/event.showcfp?eventid=109978&copyo
 wnerid=165128
UID:cfp871430-D@wikicfp.com
END:VEVENT
BEGIN:VEVENT
DTSTAMP:20260421T105343Z
DTSTART;VALUE=DATE:20200914
SUMMARY:SIGMOD 2021 Notification Due
DESCRIPTION:International Conference on Management of Data (1st Cycle)
URL:http://www.wikicfp.com/cfp/servlet/event.showcfp?eventid=109978&copyo
 wnerid=165128
UID:cfp871430-N@wikicfp.com
END:VEVENT
BEGIN:VEVENT
DTSTAMP:20260421T105343Z
DTSTART;VALUE=DATE:20210221
DTEND;VALUE=DATE:20210225
SUMMARY:NDSS 2021
DESCRIPTION:Network and Distributed System Security Symposium (Fall Cycle
 )
URL:http://www.wikicfp.com/cfp/servlet/event.showcfp?eventid=109969&copyo
 wnerid=165128
UID:cfp871426-E@wikicfp.com
END:VEVENT
BEGIN:VEVENT
DTSTAMP:20260421T105343Z
DTSTART;VALUE=DATE:20200731
SUMMARY:NDSS 2021 Deadline
DESCRIPTION:Network and Distributed System Security Symposium (Fall Cycle
 )
URL:http://www.wikicfp.com/cfp/servlet/event.showcfp?eventid=109969&copyo
 wnerid=165128
UID:cfp871426-D@wikicfp.com
END:VEVENT
BEGIN:VEVENT
DTSTAMP:20260421T105343Z
DTSTART;VALUE=DATE:20210308
DTEND;VALUE=DATE:20210313
SUMMARY:WSDM 2021
DESCRIPTION:14th ACM Conference on Web Search and Data Mining
URL:http://www.wikicfp.com/cfp/servlet/event.showcfp?eventid=105990&copyo
 wnerid=165128
UID:cfp871424-E@wikicfp.com
END:VEVENT
BEGIN:VEVENT
DTSTAMP:20260421T105343Z
DTSTART;VALUE=DATE:20200816
SUMMARY:WSDM 2021 Deadline
DESCRIPTION:14th ACM Conference on Web Search and Data Mining
URL:http://www.wikicfp.com/cfp/servlet/event.showcfp?eventid=105990&copyo
 wnerid=165128
UID:cfp871424-D@wikicfp.com
END:VEVENT
BEGIN:VEVENT
DTSTAMP:20260421T105343Z
DTSTART;VALUE=DATE:20201016
SUMMARY:WSDM 2021 Notification Due
DESCRIPTION:14th ACM Conference on Web Search and Data Mining
URL:http://www.wikicfp.com/cfp/servlet/event.showcfp?eventid=105990&copyo
 wnerid=165128
UID:cfp871424-N@wikicfp.com
END:VEVENT
BEGIN:VEVENT
DTSTAMP:20260421T105343Z
DTSTART;VALUE=DATE:20210202
DTEND;VALUE=DATE:20210210
SUMMARY:AAAI 2021
DESCRIPTION:35th AAAI Conference on Artificial Intelligence
URL:http://www.wikicfp.com/cfp/servlet/event.showcfp?eventid=104535&copyo
 wnerid=165128
UID:cfp871423-E@wikicfp.com
END:VEVENT
BEGIN:VEVENT
DTSTAMP:20260421T105343Z
DTSTART;VALUE=DATE:20200901
SUMMARY:AAAI 2021 Abstract Due
DESCRIPTION:35th AAAI Conference on Artificial Intelligence
URL:http://www.wikicfp.com/cfp/servlet/event.showcfp?eventid=104535&copyo
 wnerid=165128
UID:cfp871423-A@wikicfp.com
END:VEVENT
BEGIN:VEVENT
DTSTAMP:20260421T105343Z
DTSTART;VALUE=DATE:20200909
SUMMARY:AAAI 2021 Deadline
DESCRIPTION:35th AAAI Conference on Artificial Intelligence
URL:http://www.wikicfp.com/cfp/servlet/event.showcfp?eventid=104535&copyo
 wnerid=165128
UID:cfp871423-D@wikicfp.com
END:VEVENT
BEGIN:VEVENT
DTSTAMP:20260421T105343Z
DTSTART;VALUE=DATE:20210601
DTEND;VALUE=DATE:20210602
SUMMARY:ICWSM 2021
DESCRIPTION:International Conference on Web and Social Media (2nd Deadlin
 e)
URL:http://www.wikicfp.com/cfp/servlet/event.showcfp?eventid=108863&copyo
 wnerid=165128
UID:cfp871425-E@wikicfp.com
END:VEVENT
BEGIN:VEVENT
DTSTAMP:20260421T105343Z
DTSTART;VALUE=DATE:20200915
SUMMARY:ICWSM 2021 Deadline
DESCRIPTION:International Conference on Web and Social Media (2nd Deadlin
 e)
URL:http://www.wikicfp.com/cfp/servlet/event.showcfp?eventid=108863&copyo
 wnerid=165128
UID:cfp871425-D@wikicfp.com
END:VEVENT
BEGIN:VEVENT
DTSTAMP:20260421T105343Z
DTSTART;VALUE=DATE:20201115
SUMMARY:ICWSM 2021 Notification Due
DESCRIPTION:International Conference on Web and Social Media (2nd Deadlin
 e)
URL:http://www.wikicfp.com/cfp/servlet/event.showcfp?eventid=108863&copyo
 wnerid=165128
UID:cfp871425-N@wikicfp.com
END:VEVENT
BEGIN:VEVENT
DTSTAMP:20260421T105343Z
DTSTART;VALUE=DATE:20210426
DTEND;VALUE=DATE:20210430
SUMMARY:EuroSys 2021
DESCRIPTION:European Conference on Computer Systems
URL:http://www.wikicfp.com/cfp/servlet/event.showcfp?eventid=109757&copyo
 wnerid=165128
UID:cfp853754-E@wikicfp.com
END:VEVENT
BEGIN:VEVENT
DTSTAMP:20260421T105343Z
DTSTART;VALUE=DATE:20201001
SUMMARY:EuroSys 2021 Abstract Due
DESCRIPTION:European Conference on Computer Systems
URL:http://www.wikicfp.com/cfp/servlet/event.showcfp?eventid=109757&copyo
 wnerid=165128
UID:cfp853754-A@wikicfp.com
END:VEVENT
BEGIN:VEVENT
DTSTAMP:20260421T105343Z
DTSTART;VALUE=DATE:20201009
SUMMARY:EuroSys 2021 Deadline
DESCRIPTION:European Conference on Computer Systems
URL:http://www.wikicfp.com/cfp/servlet/event.showcfp?eventid=109757&copyo
 wnerid=165128
UID:cfp853754-D@wikicfp.com
END:VEVENT
BEGIN:VEVENT
DTSTAMP:20260421T105343Z
DTSTART;VALUE=DATE:20210120
SUMMARY:EuroSys 2021 Notification Due
DESCRIPTION:European Conference on Computer Systems
URL:http://www.wikicfp.com/cfp/servlet/event.showcfp?eventid=109757&copyo
 wnerid=165128
UID:cfp853754-N@wikicfp.com
END:VEVENT
BEGIN:VEVENT
DTSTAMP:20260421T105343Z
DTSTART;VALUE=DATE:20210326
SUMMARY:EuroSys 2021 Final Version Due
DESCRIPTION:European Conference on Computer Systems
URL:http://www.wikicfp.com/cfp/servlet/event.showcfp?eventid=109757&copyo
 wnerid=165128
UID:cfp853754-N@wikicfp.com
END:VEVENT
BEGIN:VEVENT
DTSTAMP:20260421T105343Z
DTSTART;VALUE=DATE:20210412
DTEND;VALUE=DATE:20210417
SUMMARY:ICST 2021
DESCRIPTION:IEEE International Conference on Software Testing\, Verificat
 ion and Validation 2021
URL:http://www.wikicfp.com/cfp/servlet/event.showcfp?eventid=109804&copyo
 wnerid=165128
UID:cfp853755-E@wikicfp.com
END:VEVENT
BEGIN:VEVENT
DTSTAMP:20260421T105343Z
DTSTART;VALUE=DATE:20201005
SUMMARY:ICST 2021 Abstract Due
DESCRIPTION:IEEE International Conference on Software Testing\, Verificat
 ion and Validation 2021
URL:http://www.wikicfp.com/cfp/servlet/event.showcfp?eventid=109804&copyo
 wnerid=165128
UID:cfp853755-A@wikicfp.com
END:VEVENT
BEGIN:VEVENT
DTSTAMP:20260421T105343Z
DTSTART;VALUE=DATE:20201012
SUMMARY:ICST 2021 Deadline
DESCRIPTION:IEEE International Conference on Software Testing\, Verificat
 ion and Validation 2021
URL:http://www.wikicfp.com/cfp/servlet/event.showcfp?eventid=109804&copyo
 wnerid=165128
UID:cfp853755-D@wikicfp.com
END:VEVENT
BEGIN:VEVENT
DTSTAMP:20260421T105343Z
DTSTART;VALUE=DATE:20201211
SUMMARY:ICST 2021 Notification Due
DESCRIPTION:IEEE International Conference on Software Testing\, Verificat
 ion and Validation 2021
URL:http://www.wikicfp.com/cfp/servlet/event.showcfp?eventid=109804&copyo
 wnerid=165128
UID:cfp853755-N@wikicfp.com
END:VEVENT
BEGIN:VEVENT
DTSTAMP:20260421T105343Z
DTSTART;VALUE=DATE:20210120
SUMMARY:ICST 2021 Final Version Due
DESCRIPTION:IEEE International Conference on Software Testing\, Verificat
 ion and Validation 2021
URL:http://www.wikicfp.com/cfp/servlet/event.showcfp?eventid=109804&copyo
 wnerid=165128
UID:cfp853755-N@wikicfp.com
END:VEVENT
BEGIN:VEVENT
DTSTAMP:20260421T105343Z
DTSTART;VALUE=DATE:20201030
DTEND;VALUE=DATE:20201101
SUMMARY:IC-ISS 2020
DESCRIPTION:9th International Conference on Information Systems and Secur
 ity
URL:http://www.wikicfp.com/cfp/servlet/event.showcfp?eventid=112997&copyo
 wnerid=165128
UID:cfp853752-E@wikicfp.com
END:VEVENT
BEGIN:VEVENT
DTSTAMP:20260421T105343Z
DTSTART;VALUE=DATE:20200930
SUMMARY:IC-ISS 2020 Abstract Due
DESCRIPTION:9th International Conference on Information Systems and Secur
 ity
URL:http://www.wikicfp.com/cfp/servlet/event.showcfp?eventid=112997&copyo
 wnerid=165128
UID:cfp853752-A@wikicfp.com
END:VEVENT
BEGIN:VEVENT
DTSTAMP:20260421T105343Z
DTSTART;VALUE=DATE:20201015
SUMMARY:IC-ISS 2020 Deadline
DESCRIPTION:9th International Conference on Information Systems and Secur
 ity
URL:http://www.wikicfp.com/cfp/servlet/event.showcfp?eventid=112997&copyo
 wnerid=165128
UID:cfp853752-D@wikicfp.com
END:VEVENT
BEGIN:VEVENT
DTSTAMP:20260421T105343Z
DTSTART;VALUE=DATE:20201017
SUMMARY:IC-ISS 2020 Notification Due
DESCRIPTION:9th International Conference on Information Systems and Secur
 ity
URL:http://www.wikicfp.com/cfp/servlet/event.showcfp?eventid=112997&copyo
 wnerid=165128
UID:cfp853752-N@wikicfp.com
END:VEVENT
BEGIN:VEVENT
DTSTAMP:20260421T105343Z
DTSTART;VALUE=DATE:20201028
SUMMARY:IC-ISS 2020 Final Version Due
DESCRIPTION:9th International Conference on Information Systems and Secur
 ity
URL:http://www.wikicfp.com/cfp/servlet/event.showcfp?eventid=112997&copyo
 wnerid=165128
UID:cfp853752-N@wikicfp.com
END:VEVENT
BEGIN:VEVENT
DTSTAMP:20260421T105343Z
DTSTART;VALUE=DATE:20210328
DTEND;VALUE=DATE:20210329
SUMMARY:PAM 2021
DESCRIPTION:Passive and Active Network Measurement
URL:http://www.wikicfp.com/cfp/servlet/event.showcfp?eventid=112920&copyo
 wnerid=165128
UID:cfp853751-E@wikicfp.com
END:VEVENT
BEGIN:VEVENT
DTSTAMP:20260421T105343Z
DTSTART;VALUE=DATE:20201016
SUMMARY:PAM 2021 Abstract Due
DESCRIPTION:Passive and Active Network Measurement
URL:http://www.wikicfp.com/cfp/servlet/event.showcfp?eventid=112920&copyo
 wnerid=165128
UID:cfp853751-A@wikicfp.com
END:VEVENT
BEGIN:VEVENT
DTSTAMP:20260421T105343Z
DTSTART;VALUE=DATE:20201023
SUMMARY:PAM 2021 Deadline
DESCRIPTION:Passive and Active Network Measurement
URL:http://www.wikicfp.com/cfp/servlet/event.showcfp?eventid=112920&copyo
 wnerid=165128
UID:cfp853751-D@wikicfp.com
END:VEVENT
BEGIN:VEVENT
DTSTAMP:20260421T105343Z
DTSTART;VALUE=DATE:20201218
SUMMARY:PAM 2021 Notification Due
DESCRIPTION:Passive and Active Network Measurement
URL:http://www.wikicfp.com/cfp/servlet/event.showcfp?eventid=112920&copyo
 wnerid=165128
UID:cfp853751-N@wikicfp.com
END:VEVENT
BEGIN:VEVENT
DTSTAMP:20260421T105343Z
DTSTART;VALUE=DATE:20210518
DTEND;VALUE=DATE:20210522
SUMMARY:IoTDI 2021
DESCRIPTION:6th ACM/IEEE Conference on Internet of Things Design and Impl
 ementation
URL:http://www.wikicfp.com/cfp/servlet/event.showcfp?eventid=113001&copyo
 wnerid=165128
UID:cfp853753-E@wikicfp.com
END:VEVENT
BEGIN:VEVENT
DTSTAMP:20260421T105343Z
DTSTART;VALUE=DATE:20201019
SUMMARY:IoTDI 2021 Abstract Due
DESCRIPTION:6th ACM/IEEE Conference on Internet of Things Design and Impl
 ementation
URL:http://www.wikicfp.com/cfp/servlet/event.showcfp?eventid=113001&copyo
 wnerid=165128
UID:cfp853753-A@wikicfp.com
END:VEVENT
BEGIN:VEVENT
DTSTAMP:20260421T105343Z
DTSTART;VALUE=DATE:20201026
SUMMARY:IoTDI 2021 Deadline
DESCRIPTION:6th ACM/IEEE Conference on Internet of Things Design and Impl
 ementation
URL:http://www.wikicfp.com/cfp/servlet/event.showcfp?eventid=113001&copyo
 wnerid=165128
UID:cfp853753-D@wikicfp.com
END:VEVENT
BEGIN:VEVENT
DTSTAMP:20260421T105343Z
DTSTART;VALUE=DATE:20210119
SUMMARY:IoTDI 2021 Notification Due
DESCRIPTION:6th ACM/IEEE Conference on Internet of Things Design and Impl
 ementation
URL:http://www.wikicfp.com/cfp/servlet/event.showcfp?eventid=113001&copyo
 wnerid=165128
UID:cfp853753-N@wikicfp.com
END:VEVENT
BEGIN:VEVENT
DTSTAMP:20260421T105343Z
DTSTART;VALUE=DATE:20210307
SUMMARY:IoTDI 2021 Final Version Due
DESCRIPTION:6th ACM/IEEE Conference on Internet of Things Design and Impl
 ementation
URL:http://www.wikicfp.com/cfp/servlet/event.showcfp?eventid=113001&copyo
 wnerid=165128
UID:cfp853753-N@wikicfp.com
END:VEVENT
END:VCALENDAR
