BEGIN:VCALENDAR
PRODID:-//WikiCFP//leepoly 1.0//EN
VERSION:2.0
CALSCALE:GREGORIAN
BEGIN:VEVENT
DTSTAMP:20260419T195858Z
DTSTART;VALUE=DATE:20181002
DTEND;VALUE=DATE:20181006
SUMMARY:MEMSYS 2018
DESCRIPTION:International Symposium on Memory Systems
URL:http://www.wikicfp.com/cfp/servlet/event.showcfp?eventid=75544&copyow
 nerid=164931
UID:cfp851559-E@wikicfp.com
END:VEVENT
BEGIN:VEVENT
DTSTAMP:20260419T195858Z
DTSTART;VALUE=DATE:20180430
SUMMARY:MEMSYS 2018 Deadline
DESCRIPTION:International Symposium on Memory Systems
URL:http://www.wikicfp.com/cfp/servlet/event.showcfp?eventid=75544&copyow
 nerid=164931
UID:cfp851559-D@wikicfp.com
END:VEVENT
BEGIN:VEVENT
DTSTAMP:20260419T195858Z
DTSTART;VALUE=DATE:20180604
SUMMARY:MEMSYS 2018 Notification Due
DESCRIPTION:International Symposium on Memory Systems
URL:http://www.wikicfp.com/cfp/servlet/event.showcfp?eventid=75544&copyow
 nerid=164931
UID:cfp851559-N@wikicfp.com
END:VEVENT
BEGIN:VEVENT
DTSTAMP:20260419T195858Z
DTSTART;VALUE=DATE:20180730
SUMMARY:MEMSYS 2018 Final Version Due
DESCRIPTION:International Symposium on Memory Systems
URL:http://www.wikicfp.com/cfp/servlet/event.showcfp?eventid=75544&copyow
 nerid=164931
UID:cfp851559-N@wikicfp.com
END:VEVENT
BEGIN:VEVENT
DTSTAMP:20260419T195858Z
DTSTART;VALUE=DATE:20190216
DTEND;VALUE=DATE:20190221
SUMMARY:HPCA 2019
DESCRIPTION:The 25th International Symposium on High-Performance Computer
  Architecture
URL:http://www.wikicfp.com/cfp/servlet/event.showcfp?eventid=76103&copyow
 nerid=164931
UID:cfp851557-E@wikicfp.com
END:VEVENT
BEGIN:VEVENT
DTSTAMP:20260419T195858Z
DTSTART;VALUE=DATE:20180727
SUMMARY:HPCA 2019 Abstract Due
DESCRIPTION:The 25th International Symposium on High-Performance Computer
  Architecture
URL:http://www.wikicfp.com/cfp/servlet/event.showcfp?eventid=76103&copyow
 nerid=164931
UID:cfp851557-A@wikicfp.com
END:VEVENT
BEGIN:VEVENT
DTSTAMP:20260419T195858Z
DTSTART;VALUE=DATE:20180803
SUMMARY:HPCA 2019 Deadline
DESCRIPTION:The 25th International Symposium on High-Performance Computer
  Architecture
URL:http://www.wikicfp.com/cfp/servlet/event.showcfp?eventid=76103&copyow
 nerid=164931
UID:cfp851557-D@wikicfp.com
END:VEVENT
BEGIN:VEVENT
DTSTAMP:20260419T195858Z
DTSTART;VALUE=DATE:20181106
SUMMARY:HPCA 2019 Notification Due
DESCRIPTION:The 25th International Symposium on High-Performance Computer
  Architecture
URL:http://www.wikicfp.com/cfp/servlet/event.showcfp?eventid=76103&copyow
 nerid=164931
UID:cfp851557-N@wikicfp.com
END:VEVENT
BEGIN:VEVENT
DTSTAMP:20260419T195858Z
DTSTART;VALUE=DATE:20190622
DTEND;VALUE=DATE:20190627
SUMMARY:ISCA 2019
DESCRIPTION:International Symposium on Computer Architecture
URL:http://www.wikicfp.com/cfp/servlet/event.showcfp?eventid=80844&copyow
 nerid=164931
UID:cfp851558-E@wikicfp.com
END:VEVENT
BEGIN:VEVENT
DTSTAMP:20260419T195858Z
DTSTART;VALUE=DATE:20181203
SUMMARY:ISCA 2019 Abstract Due
DESCRIPTION:International Symposium on Computer Architecture
URL:http://www.wikicfp.com/cfp/servlet/event.showcfp?eventid=80844&copyow
 nerid=164931
UID:cfp851558-A@wikicfp.com
END:VEVENT
BEGIN:VEVENT
DTSTAMP:20260419T195858Z
DTSTART;VALUE=DATE:20181207
SUMMARY:ISCA 2019 Deadline
DESCRIPTION:International Symposium on Computer Architecture
URL:http://www.wikicfp.com/cfp/servlet/event.showcfp?eventid=80844&copyow
 nerid=164931
UID:cfp851558-D@wikicfp.com
END:VEVENT
BEGIN:VEVENT
DTSTAMP:20260419T195858Z
DTSTART;VALUE=DATE:20190315
SUMMARY:ISCA 2019 Notification Due
DESCRIPTION:International Symposium on Computer Architecture
URL:http://www.wikicfp.com/cfp/servlet/event.showcfp?eventid=80844&copyow
 nerid=164931
UID:cfp851558-N@wikicfp.com
END:VEVENT
BEGIN:VEVENT
DTSTAMP:20260419T195858Z
DTSTART;VALUE=DATE:20190415
SUMMARY:ISCA 2019 Final Version Due
DESCRIPTION:International Symposium on Computer Architecture
URL:http://www.wikicfp.com/cfp/servlet/event.showcfp?eventid=80844&copyow
 nerid=164931
UID:cfp851558-N@wikicfp.com
END:VEVENT
BEGIN:VEVENT
DTSTAMP:20260419T195858Z
DTSTART;VALUE=DATE:20201017
DTEND;VALUE=DATE:20201022
SUMMARY:MICRO 2020
DESCRIPTION:International Symposium on Microarchitecture
URL:http://www.wikicfp.com/cfp/servlet/event.showcfp?eventid=99336&copyow
 nerid=164931
UID:cfp851556-E@wikicfp.com
END:VEVENT
BEGIN:VEVENT
DTSTAMP:20260419T195858Z
DTSTART;VALUE=DATE:20200410
SUMMARY:MICRO 2020 Abstract Due
DESCRIPTION:International Symposium on Microarchitecture
URL:http://www.wikicfp.com/cfp/servlet/event.showcfp?eventid=99336&copyow
 nerid=164931
UID:cfp851556-A@wikicfp.com
END:VEVENT
BEGIN:VEVENT
DTSTAMP:20260419T195858Z
DTSTART;VALUE=DATE:20200417
SUMMARY:MICRO 2020 Deadline
DESCRIPTION:International Symposium on Microarchitecture
URL:http://www.wikicfp.com/cfp/servlet/event.showcfp?eventid=99336&copyow
 nerid=164931
UID:cfp851556-D@wikicfp.com
END:VEVENT
BEGIN:VEVENT
DTSTAMP:20260419T195858Z
DTSTART;VALUE=DATE:20200707
SUMMARY:MICRO 2020 Notification Due
DESCRIPTION:International Symposium on Microarchitecture
URL:http://www.wikicfp.com/cfp/servlet/event.showcfp?eventid=99336&copyow
 nerid=164931
UID:cfp851556-N@wikicfp.com
END:VEVENT
BEGIN:VEVENT
DTSTAMP:20260419T195858Z
DTSTART;VALUE=DATE:20220611
DTEND;VALUE=DATE:20220616
SUMMARY:ISCA 2022
DESCRIPTION:The 49th International Symposium on Computer Architecture
URL:http://www.wikicfp.com/cfp/servlet/event.showcfp?eventid=143783&copyo
 wnerid=164931
UID:cfp901655-E@wikicfp.com
END:VEVENT
BEGIN:VEVENT
DTSTAMP:20260419T195858Z
DTSTART;VALUE=DATE:20211116
SUMMARY:ISCA 2022 Abstract Due
DESCRIPTION:The 49th International Symposium on Computer Architecture
URL:http://www.wikicfp.com/cfp/servlet/event.showcfp?eventid=143783&copyo
 wnerid=164931
UID:cfp901655-A@wikicfp.com
END:VEVENT
BEGIN:VEVENT
DTSTAMP:20260419T195858Z
DTSTART;VALUE=DATE:20211123
SUMMARY:ISCA 2022 Deadline
DESCRIPTION:The 49th International Symposium on Computer Architecture
URL:http://www.wikicfp.com/cfp/servlet/event.showcfp?eventid=143783&copyo
 wnerid=164931
UID:cfp901655-D@wikicfp.com
END:VEVENT
BEGIN:VEVENT
DTSTAMP:20260419T195858Z
DTSTART;VALUE=DATE:20220302
SUMMARY:ISCA 2022 Notification Due
DESCRIPTION:The 49th International Symposium on Computer Architecture
URL:http://www.wikicfp.com/cfp/servlet/event.showcfp?eventid=143783&copyo
 wnerid=164931
UID:cfp901655-N@wikicfp.com
END:VEVENT
BEGIN:VEVENT
DTSTAMP:20260419T195858Z
DTSTART;VALUE=DATE:20221001
DTEND;VALUE=DATE:20221002
SUMMARY:MICRO 2022
DESCRIPTION:International Symposium on Microarchitecture
URL:http://www.wikicfp.com/cfp/servlet/event.showcfp?eventid=156923&copyo
 wnerid=164931
UID:cfp926051-E@wikicfp.com
END:VEVENT
BEGIN:VEVENT
DTSTAMP:20260419T195858Z
DTSTART;VALUE=DATE:20220414
SUMMARY:MICRO 2022 Abstract Due
DESCRIPTION:International Symposium on Microarchitecture
URL:http://www.wikicfp.com/cfp/servlet/event.showcfp?eventid=156923&copyo
 wnerid=164931
UID:cfp926051-A@wikicfp.com
END:VEVENT
BEGIN:VEVENT
DTSTAMP:20260419T195858Z
DTSTART;VALUE=DATE:20220421
SUMMARY:MICRO 2022 Deadline
DESCRIPTION:International Symposium on Microarchitecture
URL:http://www.wikicfp.com/cfp/servlet/event.showcfp?eventid=156923&copyo
 wnerid=164931
UID:cfp926051-D@wikicfp.com
END:VEVENT
BEGIN:VEVENT
DTSTAMP:20260419T195858Z
DTSTART;VALUE=DATE:20220618
SUMMARY:MICRO 2022 Notification Due
DESCRIPTION:International Symposium on Microarchitecture
URL:http://www.wikicfp.com/cfp/servlet/event.showcfp?eventid=156923&copyo
 wnerid=164931
UID:cfp926051-N@wikicfp.com
END:VEVENT
END:VCALENDAR
