BEGIN:VCALENDAR
PRODID:-//WikiCFP//sumisel 1.0//EN
VERSION:2.0
CALSCALE:GREGORIAN
BEGIN:VEVENT
DTSTAMP:20260419T231514Z
DTSTART;VALUE=DATE:20200425
DTEND;VALUE=DATE:20200501
SUMMARY:CHI 2020
DESCRIPTION:Human Factors in Computing Systems
URL:http://www.wikicfp.com/cfp/servlet/event.showcfp?eventid=91360&copyow
 nerid=164661
UID:cfp849505-E@wikicfp.com
END:VEVENT
BEGIN:VEVENT
DTSTAMP:20260419T231514Z
DTSTART;VALUE=DATE:20190920
SUMMARY:CHI 2020 Deadline
DESCRIPTION:Human Factors in Computing Systems
URL:http://www.wikicfp.com/cfp/servlet/event.showcfp?eventid=91360&copyow
 nerid=164661
UID:cfp849505-D@wikicfp.com
END:VEVENT
BEGIN:VEVENT
DTSTAMP:20260419T231514Z
DTSTART;VALUE=DATE:20200414
DTEND;VALUE=DATE:20200418
SUMMARY:PacificVis 2020
DESCRIPTION:IEEE Pacific Visualization Symposium
URL:http://www.wikicfp.com/cfp/servlet/event.showcfp?eventid=93443&copyow
 nerid=164661
UID:cfp849508-E@wikicfp.com
END:VEVENT
BEGIN:VEVENT
DTSTAMP:20260419T231514Z
DTSTART;VALUE=DATE:20190927
SUMMARY:PacificVis 2020 Abstract Due
DESCRIPTION:IEEE Pacific Visualization Symposium
URL:http://www.wikicfp.com/cfp/servlet/event.showcfp?eventid=93443&copyow
 nerid=164661
UID:cfp849508-A@wikicfp.com
END:VEVENT
BEGIN:VEVENT
DTSTAMP:20260419T231514Z
DTSTART;VALUE=DATE:20191004
SUMMARY:PacificVis 2020 Deadline
DESCRIPTION:IEEE Pacific Visualization Symposium
URL:http://www.wikicfp.com/cfp/servlet/event.showcfp?eventid=93443&copyow
 nerid=164661
UID:cfp849508-D@wikicfp.com
END:VEVENT
BEGIN:VEVENT
DTSTAMP:20260419T231514Z
DTSTART;VALUE=DATE:20191115
SUMMARY:PacificVis 2020 Notification Due
DESCRIPTION:IEEE Pacific Visualization Symposium
URL:http://www.wikicfp.com/cfp/servlet/event.showcfp?eventid=93443&copyow
 nerid=164661
UID:cfp849508-N@wikicfp.com
END:VEVENT
BEGIN:VEVENT
DTSTAMP:20260419T231514Z
DTSTART;VALUE=DATE:20200123
SUMMARY:PacificVis 2020 Final Version Due
DESCRIPTION:IEEE Pacific Visualization Symposium
URL:http://www.wikicfp.com/cfp/servlet/event.showcfp?eventid=93443&copyow
 nerid=164661
UID:cfp849508-N@wikicfp.com
END:VEVENT
BEGIN:VEVENT
DTSTAMP:20260419T231514Z
DTSTART;VALUE=DATE:20200521
DTEND;VALUE=DATE:20200523
SUMMARY:GI 2020
DESCRIPTION:Graphics Interface
URL:http://www.wikicfp.com/cfp/servlet/event.showcfp?eventid=96029&copyow
 nerid=164661
UID:cfp849514-E@wikicfp.com
END:VEVENT
BEGIN:VEVENT
DTSTAMP:20260419T231514Z
DTSTART;VALUE=DATE:20191220
SUMMARY:GI 2020 Deadline
DESCRIPTION:Graphics Interface
URL:http://www.wikicfp.com/cfp/servlet/event.showcfp?eventid=96029&copyow
 nerid=164661
UID:cfp849514-D@wikicfp.com
END:VEVENT
BEGIN:VEVENT
DTSTAMP:20260419T231514Z
DTSTART;VALUE=DATE:20200110
SUMMARY:GI 2020 Notification Due
DESCRIPTION:Graphics Interface
URL:http://www.wikicfp.com/cfp/servlet/event.showcfp?eventid=96029&copyow
 nerid=164661
UID:cfp849514-N@wikicfp.com
END:VEVENT
BEGIN:VEVENT
DTSTAMP:20260419T231514Z
DTSTART;VALUE=DATE:20210101
DTEND;VALUE=DATE:20210102
SUMMARY:ICWSM 2021
DESCRIPTION:International Conference on Web and Social Media
URL:http://www.wikicfp.com/cfp/servlet/event.showcfp?eventid=108863&copyo
 wnerid=164661
UID:cfp849507-E@wikicfp.com
END:VEVENT
BEGIN:VEVENT
DTSTAMP:20260419T231514Z
DTSTART;VALUE=DATE:20200915
SUMMARY:ICWSM 2021 Deadline
DESCRIPTION:International Conference on Web and Social Media
URL:http://www.wikicfp.com/cfp/servlet/event.showcfp?eventid=108863&copyo
 wnerid=164661
UID:cfp849507-D@wikicfp.com
END:VEVENT
BEGIN:VEVENT
DTSTAMP:20260419T231514Z
DTSTART;VALUE=DATE:20210413
DTEND;VALUE=DATE:20210418
SUMMARY:IUI 2021
DESCRIPTION:ACM Conference on Intelligent User Interfaces
URL:http://www.wikicfp.com/cfp/servlet/event.showcfp?eventid=102730&copyo
 wnerid=164661
UID:cfp849511-E@wikicfp.com
END:VEVENT
BEGIN:VEVENT
DTSTAMP:20260419T231514Z
DTSTART;VALUE=DATE:20201002
SUMMARY:IUI 2021 Abstract Due
DESCRIPTION:ACM Conference on Intelligent User Interfaces
URL:http://www.wikicfp.com/cfp/servlet/event.showcfp?eventid=102730&copyo
 wnerid=164661
UID:cfp849511-A@wikicfp.com
END:VEVENT
BEGIN:VEVENT
DTSTAMP:20260419T231514Z
DTSTART;VALUE=DATE:20201007
SUMMARY:IUI 2021 Deadline
DESCRIPTION:ACM Conference on Intelligent User Interfaces
URL:http://www.wikicfp.com/cfp/servlet/event.showcfp?eventid=102730&copyo
 wnerid=164661
UID:cfp849511-D@wikicfp.com
END:VEVENT
BEGIN:VEVENT
DTSTAMP:20260419T231514Z
DTSTART;VALUE=DATE:20210208
DTEND;VALUE=DATE:20210211
SUMMARY:IVAPP 2021
DESCRIPTION:12th International Conference on Information Visualization Th
 eory and Applications
URL:http://www.wikicfp.com/cfp/servlet/event.showcfp?eventid=105622&copyo
 wnerid=164661
UID:cfp849509-E@wikicfp.com
END:VEVENT
BEGIN:VEVENT
DTSTAMP:20260419T231514Z
DTSTART;VALUE=DATE:20201029
SUMMARY:IVAPP 2021 Deadline
DESCRIPTION:12th International Conference on Information Visualization Th
 eory and Applications
URL:http://www.wikicfp.com/cfp/servlet/event.showcfp?eventid=105622&copyo
 wnerid=164661
UID:cfp849509-D@wikicfp.com
END:VEVENT
BEGIN:VEVENT
DTSTAMP:20260419T231514Z
DTSTART;VALUE=DATE:20201112
SUMMARY:IVAPP 2021 Notification Due
DESCRIPTION:12th International Conference on Information Visualization Th
 eory and Applications
URL:http://www.wikicfp.com/cfp/servlet/event.showcfp?eventid=105622&copyo
 wnerid=164661
UID:cfp849509-N@wikicfp.com
END:VEVENT
BEGIN:VEVENT
DTSTAMP:20260419T231514Z
DTSTART;VALUE=DATE:20201126
SUMMARY:IVAPP 2021 Final Version Due
DESCRIPTION:12th International Conference on Information Visualization Th
 eory and Applications
URL:http://www.wikicfp.com/cfp/servlet/event.showcfp?eventid=105622&copyo
 wnerid=164661
UID:cfp849509-N@wikicfp.com
END:VEVENT
END:VCALENDAR
