BEGIN:VCALENDAR
PRODID:-//WikiCFP//icadcml2 1.0//EN
VERSION:2.0
CALSCALE:GREGORIAN
BEGIN:VEVENT
DTSTAMP:20260420T052545Z
DTSTART;VALUE=DATE:20250109
DTEND;VALUE=DATE:20250111
SUMMARY:ICADCML 2025 2025
DESCRIPTION:International Conference on Advances in Distributed Computing
  and Machine Learning 2025 (ICADCML 2025)
URL:http://www.wikicfp.com/cfp/servlet/event.showcfp?eventid=181777&copyo
 wnerid=164581
UID:cfp996771-E@wikicfp.com
END:VEVENT
BEGIN:VEVENT
DTSTAMP:20260420T052545Z
DTSTART;VALUE=DATE:20240915
SUMMARY:ICADCML 2025 2025 Deadline
DESCRIPTION:International Conference on Advances in Distributed Computing
  and Machine Learning 2025 (ICADCML 2025)
URL:http://www.wikicfp.com/cfp/servlet/event.showcfp?eventid=181777&copyo
 wnerid=164581
UID:cfp996771-D@wikicfp.com
END:VEVENT
BEGIN:VEVENT
DTSTAMP:20260420T052545Z
DTSTART;VALUE=DATE:20241101
SUMMARY:ICADCML 2025 2025 Notification Due
DESCRIPTION:International Conference on Advances in Distributed Computing
  and Machine Learning 2025 (ICADCML 2025)
URL:http://www.wikicfp.com/cfp/servlet/event.showcfp?eventid=181777&copyo
 wnerid=164581
UID:cfp996771-N@wikicfp.com
END:VEVENT
BEGIN:VEVENT
DTSTAMP:20260420T052545Z
DTSTART;VALUE=DATE:20241110
SUMMARY:ICADCML 2025 2025 Final Version Due
DESCRIPTION:International Conference on Advances in Distributed Computing
  and Machine Learning 2025 (ICADCML 2025)
URL:http://www.wikicfp.com/cfp/servlet/event.showcfp?eventid=181777&copyo
 wnerid=164581
UID:cfp996771-N@wikicfp.com
END:VEVENT
END:VCALENDAR
