BEGIN:VCALENDAR
PRODID:-//WikiCFP//DinukaManohara 1.0//EN
VERSION:2.0
CALSCALE:GREGORIAN
BEGIN:VEVENT
DTSTAMP:20260424T082944Z
DTSTART;VALUE=DATE:20210308
DTEND;VALUE=DATE:20210313
SUMMARY:WSDM 2021
DESCRIPTION:14th ACM Conference on Web Search and Data Mining
URL:http://www.wikicfp.com/cfp/servlet/event.showcfp?eventid=105990&copyo
 wnerid=163774
UID:cfp841990-E@wikicfp.com
END:VEVENT
BEGIN:VEVENT
DTSTAMP:20260424T082944Z
DTSTART;VALUE=DATE:20200816
SUMMARY:WSDM 2021 Deadline
DESCRIPTION:14th ACM Conference on Web Search and Data Mining
URL:http://www.wikicfp.com/cfp/servlet/event.showcfp?eventid=105990&copyo
 wnerid=163774
UID:cfp841990-D@wikicfp.com
END:VEVENT
BEGIN:VEVENT
DTSTAMP:20260424T082944Z
DTSTART;VALUE=DATE:20201016
SUMMARY:WSDM 2021 Notification Due
DESCRIPTION:14th ACM Conference on Web Search and Data Mining
URL:http://www.wikicfp.com/cfp/servlet/event.showcfp?eventid=105990&copyo
 wnerid=163774
UID:cfp841990-N@wikicfp.com
END:VEVENT
BEGIN:VEVENT
DTSTAMP:20260424T082944Z
DTSTART;VALUE=DATE:20210419
DTEND;VALUE=DATE:20210424
SUMMARY:ICDE 2021
DESCRIPTION:International Conference on Data Engineering
URL:http://www.wikicfp.com/cfp/servlet/event.showcfp?eventid=106665&copyo
 wnerid=163774
UID:cfp841991-E@wikicfp.com
END:VEVENT
BEGIN:VEVENT
DTSTAMP:20260424T082944Z
DTSTART;VALUE=DATE:20201007
SUMMARY:ICDE 2021 Abstract Due
DESCRIPTION:International Conference on Data Engineering
URL:http://www.wikicfp.com/cfp/servlet/event.showcfp?eventid=106665&copyo
 wnerid=163774
UID:cfp841991-A@wikicfp.com
END:VEVENT
BEGIN:VEVENT
DTSTAMP:20260424T082944Z
DTSTART;VALUE=DATE:20201014
SUMMARY:ICDE 2021 Deadline
DESCRIPTION:International Conference on Data Engineering
URL:http://www.wikicfp.com/cfp/servlet/event.showcfp?eventid=106665&copyo
 wnerid=163774
UID:cfp841991-D@wikicfp.com
END:VEVENT
BEGIN:VEVENT
DTSTAMP:20260424T082944Z
DTSTART;VALUE=DATE:20201215
SUMMARY:ICDE 2021 Notification Due
DESCRIPTION:International Conference on Data Engineering
URL:http://www.wikicfp.com/cfp/servlet/event.showcfp?eventid=106665&copyo
 wnerid=163774
UID:cfp841991-N@wikicfp.com
END:VEVENT
BEGIN:VEVENT
DTSTAMP:20260424T082944Z
DTSTART;VALUE=DATE:20210301
SUMMARY:ICDE 2021 Final Version Due
DESCRIPTION:International Conference on Data Engineering
URL:http://www.wikicfp.com/cfp/servlet/event.showcfp?eventid=106665&copyo
 wnerid=163774
UID:cfp841991-N@wikicfp.com
END:VEVENT
BEGIN:VEVENT
DTSTAMP:20260424T082944Z
DTSTART;VALUE=DATE:20210219
DTEND;VALUE=DATE:20210222
SUMMARY:DMKD 2021
DESCRIPTION:2021 4th International Conference on Data Mining and Knowledg
 e Discovery(DMKD 2021)
URL:http://www.wikicfp.com/cfp/servlet/event.showcfp?eventid=95837&copyow
 nerid=163774
UID:cfp841989-E@wikicfp.com
END:VEVENT
BEGIN:VEVENT
DTSTAMP:20260424T082944Z
DTSTART;VALUE=DATE:20201231
SUMMARY:DMKD 2021 Deadline
DESCRIPTION:2021 4th International Conference on Data Mining and Knowledg
 e Discovery(DMKD 2021)
URL:http://www.wikicfp.com/cfp/servlet/event.showcfp?eventid=95837&copyow
 nerid=163774
UID:cfp841989-D@wikicfp.com
END:VEVENT
BEGIN:VEVENT
DTSTAMP:20260424T082944Z
DTSTART;VALUE=DATE:20201231
SUMMARY:DMKD 2021 Notification Due
DESCRIPTION:2021 4th International Conference on Data Mining and Knowledg
 e Discovery(DMKD 2021)
URL:http://www.wikicfp.com/cfp/servlet/event.showcfp?eventid=95837&copyow
 nerid=163774
UID:cfp841989-N@wikicfp.com
END:VEVENT
BEGIN:VEVENT
DTSTAMP:20260424T082944Z
DTSTART;VALUE=DATE:20201231
SUMMARY:DMKD 2021 Final Version Due
DESCRIPTION:2021 4th International Conference on Data Mining and Knowledg
 e Discovery(DMKD 2021)
URL:http://www.wikicfp.com/cfp/servlet/event.showcfp?eventid=95837&copyow
 nerid=163774
UID:cfp841989-N@wikicfp.com
END:VEVENT
END:VCALENDAR
