BEGIN:VCALENDAR
PRODID:-//WikiCFP//gfyffe 1.0//EN
VERSION:2.0
CALSCALE:GREGORIAN
BEGIN:VEVENT
DTSTAMP:20260420T170006Z
DTSTART;VALUE=DATE:20150504
DTEND;VALUE=DATE:20150509
SUMMARY:EG 2015
DESCRIPTION:The 36th Eurographics conference
URL:http://www.wikicfp.com/cfp/servlet/event.showcfp?eventid=38123&copyow
 nerid=16374
UID:cfp487151-E@wikicfp.com
END:VEVENT
BEGIN:VEVENT
DTSTAMP:20260420T170006Z
DTSTART;VALUE=DATE:20140919
SUMMARY:EG 2015 Abstract Due
DESCRIPTION:The 36th Eurographics conference
URL:http://www.wikicfp.com/cfp/servlet/event.showcfp?eventid=38123&copyow
 nerid=16374
UID:cfp487151-A@wikicfp.com
END:VEVENT
BEGIN:VEVENT
DTSTAMP:20260420T170006Z
DTSTART;VALUE=DATE:20140926
SUMMARY:EG 2015 Deadline
DESCRIPTION:The 36th Eurographics conference
URL:http://www.wikicfp.com/cfp/servlet/event.showcfp?eventid=38123&copyow
 nerid=16374
UID:cfp487151-D@wikicfp.com
END:VEVENT
BEGIN:VEVENT
DTSTAMP:20260420T170006Z
DTSTART;VALUE=DATE:20141205
SUMMARY:EG 2015 Notification Due
DESCRIPTION:The 36th Eurographics conference
URL:http://www.wikicfp.com/cfp/servlet/event.showcfp?eventid=38123&copyow
 nerid=16374
UID:cfp487151-N@wikicfp.com
END:VEVENT
BEGIN:VEVENT
DTSTAMP:20260420T170006Z
DTSTART;VALUE=DATE:20150504
DTEND;VALUE=DATE:20150509
SUMMARY:EG 2015
DESCRIPTION:The 36th Eurographics conference: Short Papers
URL:http://www.wikicfp.com/cfp/servlet/event.showcfp?eventid=41143&copyow
 nerid=16374
UID:cfp487155-E@wikicfp.com
END:VEVENT
BEGIN:VEVENT
DTSTAMP:20260420T170006Z
DTSTART;VALUE=DATE:20141209
SUMMARY:EG 2015 Deadline
DESCRIPTION:The 36th Eurographics conference: Short Papers
URL:http://www.wikicfp.com/cfp/servlet/event.showcfp?eventid=41143&copyow
 nerid=16374
UID:cfp487155-D@wikicfp.com
END:VEVENT
BEGIN:VEVENT
DTSTAMP:20260420T170006Z
DTSTART;VALUE=DATE:20150203
SUMMARY:EG 2015 Notification Due
DESCRIPTION:The 36th Eurographics conference: Short Papers
URL:http://www.wikicfp.com/cfp/servlet/event.showcfp?eventid=41143&copyow
 nerid=16374
UID:cfp487155-N@wikicfp.com
END:VEVENT
BEGIN:VEVENT
DTSTAMP:20260420T170006Z
DTSTART;VALUE=DATE:20151214
DTEND;VALUE=DATE:20151217
SUMMARY:ISVC 2015
DESCRIPTION:11th International Symposium on Visual Computing
URL:http://www.wikicfp.com/cfp/servlet/event.showcfp?eventid=45104&copyow
 nerid=16374
UID:cfp529721-E@wikicfp.com
END:VEVENT
BEGIN:VEVENT
DTSTAMP:20260420T170006Z
DTSTART;VALUE=DATE:20150821
SUMMARY:ISVC 2015 Deadline
DESCRIPTION:11th International Symposium on Visual Computing
URL:http://www.wikicfp.com/cfp/servlet/event.showcfp?eventid=45104&copyow
 nerid=16374
UID:cfp529721-D@wikicfp.com
END:VEVENT
BEGIN:VEVENT
DTSTAMP:20260420T170006Z
DTSTART;VALUE=DATE:20150923
SUMMARY:ISVC 2015 Notification Due
DESCRIPTION:11th International Symposium on Visual Computing
URL:http://www.wikicfp.com/cfp/servlet/event.showcfp?eventid=45104&copyow
 nerid=16374
UID:cfp529721-N@wikicfp.com
END:VEVENT
BEGIN:VEVENT
DTSTAMP:20260420T170006Z
DTSTART;VALUE=DATE:20151020
SUMMARY:ISVC 2015 Final Version Due
DESCRIPTION:11th International Symposium on Visual Computing
URL:http://www.wikicfp.com/cfp/servlet/event.showcfp?eventid=45104&copyow
 nerid=16374
UID:cfp529721-N@wikicfp.com
END:VEVENT
BEGIN:VEVENT
DTSTAMP:20260420T170006Z
DTSTART;VALUE=DATE:20160626
DTEND;VALUE=DATE:20160702
SUMMARY:CVPR 2016
DESCRIPTION:Computer Vision and Pattern Recognition
URL:http://www.wikicfp.com/cfp/servlet/event.showcfp?eventid=46139&copyow
 nerid=16374
UID:cfp529720-E@wikicfp.com
END:VEVENT
BEGIN:VEVENT
DTSTAMP:20260420T170006Z
DTSTART;VALUE=DATE:20151106
SUMMARY:CVPR 2016 Deadline
DESCRIPTION:Computer Vision and Pattern Recognition
URL:http://www.wikicfp.com/cfp/servlet/event.showcfp?eventid=46139&copyow
 nerid=16374
UID:cfp529720-D@wikicfp.com
END:VEVENT
BEGIN:VEVENT
DTSTAMP:20260420T170006Z
DTSTART;VALUE=DATE:20160410
SUMMARY:CVPR 2016 Final Version Due
DESCRIPTION:Computer Vision and Pattern Recognition
URL:http://www.wikicfp.com/cfp/servlet/event.showcfp?eventid=46139&copyow
 nerid=16374
UID:cfp529720-N@wikicfp.com
END:VEVENT
BEGIN:VEVENT
DTSTAMP:20260420T170006Z
DTSTART;VALUE=DATE:20160709
DTEND;VALUE=DATE:20160722
SUMMARY:MLDM 2016
DESCRIPTION:Machine Learning and Data Mining in Pattern Recognition
URL:http://www.wikicfp.com/cfp/servlet/event.showcfp?eventid=46140&copyow
 nerid=16374
UID:cfp529719-E@wikicfp.com
END:VEVENT
BEGIN:VEVENT
DTSTAMP:20260420T170006Z
DTSTART;VALUE=DATE:20160116
SUMMARY:MLDM 2016 Deadline
DESCRIPTION:Machine Learning and Data Mining in Pattern Recognition
URL:http://www.wikicfp.com/cfp/servlet/event.showcfp?eventid=46140&copyow
 nerid=16374
UID:cfp529719-D@wikicfp.com
END:VEVENT
BEGIN:VEVENT
DTSTAMP:20260420T170006Z
DTSTART;VALUE=DATE:20160318
SUMMARY:MLDM 2016 Notification Due
DESCRIPTION:Machine Learning and Data Mining in Pattern Recognition
URL:http://www.wikicfp.com/cfp/servlet/event.showcfp?eventid=46140&copyow
 nerid=16374
UID:cfp529719-N@wikicfp.com
END:VEVENT
BEGIN:VEVENT
DTSTAMP:20260420T170006Z
DTSTART;VALUE=DATE:20160505
SUMMARY:MLDM 2016 Final Version Due
DESCRIPTION:Machine Learning and Data Mining in Pattern Recognition
URL:http://www.wikicfp.com/cfp/servlet/event.showcfp?eventid=46140&copyow
 nerid=16374
UID:cfp529719-N@wikicfp.com
END:VEVENT
END:VCALENDAR
