BEGIN:VCALENDAR
PRODID:-//WikiCFP//9enoorani1 1.0//EN
VERSION:2.0
CALSCALE:GREGORIAN
BEGIN:VEVENT
DTSTAMP:20260424T020117Z
DTSTART;VALUE=DATE:20200531
DTEND;VALUE=DATE:20200605
SUMMARY:ICRA 2020
DESCRIPTION:International Conference on Robotics and Automation
URL:http://www.wikicfp.com/cfp/servlet/event.showcfp?eventid=85053&copyow
 nerid=162979
UID:cfp835506-E@wikicfp.com
END:VEVENT
BEGIN:VEVENT
DTSTAMP:20260424T020117Z
DTSTART;VALUE=DATE:20210202
DTEND;VALUE=DATE:20210210
SUMMARY:AAAI 2021
DESCRIPTION:35th AAAI Conference on Artificial Intelligence
URL:http://www.wikicfp.com/cfp/servlet/event.showcfp?eventid=104535&copyo
 wnerid=162979
UID:cfp837248-E@wikicfp.com
END:VEVENT
BEGIN:VEVENT
DTSTAMP:20260424T020117Z
DTSTART;VALUE=DATE:20200207
DTEND;VALUE=DATE:20200213
SUMMARY:AAAI 2020
DESCRIPTION:The Thirty-Fourth AAAI Conference on Artificial Intelligence
URL:http://www.wikicfp.com/cfp/servlet/event.showcfp?eventid=90881&copyow
 nerid=162979
UID:cfp835500-E@wikicfp.com
END:VEVENT
BEGIN:VEVENT
DTSTAMP:20260424T020117Z
DTSTART;VALUE=DATE:20190830
SUMMARY:AAAI 2020 Abstract Due
DESCRIPTION:The Thirty-Fourth AAAI Conference on Artificial Intelligence
URL:http://www.wikicfp.com/cfp/servlet/event.showcfp?eventid=90881&copyow
 nerid=162979
UID:cfp835500-A@wikicfp.com
END:VEVENT
BEGIN:VEVENT
DTSTAMP:20260424T020117Z
DTSTART;VALUE=DATE:20190905
SUMMARY:AAAI 2020 Deadline
DESCRIPTION:The Thirty-Fourth AAAI Conference on Artificial Intelligence
URL:http://www.wikicfp.com/cfp/servlet/event.showcfp?eventid=90881&copyow
 nerid=162979
UID:cfp835500-D@wikicfp.com
END:VEVENT
BEGIN:VEVENT
DTSTAMP:20260424T020117Z
DTSTART;VALUE=DATE:20191110
SUMMARY:AAAI 2020 Notification Due
DESCRIPTION:The Thirty-Fourth AAAI Conference on Artificial Intelligence
URL:http://www.wikicfp.com/cfp/servlet/event.showcfp?eventid=90881&copyow
 nerid=162979
UID:cfp835500-N@wikicfp.com
END:VEVENT
BEGIN:VEVENT
DTSTAMP:20260424T020117Z
DTSTART;VALUE=DATE:20191121
SUMMARY:AAAI 2020 Final Version Due
DESCRIPTION:The Thirty-Fourth AAAI Conference on Artificial Intelligence
URL:http://www.wikicfp.com/cfp/servlet/event.showcfp?eventid=90881&copyow
 nerid=162979
UID:cfp835500-N@wikicfp.com
END:VEVENT
BEGIN:VEVENT
DTSTAMP:20260424T020117Z
DTSTART;VALUE=DATE:20200603
DTEND;VALUE=DATE:20200606
SUMMARY:AISTATS 2020
DESCRIPTION:The 23rd International Conference on Artificial Intelligence 
 and Statistics
URL:http://www.wikicfp.com/cfp/servlet/event.showcfp?eventid=92246&copyow
 nerid=162979
UID:cfp839214-E@wikicfp.com
END:VEVENT
BEGIN:VEVENT
DTSTAMP:20260424T020117Z
DTSTART;VALUE=DATE:20191008
SUMMARY:AISTATS 2020 Deadline
DESCRIPTION:The 23rd International Conference on Artificial Intelligence 
 and Statistics
URL:http://www.wikicfp.com/cfp/servlet/event.showcfp?eventid=92246&copyow
 nerid=162979
UID:cfp839214-D@wikicfp.com
END:VEVENT
BEGIN:VEVENT
DTSTAMP:20260424T020117Z
DTSTART;VALUE=DATE:20200106
SUMMARY:AISTATS 2020 Notification Due
DESCRIPTION:The 23rd International Conference on Artificial Intelligence 
 and Statistics
URL:http://www.wikicfp.com/cfp/servlet/event.showcfp?eventid=92246&copyow
 nerid=162979
UID:cfp839214-N@wikicfp.com
END:VEVENT
BEGIN:VEVENT
DTSTAMP:20260424T020117Z
DTSTART;VALUE=DATE:20200509
DTEND;VALUE=DATE:20200514
SUMMARY:AAMAS 2020
DESCRIPTION:International Conference on Autonomous Agents and Multi-Agent
  Systems 2020
URL:http://www.wikicfp.com/cfp/servlet/event.showcfp?eventid=92608&copyow
 nerid=162979
UID:cfp835502-E@wikicfp.com
END:VEVENT
BEGIN:VEVENT
DTSTAMP:20260424T020117Z
DTSTART;VALUE=DATE:20191112
SUMMARY:AAMAS 2020 Abstract Due
DESCRIPTION:International Conference on Autonomous Agents and Multi-Agent
  Systems 2020
URL:http://www.wikicfp.com/cfp/servlet/event.showcfp?eventid=92608&copyow
 nerid=162979
UID:cfp835502-A@wikicfp.com
END:VEVENT
BEGIN:VEVENT
DTSTAMP:20260424T020117Z
DTSTART;VALUE=DATE:20191115
SUMMARY:AAMAS 2020 Deadline
DESCRIPTION:International Conference on Autonomous Agents and Multi-Agent
  Systems 2020
URL:http://www.wikicfp.com/cfp/servlet/event.showcfp?eventid=92608&copyow
 nerid=162979
UID:cfp835502-D@wikicfp.com
END:VEVENT
BEGIN:VEVENT
DTSTAMP:20260424T020117Z
DTSTART;VALUE=DATE:20200115
SUMMARY:AAMAS 2020 Notification Due
DESCRIPTION:International Conference on Autonomous Agents and Multi-Agent
  Systems 2020
URL:http://www.wikicfp.com/cfp/servlet/event.showcfp?eventid=92608&copyow
 nerid=162979
UID:cfp835502-N@wikicfp.com
END:VEVENT
BEGIN:VEVENT
DTSTAMP:20260424T020117Z
DTSTART;VALUE=DATE:20200127
SUMMARY:AAMAS 2020 Final Version Due
DESCRIPTION:International Conference on Autonomous Agents and Multi-Agent
  Systems 2020
URL:http://www.wikicfp.com/cfp/servlet/event.showcfp?eventid=92608&copyow
 nerid=162979
UID:cfp835502-N@wikicfp.com
END:VEVENT
BEGIN:VEVENT
DTSTAMP:20260424T020117Z
DTSTART;VALUE=DATE:20200711
DTEND;VALUE=DATE:20200718
SUMMARY:IJCAI 2020
DESCRIPTION:International Joint Conference on Artificial Intelligence
URL:http://www.wikicfp.com/cfp/servlet/event.showcfp?eventid=94392&copyow
 nerid=162979
UID:cfp835501-E@wikicfp.com
END:VEVENT
BEGIN:VEVENT
DTSTAMP:20260424T020117Z
DTSTART;VALUE=DATE:20200115
SUMMARY:IJCAI 2020 Abstract Due
DESCRIPTION:International Joint Conference on Artificial Intelligence
URL:http://www.wikicfp.com/cfp/servlet/event.showcfp?eventid=94392&copyow
 nerid=162979
UID:cfp835501-A@wikicfp.com
END:VEVENT
BEGIN:VEVENT
DTSTAMP:20260424T020117Z
DTSTART;VALUE=DATE:20200121
SUMMARY:IJCAI 2020 Deadline
DESCRIPTION:International Joint Conference on Artificial Intelligence
URL:http://www.wikicfp.com/cfp/servlet/event.showcfp?eventid=94392&copyow
 nerid=162979
UID:cfp835501-D@wikicfp.com
END:VEVENT
BEGIN:VEVENT
DTSTAMP:20260424T020117Z
DTSTART;VALUE=DATE:20200419
SUMMARY:IJCAI 2020 Notification Due
DESCRIPTION:International Joint Conference on Artificial Intelligence
URL:http://www.wikicfp.com/cfp/servlet/event.showcfp?eventid=94392&copyow
 nerid=162979
UID:cfp835501-N@wikicfp.com
END:VEVENT
BEGIN:VEVENT
DTSTAMP:20260424T020117Z
DTSTART;VALUE=DATE:20200712
DTEND;VALUE=DATE:20200718
SUMMARY:RSS 2020
DESCRIPTION:Robotics: Science and Systems
URL:http://www.wikicfp.com/cfp/servlet/event.showcfp?eventid=95692&copyow
 nerid=162979
UID:cfp835508-E@wikicfp.com
END:VEVENT
BEGIN:VEVENT
DTSTAMP:20260424T020117Z
DTSTART;VALUE=DATE:20200130
SUMMARY:RSS 2020 Deadline
DESCRIPTION:Robotics: Science and Systems
URL:http://www.wikicfp.com/cfp/servlet/event.showcfp?eventid=95692&copyow
 nerid=162979
UID:cfp835508-D@wikicfp.com
END:VEVENT
BEGIN:VEVENT
DTSTAMP:20260424T020117Z
DTSTART;VALUE=DATE:20200416
SUMMARY:RSS 2020 Notification Due
DESCRIPTION:Robotics: Science and Systems
URL:http://www.wikicfp.com/cfp/servlet/event.showcfp?eventid=95692&copyow
 nerid=162979
UID:cfp835508-N@wikicfp.com
END:VEVENT
BEGIN:VEVENT
DTSTAMP:20260424T020117Z
DTSTART;VALUE=DATE:20200712
DTEND;VALUE=DATE:20200719
SUMMARY:ICML 2020
DESCRIPTION:37th International Conference on Machine Learning
URL:http://www.wikicfp.com/cfp/servlet/event.showcfp?eventid=94187&copyow
 nerid=162979
UID:cfp835505-E@wikicfp.com
END:VEVENT
BEGIN:VEVENT
DTSTAMP:20260424T020117Z
DTSTART;VALUE=DATE:20200130
SUMMARY:ICML 2020 Abstract Due
DESCRIPTION:37th International Conference on Machine Learning
URL:http://www.wikicfp.com/cfp/servlet/event.showcfp?eventid=94187&copyow
 nerid=162979
UID:cfp835505-A@wikicfp.com
END:VEVENT
BEGIN:VEVENT
DTSTAMP:20260424T020117Z
DTSTART;VALUE=DATE:20200206
SUMMARY:ICML 2020 Deadline
DESCRIPTION:37th International Conference on Machine Learning
URL:http://www.wikicfp.com/cfp/servlet/event.showcfp?eventid=94187&copyow
 nerid=162979
UID:cfp835505-D@wikicfp.com
END:VEVENT
BEGIN:VEVENT
DTSTAMP:20260424T020117Z
DTSTART;VALUE=DATE:20200509
SUMMARY:ICML 2020 Notification Due
DESCRIPTION:37th International Conference on Machine Learning
URL:http://www.wikicfp.com/cfp/servlet/event.showcfp?eventid=94187&copyow
 nerid=162979
UID:cfp835505-N@wikicfp.com
END:VEVENT
BEGIN:VEVENT
DTSTAMP:20260424T020117Z
DTSTART;VALUE=DATE:20200803
DTEND;VALUE=DATE:20200807
SUMMARY:UAI 2020
DESCRIPTION:Conference on Uncertainty in Artificial Intelligence
URL:http://www.wikicfp.com/cfp/servlet/event.showcfp?eventid=96735&copyow
 nerid=162979
UID:cfp835504-E@wikicfp.com
END:VEVENT
BEGIN:VEVENT
DTSTAMP:20260424T020117Z
DTSTART;VALUE=DATE:20200220
SUMMARY:UAI 2020 Deadline
DESCRIPTION:Conference on Uncertainty in Artificial Intelligence
URL:http://www.wikicfp.com/cfp/servlet/event.showcfp?eventid=96735&copyow
 nerid=162979
UID:cfp835504-D@wikicfp.com
END:VEVENT
BEGIN:VEVENT
DTSTAMP:20260424T020117Z
DTSTART;VALUE=DATE:20200514
SUMMARY:UAI 2020 Notification Due
DESCRIPTION:Conference on Uncertainty in Artificial Intelligence
URL:http://www.wikicfp.com/cfp/servlet/event.showcfp?eventid=96735&copyow
 nerid=162979
UID:cfp835504-N@wikicfp.com
END:VEVENT
BEGIN:VEVENT
DTSTAMP:20260424T020117Z
DTSTART;VALUE=DATE:20201024
DTEND;VALUE=DATE:20201031
SUMMARY:IROS 2020
DESCRIPTION:International Conference on Intelligent Robots and Systems
URL:http://www.wikicfp.com/cfp/servlet/event.showcfp?eventid=91338&copyow
 nerid=162979
UID:cfp835507-E@wikicfp.com
END:VEVENT
BEGIN:VEVENT
DTSTAMP:20260424T020117Z
DTSTART;VALUE=DATE:20200301
SUMMARY:IROS 2020 Deadline
DESCRIPTION:International Conference on Intelligent Robots and Systems
URL:http://www.wikicfp.com/cfp/servlet/event.showcfp?eventid=91338&copyow
 nerid=162979
UID:cfp835507-D@wikicfp.com
END:VEVENT
BEGIN:VEVENT
DTSTAMP:20260424T020117Z
DTSTART;VALUE=DATE:20201208
DTEND;VALUE=DATE:20201212
SUMMARY:CDC 2020
DESCRIPTION:Conference on Decision and Control
URL:http://www.wikicfp.com/cfp/servlet/event.showcfp?eventid=91913&copyow
 nerid=162979
UID:cfp835511-E@wikicfp.com
END:VEVENT
BEGIN:VEVENT
DTSTAMP:20260424T020117Z
DTSTART;VALUE=DATE:20200317
SUMMARY:CDC 2020 Deadline
DESCRIPTION:Conference on Decision and Control
URL:http://www.wikicfp.com/cfp/servlet/event.showcfp?eventid=91913&copyow
 nerid=162979
UID:cfp835511-D@wikicfp.com
END:VEVENT
BEGIN:VEVENT
DTSTAMP:20260424T020117Z
DTSTART;VALUE=DATE:20200910
SUMMARY:CDC 2020 Final Version Due
DESCRIPTION:Conference on Decision and Control
URL:http://www.wikicfp.com/cfp/servlet/event.showcfp?eventid=91913&copyow
 nerid=162979
UID:cfp835511-N@wikicfp.com
END:VEVENT
BEGIN:VEVENT
DTSTAMP:20260424T020117Z
DTSTART;VALUE=DATE:20200927
DTEND;VALUE=DATE:20201001
SUMMARY:PRIMA 2020
DESCRIPTION:The 23nd International Conference on Principles and Practice 
 of Multi-Agent Systems
URL:http://www.wikicfp.com/cfp/servlet/event.showcfp?eventid=99608&copyow
 nerid=162979
UID:cfp835509-E@wikicfp.com
END:VEVENT
BEGIN:VEVENT
DTSTAMP:20260424T020117Z
DTSTART;VALUE=DATE:20200424
SUMMARY:PRIMA 2020 Deadline
DESCRIPTION:The 23nd International Conference on Principles and Practice 
 of Multi-Agent Systems
URL:http://www.wikicfp.com/cfp/servlet/event.showcfp?eventid=99608&copyow
 nerid=162979
UID:cfp835509-D@wikicfp.com
END:VEVENT
BEGIN:VEVENT
DTSTAMP:20260424T020117Z
DTSTART;VALUE=DATE:20200703
SUMMARY:PRIMA 2020 Notification Due
DESCRIPTION:The 23nd International Conference on Principles and Practice 
 of Multi-Agent Systems
URL:http://www.wikicfp.com/cfp/servlet/event.showcfp?eventid=99608&copyow
 nerid=162979
UID:cfp835509-N@wikicfp.com
END:VEVENT
BEGIN:VEVENT
DTSTAMP:20260424T020117Z
DTSTART;VALUE=DATE:20200803
SUMMARY:PRIMA 2020 Final Version Due
DESCRIPTION:The 23nd International Conference on Principles and Practice 
 of Multi-Agent Systems
URL:http://www.wikicfp.com/cfp/servlet/event.showcfp?eventid=99608&copyow
 nerid=162979
UID:cfp835509-N@wikicfp.com
END:VEVENT
BEGIN:VEVENT
DTSTAMP:20260424T020117Z
DTSTART;VALUE=DATE:20201206
DTEND;VALUE=DATE:20201213
SUMMARY:NeurIPS 2020
DESCRIPTION:Thirty-fourth Conference on Neural Information Processing Sys
 tems
URL:http://www.wikicfp.com/cfp/servlet/event.showcfp?eventid=99543&copyow
 nerid=162979
UID:cfp835503-E@wikicfp.com
END:VEVENT
BEGIN:VEVENT
DTSTAMP:20260424T020117Z
DTSTART;VALUE=DATE:20200516
SUMMARY:NeurIPS 2020 Abstract Due
DESCRIPTION:Thirty-fourth Conference on Neural Information Processing Sys
 tems
URL:http://www.wikicfp.com/cfp/servlet/event.showcfp?eventid=99543&copyow
 nerid=162979
UID:cfp835503-A@wikicfp.com
END:VEVENT
BEGIN:VEVENT
DTSTAMP:20260424T020117Z
DTSTART;VALUE=DATE:20200523
SUMMARY:NeurIPS 2020 Deadline
DESCRIPTION:Thirty-fourth Conference on Neural Information Processing Sys
 tems
URL:http://www.wikicfp.com/cfp/servlet/event.showcfp?eventid=99543&copyow
 nerid=162979
UID:cfp835503-D@wikicfp.com
END:VEVENT
BEGIN:VEVENT
DTSTAMP:20260424T020117Z
DTSTART;VALUE=DATE:20200904
SUMMARY:NeurIPS 2020 Notification Due
DESCRIPTION:Thirty-fourth Conference on Neural Information Processing Sys
 tems
URL:http://www.wikicfp.com/cfp/servlet/event.showcfp?eventid=99543&copyow
 nerid=162979
UID:cfp835503-N@wikicfp.com
END:VEVENT
END:VCALENDAR
