BEGIN:VCALENDAR
PRODID:-//WikiCFP//IC4S 1.0//EN
VERSION:2.0
CALSCALE:GREGORIAN
BEGIN:VEVENT
DTSTAMP:20260422T200656Z
DTSTART;VALUE=DATE:20201202
DTEND;VALUE=DATE:20201205
SUMMARY:EAI IC4S 2020
DESCRIPTION:IC4S 2020 - EAI International Conference on Cognitive Computi
 ng and Cyber Physical Systems
URL:http://www.wikicfp.com/cfp/servlet/event.showcfp?eventid=102563&copyo
 wnerid=162925
UID:cfp834979-E@wikicfp.com
END:VEVENT
BEGIN:VEVENT
DTSTAMP:20260422T200656Z
DTSTART;VALUE=DATE:20200622
SUMMARY:EAI IC4S 2020 Deadline
DESCRIPTION:IC4S 2020 - EAI International Conference on Cognitive Computi
 ng and Cyber Physical Systems
URL:http://www.wikicfp.com/cfp/servlet/event.showcfp?eventid=102563&copyo
 wnerid=162925
UID:cfp834979-D@wikicfp.com
END:VEVENT
BEGIN:VEVENT
DTSTAMP:20260422T200656Z
DTSTART;VALUE=DATE:20200803
SUMMARY:EAI IC4S 2020 Notification Due
DESCRIPTION:IC4S 2020 - EAI International Conference on Cognitive Computi
 ng and Cyber Physical Systems
URL:http://www.wikicfp.com/cfp/servlet/event.showcfp?eventid=102563&copyo
 wnerid=162925
UID:cfp834979-N@wikicfp.com
END:VEVENT
BEGIN:VEVENT
DTSTAMP:20260422T200656Z
DTSTART;VALUE=DATE:20200904
SUMMARY:EAI IC4S 2020 Final Version Due
DESCRIPTION:IC4S 2020 - EAI International Conference on Cognitive Computi
 ng and Cyber Physical Systems
URL:http://www.wikicfp.com/cfp/servlet/event.showcfp?eventid=102563&copyo
 wnerid=162925
UID:cfp834979-N@wikicfp.com
END:VEVENT
END:VCALENDAR
