BEGIN:VCALENDAR
PRODID:-//WikiCFP//alexlaurence 1.0//EN
VERSION:2.0
CALSCALE:GREGORIAN
BEGIN:VEVENT
DTSTAMP:20260424T023225Z
DTSTART;VALUE=DATE:20200826
DTEND;VALUE=DATE:20200829
SUMMARY:WISA 2020
DESCRIPTION:The 21st World Conference on Information Security Application
 s
URL:http://www.wikicfp.com/cfp/servlet/event.showcfp?eventid=101686&copyo
 wnerid=162843
UID:cfp833845-E@wikicfp.com
END:VEVENT
BEGIN:VEVENT
DTSTAMP:20260424T023225Z
DTSTART;VALUE=DATE:20200508
SUMMARY:WISA 2020 Deadline
DESCRIPTION:The 21st World Conference on Information Security Application
 s
URL:http://www.wikicfp.com/cfp/servlet/event.showcfp?eventid=101686&copyo
 wnerid=162843
UID:cfp833845-D@wikicfp.com
END:VEVENT
BEGIN:VEVENT
DTSTAMP:20260424T023225Z
DTSTART;VALUE=DATE:20200612
SUMMARY:WISA 2020 Notification Due
DESCRIPTION:The 21st World Conference on Information Security Application
 s
URL:http://www.wikicfp.com/cfp/servlet/event.showcfp?eventid=101686&copyo
 wnerid=162843
UID:cfp833845-N@wikicfp.com
END:VEVENT
BEGIN:VEVENT
DTSTAMP:20260424T023225Z
DTSTART;VALUE=DATE:20200724
SUMMARY:WISA 2020 Final Version Due
DESCRIPTION:The 21st World Conference on Information Security Application
 s
URL:http://www.wikicfp.com/cfp/servlet/event.showcfp?eventid=101686&copyo
 wnerid=162843
UID:cfp833845-N@wikicfp.com
END:VEVENT
BEGIN:VEVENT
DTSTAMP:20260424T023225Z
DTSTART;VALUE=DATE:20201207
DTEND;VALUE=DATE:20201213
SUMMARY:GLOBECOM 2020
DESCRIPTION:The 2020 IEEE Global Communications Conference
URL:http://www.wikicfp.com/cfp/servlet/event.showcfp?eventid=101838&copyo
 wnerid=162843
UID:cfp833840-E@wikicfp.com
END:VEVENT
BEGIN:VEVENT
DTSTAMP:20260424T023225Z
DTSTART;VALUE=DATE:20200515
SUMMARY:GLOBECOM 2020 Deadline
DESCRIPTION:The 2020 IEEE Global Communications Conference
URL:http://www.wikicfp.com/cfp/servlet/event.showcfp?eventid=101838&copyo
 wnerid=162843
UID:cfp833840-D@wikicfp.com
END:VEVENT
BEGIN:VEVENT
DTSTAMP:20260424T023225Z
DTSTART;VALUE=DATE:20200815
SUMMARY:GLOBECOM 2020 Notification Due
DESCRIPTION:The 2020 IEEE Global Communications Conference
URL:http://www.wikicfp.com/cfp/servlet/event.showcfp?eventid=101838&copyo
 wnerid=162843
UID:cfp833840-N@wikicfp.com
END:VEVENT
BEGIN:VEVENT
DTSTAMP:20260424T023225Z
DTSTART;VALUE=DATE:20200901
SUMMARY:GLOBECOM 2020 Final Version Due
DESCRIPTION:The 2020 IEEE Global Communications Conference
URL:http://www.wikicfp.com/cfp/servlet/event.showcfp?eventid=101838&copyo
 wnerid=162843
UID:cfp833840-N@wikicfp.com
END:VEVENT
BEGIN:VEVENT
DTSTAMP:20260424T023225Z
DTSTART;VALUE=DATE:20200717
DTEND;VALUE=DATE:20200719
SUMMARY:FL-ICML 2020
DESCRIPTION:International Workshop on Federated Learning for User Privacy
  and Data Confidentiality in Conjunction with ICML 2020
URL:http://www.wikicfp.com/cfp/servlet/event.showcfp?eventid=101905&copyo
 wnerid=162843
UID:cfp833839-E@wikicfp.com
END:VEVENT
BEGIN:VEVENT
DTSTAMP:20260424T023225Z
DTSTART;VALUE=DATE:20200517
SUMMARY:FL-ICML 2020 Deadline
DESCRIPTION:International Workshop on Federated Learning for User Privacy
  and Data Confidentiality in Conjunction with ICML 2020
URL:http://www.wikicfp.com/cfp/servlet/event.showcfp?eventid=101905&copyo
 wnerid=162843
UID:cfp833839-D@wikicfp.com
END:VEVENT
BEGIN:VEVENT
DTSTAMP:20260424T023225Z
DTSTART;VALUE=DATE:20200531
SUMMARY:FL-ICML 2020 Notification Due
DESCRIPTION:International Workshop on Federated Learning for User Privacy
  and Data Confidentiality in Conjunction with ICML 2020
URL:http://www.wikicfp.com/cfp/servlet/event.showcfp?eventid=101905&copyo
 wnerid=162843
UID:cfp833839-N@wikicfp.com
END:VEVENT
BEGIN:VEVENT
DTSTAMP:20260424T023225Z
DTSTART;VALUE=DATE:20200914
DTEND;VALUE=DATE:20200919
SUMMARY:XKDD 2020
DESCRIPTION:2nd International Workshop on eXplainable Knowledge Discovery
  in Data Mining
URL:http://www.wikicfp.com/cfp/servlet/event.showcfp?eventid=101739&copyo
 wnerid=162843
UID:cfp833844-E@wikicfp.com
END:VEVENT
BEGIN:VEVENT
DTSTAMP:20260424T023225Z
DTSTART;VALUE=DATE:20200609
SUMMARY:XKDD 2020 Deadline
DESCRIPTION:2nd International Workshop on eXplainable Knowledge Discovery
  in Data Mining
URL:http://www.wikicfp.com/cfp/servlet/event.showcfp?eventid=101739&copyo
 wnerid=162843
UID:cfp833844-D@wikicfp.com
END:VEVENT
BEGIN:VEVENT
DTSTAMP:20260424T023225Z
DTSTART;VALUE=DATE:20200707
SUMMARY:XKDD 2020 Notification Due
DESCRIPTION:2nd International Workshop on eXplainable Knowledge Discovery
  in Data Mining
URL:http://www.wikicfp.com/cfp/servlet/event.showcfp?eventid=101739&copyo
 wnerid=162843
UID:cfp833844-N@wikicfp.com
END:VEVENT
BEGIN:VEVENT
DTSTAMP:20260424T023225Z
DTSTART;VALUE=DATE:20200721
SUMMARY:XKDD 2020 Final Version Due
DESCRIPTION:2nd International Workshop on eXplainable Knowledge Discovery
  in Data Mining
URL:http://www.wikicfp.com/cfp/servlet/event.showcfp?eventid=101739&copyo
 wnerid=162843
UID:cfp833844-N@wikicfp.com
END:VEVENT
BEGIN:VEVENT
DTSTAMP:20260424T023225Z
DTSTART;VALUE=DATE:20201127
DTEND;VALUE=DATE:20201130
SUMMARY:ICIST--EI & SCOPUS 2020
DESCRIPTION:ACM--2020 The 3rd International Conference on Intelligent Sci
 ence and Technology (ICIST 2020)--Ei Compendex\, Scopus
URL:http://www.wikicfp.com/cfp/servlet/event.showcfp?eventid=101822&copyo
 wnerid=162843
UID:cfp833842-E@wikicfp.com
END:VEVENT
BEGIN:VEVENT
DTSTAMP:20260424T023225Z
DTSTART;VALUE=DATE:20201005
SUMMARY:ICIST--EI & SCOPUS 2020 Deadline
DESCRIPTION:ACM--2020 The 3rd International Conference on Intelligent Sci
 ence and Technology (ICIST 2020)--Ei Compendex\, Scopus
URL:http://www.wikicfp.com/cfp/servlet/event.showcfp?eventid=101822&copyo
 wnerid=162843
UID:cfp833842-D@wikicfp.com
END:VEVENT
BEGIN:VEVENT
DTSTAMP:20260424T023225Z
DTSTART;VALUE=DATE:20201113
DTEND;VALUE=DATE:20201116
SUMMARY:CIIS--ACM\, Scopus & Ei 2020
DESCRIPTION:ACM--2020 The 3rd International Conference on Computational I
 ntelligence and Intelligent Systems (CIIS 2020)--Ei Compendex\, Scopus
URL:http://www.wikicfp.com/cfp/servlet/event.showcfp?eventid=101746&copyo
 wnerid=162843
UID:cfp833843-E@wikicfp.com
END:VEVENT
BEGIN:VEVENT
DTSTAMP:20260424T023225Z
DTSTART;VALUE=DATE:20201012
SUMMARY:CIIS--ACM\, Scopus & Ei 2020 Deadline
DESCRIPTION:ACM--2020 The 3rd International Conference on Computational I
 ntelligence and Intelligent Systems (CIIS 2020)--Ei Compendex\, Scopus
URL:http://www.wikicfp.com/cfp/servlet/event.showcfp?eventid=101746&copyo
 wnerid=162843
UID:cfp833843-D@wikicfp.com
END:VEVENT
BEGIN:VEVENT
DTSTAMP:20260424T023225Z
DTSTART;VALUE=DATE:20201231
SUMMARY:Symmetry-SI 2020 Deadline
DESCRIPTION:Special issue on Symmetry and Asymmetry in IoT and CPS Securi
 ty and Privacy
URL:http://www.wikicfp.com/cfp/servlet/event.showcfp?eventid=102469&copyo
 wnerid=162843
UID:cfp833837-D@wikicfp.com
END:VEVENT
BEGIN:VEVENT
DTSTAMP:20260424T023225Z
DTSTART;VALUE=DATE:20200415
DTEND;VALUE=DATE:20220204
SUMMARY:JoWUA SI 2021
DESCRIPTION:JoWUA Special Issue on Multidisciplinary Solutions to Modern 
 Cybersecurity Challenges
URL:http://www.wikicfp.com/cfp/servlet/event.showcfp?eventid=102457&copyo
 wnerid=162843
UID:cfp833838-E@wikicfp.com
END:VEVENT
BEGIN:VEVENT
DTSTAMP:20260424T023225Z
DTSTART;VALUE=DATE:20210415
SUMMARY:JoWUA SI 2021 Deadline
DESCRIPTION:JoWUA Special Issue on Multidisciplinary Solutions to Modern 
 Cybersecurity Challenges
URL:http://www.wikicfp.com/cfp/servlet/event.showcfp?eventid=102457&copyo
 wnerid=162843
UID:cfp833838-D@wikicfp.com
END:VEVENT
BEGIN:VEVENT
DTSTAMP:20260424T023225Z
DTSTART;VALUE=DATE:20220113
SUMMARY:JoWUA SI 2021 Notification Due
DESCRIPTION:JoWUA Special Issue on Multidisciplinary Solutions to Modern 
 Cybersecurity Challenges
URL:http://www.wikicfp.com/cfp/servlet/event.showcfp?eventid=102457&copyo
 wnerid=162843
UID:cfp833838-N@wikicfp.com
END:VEVENT
BEGIN:VEVENT
DTSTAMP:20260424T023225Z
DTSTART;VALUE=DATE:20220203
SUMMARY:JoWUA SI 2021 Final Version Due
DESCRIPTION:JoWUA Special Issue on Multidisciplinary Solutions to Modern 
 Cybersecurity Challenges
URL:http://www.wikicfp.com/cfp/servlet/event.showcfp?eventid=102457&copyo
 wnerid=162843
UID:cfp833838-N@wikicfp.com
END:VEVENT
END:VCALENDAR
