BEGIN:VCALENDAR
PRODID:-//WikiCFP//hqguo1116 1.0//EN
VERSION:2.0
CALSCALE:GREGORIAN
BEGIN:VEVENT
DTSTAMP:20260421T234336Z
DTSTART;VALUE=DATE:20200222
DTEND;VALUE=DATE:20200227
SUMMARY:HPCA 2020
DESCRIPTION:High-Performance Computer Architecture
URL:http://www.wikicfp.com/cfp/servlet/event.showcfp?eventid=90696&copyow
 nerid=162808
UID:cfp833624-E@wikicfp.com
END:VEVENT
BEGIN:VEVENT
DTSTAMP:20260421T234336Z
DTSTART;VALUE=DATE:20190730
SUMMARY:HPCA 2020 Abstract Due
DESCRIPTION:High-Performance Computer Architecture
URL:http://www.wikicfp.com/cfp/servlet/event.showcfp?eventid=90696&copyow
 nerid=162808
UID:cfp833624-A@wikicfp.com
END:VEVENT
BEGIN:VEVENT
DTSTAMP:20260421T234336Z
DTSTART;VALUE=DATE:20190806
SUMMARY:HPCA 2020 Deadline
DESCRIPTION:High-Performance Computer Architecture
URL:http://www.wikicfp.com/cfp/servlet/event.showcfp?eventid=90696&copyow
 nerid=162808
UID:cfp833624-D@wikicfp.com
END:VEVENT
BEGIN:VEVENT
DTSTAMP:20260421T234336Z
DTSTART;VALUE=DATE:20191106
SUMMARY:HPCA 2020 Notification Due
DESCRIPTION:High-Performance Computer Architecture
URL:http://www.wikicfp.com/cfp/servlet/event.showcfp?eventid=90696&copyow
 nerid=162808
UID:cfp833624-N@wikicfp.com
END:VEVENT
BEGIN:VEVENT
DTSTAMP:20260421T234336Z
DTSTART;VALUE=DATE:20200316
DTEND;VALUE=DATE:20200321
SUMMARY:ASPLOS 2020
DESCRIPTION:Architectural Support for Programming Languages and Operating
  Systems
URL:http://www.wikicfp.com/cfp/servlet/event.showcfp?eventid=90056&copyow
 nerid=162808
UID:cfp833623-E@wikicfp.com
END:VEVENT
BEGIN:VEVENT
DTSTAMP:20260421T234336Z
DTSTART;VALUE=DATE:20190809
SUMMARY:ASPLOS 2020 Abstract Due
DESCRIPTION:Architectural Support for Programming Languages and Operating
  Systems
URL:http://www.wikicfp.com/cfp/servlet/event.showcfp?eventid=90056&copyow
 nerid=162808
UID:cfp833623-A@wikicfp.com
END:VEVENT
BEGIN:VEVENT
DTSTAMP:20260421T234336Z
DTSTART;VALUE=DATE:20190816
SUMMARY:ASPLOS 2020 Deadline
DESCRIPTION:Architectural Support for Programming Languages and Operating
  Systems
URL:http://www.wikicfp.com/cfp/servlet/event.showcfp?eventid=90056&copyow
 nerid=162808
UID:cfp833623-D@wikicfp.com
END:VEVENT
BEGIN:VEVENT
DTSTAMP:20260421T234336Z
DTSTART;VALUE=DATE:20191120
SUMMARY:ASPLOS 2020 Notification Due
DESCRIPTION:Architectural Support for Programming Languages and Operating
  Systems
URL:http://www.wikicfp.com/cfp/servlet/event.showcfp?eventid=90056&copyow
 nerid=162808
UID:cfp833623-N@wikicfp.com
END:VEVENT
BEGIN:VEVENT
DTSTAMP:20260421T234336Z
DTSTART;VALUE=DATE:20200120
SUMMARY:ASPLOS 2020 Final Version Due
DESCRIPTION:Architectural Support for Programming Languages and Operating
  Systems
URL:http://www.wikicfp.com/cfp/servlet/event.showcfp?eventid=90056&copyow
 nerid=162808
UID:cfp833623-N@wikicfp.com
END:VEVENT
BEGIN:VEVENT
DTSTAMP:20260421T234336Z
DTSTART;VALUE=DATE:20200207
DTEND;VALUE=DATE:20200213
SUMMARY:AAAI 2020
DESCRIPTION:The Thirty-Fourth AAAI Conference on Artificial Intelligence
URL:http://www.wikicfp.com/cfp/servlet/event.showcfp?eventid=90881&copyow
 nerid=162808
UID:cfp833622-E@wikicfp.com
END:VEVENT
BEGIN:VEVENT
DTSTAMP:20260421T234336Z
DTSTART;VALUE=DATE:20190830
SUMMARY:AAAI 2020 Abstract Due
DESCRIPTION:The Thirty-Fourth AAAI Conference on Artificial Intelligence
URL:http://www.wikicfp.com/cfp/servlet/event.showcfp?eventid=90881&copyow
 nerid=162808
UID:cfp833622-A@wikicfp.com
END:VEVENT
BEGIN:VEVENT
DTSTAMP:20260421T234336Z
DTSTART;VALUE=DATE:20190905
SUMMARY:AAAI 2020 Deadline
DESCRIPTION:The Thirty-Fourth AAAI Conference on Artificial Intelligence
URL:http://www.wikicfp.com/cfp/servlet/event.showcfp?eventid=90881&copyow
 nerid=162808
UID:cfp833622-D@wikicfp.com
END:VEVENT
BEGIN:VEVENT
DTSTAMP:20260421T234336Z
DTSTART;VALUE=DATE:20191110
SUMMARY:AAAI 2020 Notification Due
DESCRIPTION:The Thirty-Fourth AAAI Conference on Artificial Intelligence
URL:http://www.wikicfp.com/cfp/servlet/event.showcfp?eventid=90881&copyow
 nerid=162808
UID:cfp833622-N@wikicfp.com
END:VEVENT
BEGIN:VEVENT
DTSTAMP:20260421T234336Z
DTSTART;VALUE=DATE:20191121
SUMMARY:AAAI 2020 Final Version Due
DESCRIPTION:The Thirty-Fourth AAAI Conference on Artificial Intelligence
URL:http://www.wikicfp.com/cfp/servlet/event.showcfp?eventid=90881&copyow
 nerid=162808
UID:cfp833622-N@wikicfp.com
END:VEVENT
BEGIN:VEVENT
DTSTAMP:20260421T234336Z
DTSTART;VALUE=DATE:20201206
DTEND;VALUE=DATE:20201213
SUMMARY:NeurIPS 2020
DESCRIPTION:Thirty-fourth Conference on Neural Information Processing Sys
 tems
URL:http://www.wikicfp.com/cfp/servlet/event.showcfp?eventid=99543&copyow
 nerid=162808
UID:cfp833621-E@wikicfp.com
END:VEVENT
BEGIN:VEVENT
DTSTAMP:20260421T234336Z
DTSTART;VALUE=DATE:20200516
SUMMARY:NeurIPS 2020 Abstract Due
DESCRIPTION:Thirty-fourth Conference on Neural Information Processing Sys
 tems
URL:http://www.wikicfp.com/cfp/servlet/event.showcfp?eventid=99543&copyow
 nerid=162808
UID:cfp833621-A@wikicfp.com
END:VEVENT
BEGIN:VEVENT
DTSTAMP:20260421T234336Z
DTSTART;VALUE=DATE:20200523
SUMMARY:NeurIPS 2020 Deadline
DESCRIPTION:Thirty-fourth Conference on Neural Information Processing Sys
 tems
URL:http://www.wikicfp.com/cfp/servlet/event.showcfp?eventid=99543&copyow
 nerid=162808
UID:cfp833621-D@wikicfp.com
END:VEVENT
BEGIN:VEVENT
DTSTAMP:20260421T234336Z
DTSTART;VALUE=DATE:20200904
SUMMARY:NeurIPS 2020 Notification Due
DESCRIPTION:Thirty-fourth Conference on Neural Information Processing Sys
 tems
URL:http://www.wikicfp.com/cfp/servlet/event.showcfp?eventid=99543&copyow
 nerid=162808
UID:cfp833621-N@wikicfp.com
END:VEVENT
END:VCALENDAR
