BEGIN:VCALENDAR
PRODID:-//WikiCFP//wuchlei 1.0//EN
VERSION:2.0
CALSCALE:GREGORIAN
BEGIN:VEVENT
DTSTAMP:20260424T234557Z
DTSTART;VALUE=DATE:20180615
DTEND;VALUE=DATE:20180616
SUMMARY:NOSSDAV 2018
DESCRIPTION:Network and Operating System Support for Digital Audio and Vi
 deo
URL:http://www.wikicfp.com/cfp/servlet/event.showcfp?eventid=68668&copyow
 nerid=162659
UID:cfp853041-E@wikicfp.com
END:VEVENT
BEGIN:VEVENT
DTSTAMP:20260424T234557Z
DTSTART;VALUE=DATE:20180301
SUMMARY:NOSSDAV 2018 Deadline
DESCRIPTION:Network and Operating System Support for Digital Audio and Vi
 deo
URL:http://www.wikicfp.com/cfp/servlet/event.showcfp?eventid=68668&copyow
 nerid=162659
UID:cfp853041-D@wikicfp.com
END:VEVENT
BEGIN:VEVENT
DTSTAMP:20260424T234557Z
DTSTART;VALUE=DATE:20180409
SUMMARY:NOSSDAV 2018 Notification Due
DESCRIPTION:Network and Operating System Support for Digital Audio and Vi
 deo
URL:http://www.wikicfp.com/cfp/servlet/event.showcfp?eventid=68668&copyow
 nerid=162659
UID:cfp853041-N@wikicfp.com
END:VEVENT
BEGIN:VEVENT
DTSTAMP:20260424T234557Z
DTSTART;VALUE=DATE:20180419
SUMMARY:NOSSDAV 2018 Final Version Due
DESCRIPTION:Network and Operating System Support for Digital Audio and Vi
 deo
URL:http://www.wikicfp.com/cfp/servlet/event.showcfp?eventid=68668&copyow
 nerid=162659
UID:cfp853041-N@wikicfp.com
END:VEVENT
BEGIN:VEVENT
DTSTAMP:20260424T234557Z
DTSTART;VALUE=DATE:20190622
DTEND;VALUE=DATE:20190629
SUMMARY:IEEE/ACM IWQoS 2019
DESCRIPTION:IEEE/ACM IWQoSâ2019 - 2019 IEEE/ACM International Symposium
  on Quality of Service
URL:http://www.wikicfp.com/cfp/servlet/event.showcfp?eventid=83739&copyow
 nerid=162659
UID:cfp853044-E@wikicfp.com
END:VEVENT
BEGIN:VEVENT
DTSTAMP:20260424T234557Z
DTSTART;VALUE=DATE:20190220
SUMMARY:IEEE/ACM IWQoS 2019 Deadline
DESCRIPTION:IEEE/ACM IWQoSâ2019 - 2019 IEEE/ACM International Symposium
  on Quality of Service
URL:http://www.wikicfp.com/cfp/servlet/event.showcfp?eventid=83739&copyow
 nerid=162659
UID:cfp853044-D@wikicfp.com
END:VEVENT
BEGIN:VEVENT
DTSTAMP:20260424T234557Z
DTSTART;VALUE=DATE:20190415
SUMMARY:IEEE/ACM IWQoS 2019 Notification Due
DESCRIPTION:IEEE/ACM IWQoSâ2019 - 2019 IEEE/ACM International Symposium
  on Quality of Service
URL:http://www.wikicfp.com/cfp/servlet/event.showcfp?eventid=83739&copyow
 nerid=162659
UID:cfp853044-N@wikicfp.com
END:VEVENT
BEGIN:VEVENT
DTSTAMP:20260424T234557Z
DTSTART;VALUE=DATE:20190501
SUMMARY:IEEE/ACM IWQoS 2019 Final Version Due
DESCRIPTION:IEEE/ACM IWQoSâ2019 - 2019 IEEE/ACM International Symposium
  on Quality of Service
URL:http://www.wikicfp.com/cfp/servlet/event.showcfp?eventid=83739&copyow
 nerid=162659
UID:cfp853044-N@wikicfp.com
END:VEVENT
BEGIN:VEVENT
DTSTAMP:20260424T234557Z
DTSTART;VALUE=DATE:20191021
DTEND;VALUE=DATE:20191026
SUMMARY:CNSM 2019
DESCRIPTION:The 15th International Conference on Network and Service Mana
 gement
URL:http://www.wikicfp.com/cfp/servlet/event.showcfp?eventid=85554&copyow
 nerid=162659
UID:cfp853046-E@wikicfp.com
END:VEVENT
BEGIN:VEVENT
DTSTAMP:20260424T234557Z
DTSTART;VALUE=DATE:20190615
SUMMARY:CNSM 2019 Deadline
DESCRIPTION:The 15th International Conference on Network and Service Mana
 gement
URL:http://www.wikicfp.com/cfp/servlet/event.showcfp?eventid=85554&copyow
 nerid=162659
UID:cfp853046-D@wikicfp.com
END:VEVENT
BEGIN:VEVENT
DTSTAMP:20260424T234557Z
DTSTART;VALUE=DATE:20190805
SUMMARY:CNSM 2019 Notification Due
DESCRIPTION:The 15th International Conference on Network and Service Mana
 gement
URL:http://www.wikicfp.com/cfp/servlet/event.showcfp?eventid=85554&copyow
 nerid=162659
UID:cfp853046-N@wikicfp.com
END:VEVENT
BEGIN:VEVENT
DTSTAMP:20260424T234557Z
DTSTART;VALUE=DATE:20190830
SUMMARY:CNSM 2019 Final Version Due
DESCRIPTION:The 15th International Conference on Network and Service Mana
 gement
URL:http://www.wikicfp.com/cfp/servlet/event.showcfp?eventid=85554&copyow
 nerid=162659
UID:cfp853046-N@wikicfp.com
END:VEVENT
BEGIN:VEVENT
DTSTAMP:20260424T234557Z
DTSTART;VALUE=DATE:20191113
DTEND;VALUE=DATE:20191116
SUMMARY:HotNets 2019
DESCRIPTION:HotNets 2019: Eighteenth ACM Workshop on Hot Topics in Networ
 ks
URL:http://www.wikicfp.com/cfp/servlet/event.showcfp?eventid=89919&copyow
 nerid=162659
UID:cfp853040-E@wikicfp.com
END:VEVENT
BEGIN:VEVENT
DTSTAMP:20260424T234557Z
DTSTART;VALUE=DATE:20190624
SUMMARY:HotNets 2019 Abstract Due
DESCRIPTION:HotNets 2019: Eighteenth ACM Workshop on Hot Topics in Networ
 ks
URL:http://www.wikicfp.com/cfp/servlet/event.showcfp?eventid=89919&copyow
 nerid=162659
UID:cfp853040-A@wikicfp.com
END:VEVENT
BEGIN:VEVENT
DTSTAMP:20260424T234557Z
DTSTART;VALUE=DATE:20190628
SUMMARY:HotNets 2019 Deadline
DESCRIPTION:HotNets 2019: Eighteenth ACM Workshop on Hot Topics in Networ
 ks
URL:http://www.wikicfp.com/cfp/servlet/event.showcfp?eventid=89919&copyow
 nerid=162659
UID:cfp853040-D@wikicfp.com
END:VEVENT
BEGIN:VEVENT
DTSTAMP:20260424T234557Z
DTSTART;VALUE=DATE:20190917
SUMMARY:HotNets 2019 Notification Due
DESCRIPTION:HotNets 2019: Eighteenth ACM Workshop on Hot Topics in Networ
 ks
URL:http://www.wikicfp.com/cfp/servlet/event.showcfp?eventid=89919&copyow
 nerid=162659
UID:cfp853040-N@wikicfp.com
END:VEVENT
BEGIN:VEVENT
DTSTAMP:20260424T234557Z
DTSTART;VALUE=DATE:20200616
DTEND;VALUE=DATE:20200621
SUMMARY:CVPR 2020
DESCRIPTION:Computer Vision and Pattern Recognition
URL:http://www.wikicfp.com/cfp/servlet/event.showcfp?eventid=94545&copyow
 nerid=162659
UID:cfp853047-E@wikicfp.com
END:VEVENT
BEGIN:VEVENT
DTSTAMP:20260424T234557Z
DTSTART;VALUE=DATE:20191115
SUMMARY:CVPR 2020 Deadline
DESCRIPTION:Computer Vision and Pattern Recognition
URL:http://www.wikicfp.com/cfp/servlet/event.showcfp?eventid=94545&copyow
 nerid=162659
UID:cfp853047-D@wikicfp.com
END:VEVENT
BEGIN:VEVENT
DTSTAMP:20260424T234557Z
DTSTART;VALUE=DATE:20200223
SUMMARY:CVPR 2020 Notification Due
DESCRIPTION:Computer Vision and Pattern Recognition
URL:http://www.wikicfp.com/cfp/servlet/event.showcfp?eventid=94545&copyow
 nerid=162659
UID:cfp853047-N@wikicfp.com
END:VEVENT
BEGIN:VEVENT
DTSTAMP:20260424T234557Z
DTSTART;VALUE=DATE:20200615
DTEND;VALUE=DATE:20200621
SUMMARY:WOWMOM 2020
DESCRIPTION:21st IEEE International Symposium on a World of Wireless\, Mo
 bile and Multimedia Networks
URL:http://www.wikicfp.com/cfp/servlet/event.showcfp?eventid=95430&copyow
 nerid=162659
UID:cfp853035-E@wikicfp.com
END:VEVENT
BEGIN:VEVENT
DTSTAMP:20260424T234557Z
DTSTART;VALUE=DATE:20200108
SUMMARY:WOWMOM 2020 Abstract Due
DESCRIPTION:21st IEEE International Symposium on a World of Wireless\, Mo
 bile and Multimedia Networks
URL:http://www.wikicfp.com/cfp/servlet/event.showcfp?eventid=95430&copyow
 nerid=162659
UID:cfp853035-A@wikicfp.com
END:VEVENT
BEGIN:VEVENT
DTSTAMP:20260424T234557Z
DTSTART;VALUE=DATE:20200114
SUMMARY:WOWMOM 2020 Deadline
DESCRIPTION:21st IEEE International Symposium on a World of Wireless\, Mo
 bile and Multimedia Networks
URL:http://www.wikicfp.com/cfp/servlet/event.showcfp?eventid=95430&copyow
 nerid=162659
UID:cfp853035-D@wikicfp.com
END:VEVENT
BEGIN:VEVENT
DTSTAMP:20260424T234557Z
DTSTART;VALUE=DATE:20200318
SUMMARY:WOWMOM 2020 Notification Due
DESCRIPTION:21st IEEE International Symposium on a World of Wireless\, Mo
 bile and Multimedia Networks
URL:http://www.wikicfp.com/cfp/servlet/event.showcfp?eventid=95430&copyow
 nerid=162659
UID:cfp853035-N@wikicfp.com
END:VEVENT
BEGIN:VEVENT
DTSTAMP:20260424T234557Z
DTSTART;VALUE=DATE:20200424
SUMMARY:WOWMOM 2020 Final Version Due
DESCRIPTION:21st IEEE International Symposium on a World of Wireless\, Mo
 bile and Multimedia Networks
URL:http://www.wikicfp.com/cfp/servlet/event.showcfp?eventid=95430&copyow
 nerid=162659
UID:cfp853035-N@wikicfp.com
END:VEVENT
BEGIN:VEVENT
DTSTAMP:20260424T234557Z
DTSTART;VALUE=DATE:20200622
DTEND;VALUE=DATE:20200627
SUMMARY:IFIP Networking 2020
DESCRIPTION:IFIP Networking 2020
URL:http://www.wikicfp.com/cfp/servlet/event.showcfp?eventid=98002&copyow
 nerid=162659
UID:cfp853042-E@wikicfp.com
END:VEVENT
BEGIN:VEVENT
DTSTAMP:20260424T234557Z
DTSTART;VALUE=DATE:20200121
SUMMARY:IFIP Networking 2020 Deadline
DESCRIPTION:IFIP Networking 2020
URL:http://www.wikicfp.com/cfp/servlet/event.showcfp?eventid=98002&copyow
 nerid=162659
UID:cfp853042-D@wikicfp.com
END:VEVENT
BEGIN:VEVENT
DTSTAMP:20260424T234557Z
DTSTART;VALUE=DATE:20200401
SUMMARY:IFIP Networking 2020 Notification Due
DESCRIPTION:IFIP Networking 2020
URL:http://www.wikicfp.com/cfp/servlet/event.showcfp?eventid=98002&copyow
 nerid=162659
UID:cfp853042-N@wikicfp.com
END:VEVENT
BEGIN:VEVENT
DTSTAMP:20260424T234557Z
DTSTART;VALUE=DATE:20200507
SUMMARY:IFIP Networking 2020 Final Version Due
DESCRIPTION:IFIP Networking 2020
URL:http://www.wikicfp.com/cfp/servlet/event.showcfp?eventid=98002&copyow
 nerid=162659
UID:cfp853042-N@wikicfp.com
END:VEVENT
BEGIN:VEVENT
DTSTAMP:20260424T234557Z
DTSTART;VALUE=DATE:20201207
DTEND;VALUE=DATE:20201213
SUMMARY:GLOBECOM 2020
DESCRIPTION:The 2020 IEEE Global Communications Conference
URL:http://www.wikicfp.com/cfp/servlet/event.showcfp?eventid=101838&copyo
 wnerid=162659
UID:cfp832751-E@wikicfp.com
END:VEVENT
BEGIN:VEVENT
DTSTAMP:20260424T234557Z
DTSTART;VALUE=DATE:20200415
SUMMARY:GLOBECOM 2020 Deadline
DESCRIPTION:The 2020 IEEE Global Communications Conference
URL:http://www.wikicfp.com/cfp/servlet/event.showcfp?eventid=101838&copyo
 wnerid=162659
UID:cfp832751-D@wikicfp.com
END:VEVENT
BEGIN:VEVENT
DTSTAMP:20260424T234557Z
DTSTART;VALUE=DATE:20200725
SUMMARY:GLOBECOM 2020 Notification Due
DESCRIPTION:The 2020 IEEE Global Communications Conference
URL:http://www.wikicfp.com/cfp/servlet/event.showcfp?eventid=101838&copyo
 wnerid=162659
UID:cfp832751-N@wikicfp.com
END:VEVENT
BEGIN:VEVENT
DTSTAMP:20260424T234557Z
DTSTART;VALUE=DATE:20200901
SUMMARY:GLOBECOM 2020 Final Version Due
DESCRIPTION:The 2020 IEEE Global Communications Conference
URL:http://www.wikicfp.com/cfp/servlet/event.showcfp?eventid=101838&copyo
 wnerid=162659
UID:cfp832751-N@wikicfp.com
END:VEVENT
BEGIN:VEVENT
DTSTAMP:20260424T234557Z
DTSTART;VALUE=DATE:20200928
DTEND;VALUE=DATE:20201001
SUMMARY:ICN 2020
DESCRIPTION:7th ACM conference on Information Centric Networking
URL:http://www.wikicfp.com/cfp/servlet/event.showcfp?eventid=101984&copyo
 wnerid=162659
UID:cfp853045-E@wikicfp.com
END:VEVENT
BEGIN:VEVENT
DTSTAMP:20260424T234557Z
DTSTART;VALUE=DATE:20200515
SUMMARY:ICN 2020 Abstract Due
DESCRIPTION:7th ACM conference on Information Centric Networking
URL:http://www.wikicfp.com/cfp/servlet/event.showcfp?eventid=101984&copyo
 wnerid=162659
UID:cfp853045-A@wikicfp.com
END:VEVENT
BEGIN:VEVENT
DTSTAMP:20260424T234557Z
DTSTART;VALUE=DATE:20200522
SUMMARY:ICN 2020 Deadline
DESCRIPTION:7th ACM conference on Information Centric Networking
URL:http://www.wikicfp.com/cfp/servlet/event.showcfp?eventid=101984&copyo
 wnerid=162659
UID:cfp853045-D@wikicfp.com
END:VEVENT
BEGIN:VEVENT
DTSTAMP:20260424T234557Z
DTSTART;VALUE=DATE:20200801
SUMMARY:ICN 2020 Notification Due
DESCRIPTION:7th ACM conference on Information Centric Networking
URL:http://www.wikicfp.com/cfp/servlet/event.showcfp?eventid=101984&copyo
 wnerid=162659
UID:cfp853045-N@wikicfp.com
END:VEVENT
BEGIN:VEVENT
DTSTAMP:20260424T234557Z
DTSTART;VALUE=DATE:20200901
SUMMARY:ICN 2020 Final Version Due
DESCRIPTION:7th ACM conference on Information Centric Networking
URL:http://www.wikicfp.com/cfp/servlet/event.showcfp?eventid=101984&copyo
 wnerid=162659
UID:cfp853045-N@wikicfp.com
END:VEVENT
BEGIN:VEVENT
DTSTAMP:20260424T234557Z
DTSTART;VALUE=DATE:20210329
DTEND;VALUE=DATE:20210402
SUMMARY:WCNC 2021
DESCRIPTION:Wireless Communications and Networking Conference
URL:http://www.wikicfp.com/cfp/servlet/event.showcfp?eventid=107143&copyo
 wnerid=162659
UID:cfp853043-E@wikicfp.com
END:VEVENT
BEGIN:VEVENT
DTSTAMP:20260424T234557Z
DTSTART;VALUE=DATE:20201002
SUMMARY:WCNC 2021 Deadline
DESCRIPTION:Wireless Communications and Networking Conference
URL:http://www.wikicfp.com/cfp/servlet/event.showcfp?eventid=107143&copyo
 wnerid=162659
UID:cfp853043-D@wikicfp.com
END:VEVENT
BEGIN:VEVENT
DTSTAMP:20260424T234557Z
DTSTART;VALUE=DATE:20201228
SUMMARY:WCNC 2021 Notification Due
DESCRIPTION:Wireless Communications and Networking Conference
URL:http://www.wikicfp.com/cfp/servlet/event.showcfp?eventid=107143&copyo
 wnerid=162659
UID:cfp853043-N@wikicfp.com
END:VEVENT
BEGIN:VEVENT
DTSTAMP:20260424T234557Z
DTSTART;VALUE=DATE:20210115
SUMMARY:WCNC 2021 Final Version Due
DESCRIPTION:Wireless Communications and Networking Conference
URL:http://www.wikicfp.com/cfp/servlet/event.showcfp?eventid=107143&copyo
 wnerid=162659
UID:cfp853043-N@wikicfp.com
END:VEVENT
BEGIN:VEVENT
DTSTAMP:20260424T234557Z
DTSTART;VALUE=DATE:20210614
DTEND;VALUE=DATE:20210619
SUMMARY:ICC 2021
DESCRIPTION:International Conference on Communications
URL:http://www.wikicfp.com/cfp/servlet/event.showcfp?eventid=107385&copyo
 wnerid=162659
UID:cfp853039-E@wikicfp.com
END:VEVENT
BEGIN:VEVENT
DTSTAMP:20260424T234557Z
DTSTART;VALUE=DATE:20201012
SUMMARY:ICC 2021 Deadline
DESCRIPTION:International Conference on Communications
URL:http://www.wikicfp.com/cfp/servlet/event.showcfp?eventid=107385&copyo
 wnerid=162659
UID:cfp853039-D@wikicfp.com
END:VEVENT
BEGIN:VEVENT
DTSTAMP:20260424T234557Z
DTSTART;VALUE=DATE:20210125
SUMMARY:ICC 2021 Notification Due
DESCRIPTION:International Conference on Communications
URL:http://www.wikicfp.com/cfp/servlet/event.showcfp?eventid=107385&copyo
 wnerid=162659
UID:cfp853039-N@wikicfp.com
END:VEVENT
BEGIN:VEVENT
DTSTAMP:20260424T234557Z
DTSTART;VALUE=DATE:20210222
SUMMARY:ICC 2021 Final Version Due
DESCRIPTION:International Conference on Communications
URL:http://www.wikicfp.com/cfp/servlet/event.showcfp?eventid=107385&copyo
 wnerid=162659
UID:cfp853039-N@wikicfp.com
END:VEVENT
BEGIN:VEVENT
DTSTAMP:20260424T234557Z
DTSTART;VALUE=DATE:20210606
DTEND;VALUE=DATE:20210613
SUMMARY:ICASSP 2021
DESCRIPTION:2021 IEEE International Conference on Acoustics\, Speech and 
 Signal Processing
URL:http://www.wikicfp.com/cfp/servlet/event.showcfp?eventid=106486&copyo
 wnerid=162659
UID:cfp853038-E@wikicfp.com
END:VEVENT
BEGIN:VEVENT
DTSTAMP:20260424T234557Z
DTSTART;VALUE=DATE:20201019
SUMMARY:ICASSP 2021 Deadline
DESCRIPTION:2021 IEEE International Conference on Acoustics\, Speech and 
 Signal Processing
URL:http://www.wikicfp.com/cfp/servlet/event.showcfp?eventid=106486&copyo
 wnerid=162659
UID:cfp853038-D@wikicfp.com
END:VEVENT
BEGIN:VEVENT
DTSTAMP:20260424T234557Z
DTSTART;VALUE=DATE:20210122
SUMMARY:ICASSP 2021 Notification Due
DESCRIPTION:2021 IEEE International Conference on Acoustics\, Speech and 
 Signal Processing
URL:http://www.wikicfp.com/cfp/servlet/event.showcfp?eventid=106486&copyo
 wnerid=162659
UID:cfp853038-N@wikicfp.com
END:VEVENT
BEGIN:VEVENT
DTSTAMP:20260424T234557Z
DTSTART;VALUE=DATE:20210211
SUMMARY:ICASSP 2021 Final Version Due
DESCRIPTION:2021 IEEE International Conference on Acoustics\, Speech and 
 Signal Processing
URL:http://www.wikicfp.com/cfp/servlet/event.showcfp?eventid=106486&copyo
 wnerid=162659
UID:cfp853038-N@wikicfp.com
END:VEVENT
BEGIN:VEVENT
DTSTAMP:20260424T234557Z
DTSTART;VALUE=DATE:20210224
DTEND;VALUE=DATE:20210227
SUMMARY:HotMobile 2021
DESCRIPTION:Mobile Computing Systems and Applications
URL:http://www.wikicfp.com/cfp/servlet/event.showcfp?eventid=112897&copyo
 wnerid=162659
UID:cfp853036-E@wikicfp.com
END:VEVENT
BEGIN:VEVENT
DTSTAMP:20260424T234557Z
DTSTART;VALUE=DATE:20201030
SUMMARY:HotMobile 2021 Deadline
DESCRIPTION:Mobile Computing Systems and Applications
URL:http://www.wikicfp.com/cfp/servlet/event.showcfp?eventid=112897&copyo
 wnerid=162659
UID:cfp853036-D@wikicfp.com
END:VEVENT
BEGIN:VEVENT
DTSTAMP:20260424T234557Z
DTSTART;VALUE=DATE:20201223
SUMMARY:HotMobile 2021 Notification Due
DESCRIPTION:Mobile Computing Systems and Applications
URL:http://www.wikicfp.com/cfp/servlet/event.showcfp?eventid=112897&copyo
 wnerid=162659
UID:cfp853036-N@wikicfp.com
END:VEVENT
BEGIN:VEVENT
DTSTAMP:20260424T234557Z
DTSTART;VALUE=DATE:20210821
DTEND;VALUE=DATE:20210827
SUMMARY:IJCAI 2021
DESCRIPTION:30th International Joint Conference on Artificial Intelligenc
 e
URL:http://www.wikicfp.com/cfp/servlet/event.showcfp?eventid=112919&copyo
 wnerid=162659
UID:cfp853037-E@wikicfp.com
END:VEVENT
BEGIN:VEVENT
DTSTAMP:20260424T234557Z
DTSTART;VALUE=DATE:20210112
SUMMARY:IJCAI 2021 Abstract Due
DESCRIPTION:30th International Joint Conference on Artificial Intelligenc
 e
URL:http://www.wikicfp.com/cfp/servlet/event.showcfp?eventid=112919&copyo
 wnerid=162659
UID:cfp853037-A@wikicfp.com
END:VEVENT
BEGIN:VEVENT
DTSTAMP:20260424T234557Z
DTSTART;VALUE=DATE:20210118
SUMMARY:IJCAI 2021 Deadline
DESCRIPTION:30th International Joint Conference on Artificial Intelligenc
 e
URL:http://www.wikicfp.com/cfp/servlet/event.showcfp?eventid=112919&copyo
 wnerid=162659
UID:cfp853037-D@wikicfp.com
END:VEVENT
BEGIN:VEVENT
DTSTAMP:20260424T234557Z
DTSTART;VALUE=DATE:20210425
SUMMARY:IJCAI 2021 Notification Due
DESCRIPTION:30th International Joint Conference on Artificial Intelligenc
 e
URL:http://www.wikicfp.com/cfp/servlet/event.showcfp?eventid=112919&copyo
 wnerid=162659
UID:cfp853037-N@wikicfp.com
END:VEVENT
END:VCALENDAR
