BEGIN:VCALENDAR
PRODID:-//WikiCFP//NingYu007 1.0//EN
VERSION:2.0
CALSCALE:GREGORIAN
BEGIN:VEVENT
DTSTAMP:20260423T004310Z
DTSTART;VALUE=DATE:20200608
DTEND;VALUE=DATE:20200609
SUMMARY:ICWSM/SocialSens 2020
DESCRIPTION:ICWSM 2020 Workshop on Narrative Analysis on Social Media/5th
  International Workshop on Social Sensing
URL:http://www.wikicfp.com/cfp/servlet/event.showcfp?eventid=101475&copyo
 wnerid=162456
UID:cfp831472-E@wikicfp.com
END:VEVENT
BEGIN:VEVENT
DTSTAMP:20260423T004310Z
DTSTART;VALUE=DATE:20200419
SUMMARY:ICWSM/SocialSens 2020 Deadline
DESCRIPTION:ICWSM 2020 Workshop on Narrative Analysis on Social Media/5th
  International Workshop on Social Sensing
URL:http://www.wikicfp.com/cfp/servlet/event.showcfp?eventid=101475&copyo
 wnerid=162456
UID:cfp831472-D@wikicfp.com
END:VEVENT
BEGIN:VEVENT
DTSTAMP:20260423T004310Z
DTSTART;VALUE=DATE:20200510
SUMMARY:ICWSM/SocialSens 2020 Notification Due
DESCRIPTION:ICWSM 2020 Workshop on Narrative Analysis on Social Media/5th
  International Workshop on Social Sensing
URL:http://www.wikicfp.com/cfp/servlet/event.showcfp?eventid=101475&copyo
 wnerid=162456
UID:cfp831472-N@wikicfp.com
END:VEVENT
END:VCALENDAR
