BEGIN:VCALENDAR
PRODID:-//WikiCFP//dc99 1.0//EN
VERSION:2.0
CALSCALE:GREGORIAN
BEGIN:VEVENT
DTSTAMP:20260420T191750Z
DTSTART;VALUE=DATE:20200504
DTEND;VALUE=DATE:20200509
SUMMARY:HOST 2020
DESCRIPTION:IEEE International Symposium on Hardware Oriented Security an
 d Trust (HOST)
URL:http://www.wikicfp.com/cfp/servlet/event.showcfp?eventid=90639&copyow
 nerid=162337
UID:cfp830619-E@wikicfp.com
END:VEVENT
BEGIN:VEVENT
DTSTAMP:20260420T191750Z
DTSTART;VALUE=DATE:20190815
SUMMARY:HOST 2020 Deadline
DESCRIPTION:IEEE International Symposium on Hardware Oriented Security an
 d Trust (HOST)
URL:http://www.wikicfp.com/cfp/servlet/event.showcfp?eventid=90639&copyow
 nerid=162337
UID:cfp830619-D@wikicfp.com
END:VEVENT
BEGIN:VEVENT
DTSTAMP:20260420T191750Z
DTSTART;VALUE=DATE:20191020
SUMMARY:HOST 2020 Notification Due
DESCRIPTION:IEEE International Symposium on Hardware Oriented Security an
 d Trust (HOST)
URL:http://www.wikicfp.com/cfp/servlet/event.showcfp?eventid=90639&copyow
 nerid=162337
UID:cfp830619-N@wikicfp.com
END:VEVENT
BEGIN:VEVENT
DTSTAMP:20260420T191750Z
DTSTART;VALUE=DATE:20200517
DTEND;VALUE=DATE:20200518
SUMMARY:AsHES 2020
DESCRIPTION:The Tenth International Workshop on Accelerators and Hybrid E
 xascale Systems
URL:http://www.wikicfp.com/cfp/servlet/event.showcfp?eventid=98330&copyow
 nerid=162337
UID:cfp830620-E@wikicfp.com
END:VEVENT
BEGIN:VEVENT
DTSTAMP:20260420T191750Z
DTSTART;VALUE=DATE:20200207
SUMMARY:AsHES 2020 Deadline
DESCRIPTION:The Tenth International Workshop on Accelerators and Hybrid E
 xascale Systems
URL:http://www.wikicfp.com/cfp/servlet/event.showcfp?eventid=98330&copyow
 nerid=162337
UID:cfp830620-D@wikicfp.com
END:VEVENT
BEGIN:VEVENT
DTSTAMP:20260420T191750Z
DTSTART;VALUE=DATE:20200302
SUMMARY:AsHES 2020 Notification Due
DESCRIPTION:The Tenth International Workshop on Accelerators and Hybrid E
 xascale Systems
URL:http://www.wikicfp.com/cfp/servlet/event.showcfp?eventid=98330&copyow
 nerid=162337
UID:cfp830620-N@wikicfp.com
END:VEVENT
BEGIN:VEVENT
DTSTAMP:20260420T191750Z
DTSTART;VALUE=DATE:20200317
SUMMARY:AsHES 2020 Final Version Due
DESCRIPTION:The Tenth International Workshop on Accelerators and Hybrid E
 xascale Systems
URL:http://www.wikicfp.com/cfp/servlet/event.showcfp?eventid=98330&copyow
 nerid=162337
UID:cfp830620-N@wikicfp.com
END:VEVENT
BEGIN:VEVENT
DTSTAMP:20260420T191750Z
DTSTART;VALUE=DATE:20201214
DTEND;VALUE=DATE:20201217
SUMMARY:CANS 2020
DESCRIPTION:Cryptology and Network Security
URL:http://www.wikicfp.com/cfp/servlet/event.showcfp?eventid=96278&copyow
 nerid=162337
UID:cfp830618-E@wikicfp.com
END:VEVENT
BEGIN:VEVENT
DTSTAMP:20260420T191750Z
DTSTART;VALUE=DATE:20200621
SUMMARY:CANS 2020 Deadline
DESCRIPTION:Cryptology and Network Security
URL:http://www.wikicfp.com/cfp/servlet/event.showcfp?eventid=96278&copyow
 nerid=162337
UID:cfp830618-D@wikicfp.com
END:VEVENT
BEGIN:VEVENT
DTSTAMP:20260420T191750Z
DTSTART;VALUE=DATE:20200830
SUMMARY:CANS 2020 Notification Due
DESCRIPTION:Cryptology and Network Security
URL:http://www.wikicfp.com/cfp/servlet/event.showcfp?eventid=96278&copyow
 nerid=162337
UID:cfp830618-N@wikicfp.com
END:VEVENT
BEGIN:VEVENT
DTSTAMP:20260420T191750Z
DTSTART;VALUE=DATE:20200919
SUMMARY:CANS 2020 Final Version Due
DESCRIPTION:Cryptology and Network Security
URL:http://www.wikicfp.com/cfp/servlet/event.showcfp?eventid=96278&copyow
 nerid=162337
UID:cfp830618-N@wikicfp.com
END:VEVENT
BEGIN:VEVENT
DTSTAMP:20260420T191750Z
DTSTART;VALUE=DATE:20210718
DTEND;VALUE=DATE:20210724
SUMMARY:CAV 2021
DESCRIPTION:33rd International Conference on Computer-Aided Verification
URL:http://www.wikicfp.com/cfp/servlet/event.showcfp?eventid=117288&copyo
 wnerid=162337
UID:cfp870330-E@wikicfp.com
END:VEVENT
BEGIN:VEVENT
DTSTAMP:20260420T191750Z
DTSTART;VALUE=DATE:20210128
SUMMARY:CAV 2021 Deadline
DESCRIPTION:33rd International Conference on Computer-Aided Verification
URL:http://www.wikicfp.com/cfp/servlet/event.showcfp?eventid=117288&copyo
 wnerid=162337
UID:cfp870330-D@wikicfp.com
END:VEVENT
BEGIN:VEVENT
DTSTAMP:20260420T191750Z
DTSTART;VALUE=DATE:20210419
SUMMARY:CAV 2021 Notification Due
DESCRIPTION:33rd International Conference on Computer-Aided Verification
URL:http://www.wikicfp.com/cfp/servlet/event.showcfp?eventid=117288&copyo
 wnerid=162337
UID:cfp870330-N@wikicfp.com
END:VEVENT
BEGIN:VEVENT
DTSTAMP:20260420T191750Z
DTSTART;VALUE=DATE:20210531
SUMMARY:CAV 2021 Final Version Due
DESCRIPTION:33rd International Conference on Computer-Aided Verification
URL:http://www.wikicfp.com/cfp/servlet/event.showcfp?eventid=117288&copyo
 wnerid=162337
UID:cfp870330-N@wikicfp.com
END:VEVENT
BEGIN:VEVENT
DTSTAMP:20260420T191750Z
DTSTART;VALUE=DATE:20210707
DTEND;VALUE=DATE:20210710
SUMMARY:ISVLSI 2021
DESCRIPTION:IEEE Computer Society Annual Symposium on VLSI
URL:http://www.wikicfp.com/cfp/servlet/event.showcfp?eventid=117339&copyo
 wnerid=162337
UID:cfp870329-E@wikicfp.com
END:VEVENT
BEGIN:VEVENT
DTSTAMP:20260420T191750Z
DTSTART;VALUE=DATE:20210221
SUMMARY:ISVLSI 2021 Deadline
DESCRIPTION:IEEE Computer Society Annual Symposium on VLSI
URL:http://www.wikicfp.com/cfp/servlet/event.showcfp?eventid=117339&copyo
 wnerid=162337
UID:cfp870329-D@wikicfp.com
END:VEVENT
BEGIN:VEVENT
DTSTAMP:20260420T191750Z
DTSTART;VALUE=DATE:20210404
SUMMARY:ISVLSI 2021 Notification Due
DESCRIPTION:IEEE Computer Society Annual Symposium on VLSI
URL:http://www.wikicfp.com/cfp/servlet/event.showcfp?eventid=117339&copyo
 wnerid=162337
UID:cfp870329-N@wikicfp.com
END:VEVENT
BEGIN:VEVENT
DTSTAMP:20260420T191750Z
DTSTART;VALUE=DATE:20210502
SUMMARY:ISVLSI 2021 Final Version Due
DESCRIPTION:IEEE Computer Society Annual Symposium on VLSI
URL:http://www.wikicfp.com/cfp/servlet/event.showcfp?eventid=117339&copyo
 wnerid=162337
UID:cfp870329-N@wikicfp.com
END:VEVENT
BEGIN:VEVENT
DTSTAMP:20260420T191750Z
DTSTART;VALUE=DATE:20211205
DTEND;VALUE=DATE:20211209
SUMMARY:HOST 2021
DESCRIPTION:IEEE International Symposium on Hardware Oriented Security an
 d Trust (HOST)
URL:http://www.wikicfp.com/cfp/servlet/event.showcfp?eventid=122813&copyo
 wnerid=162337
UID:cfp870328-E@wikicfp.com
END:VEVENT
BEGIN:VEVENT
DTSTAMP:20260420T191750Z
DTSTART;VALUE=DATE:20210325
SUMMARY:HOST 2021 Abstract Due
DESCRIPTION:IEEE International Symposium on Hardware Oriented Security an
 d Trust (HOST)
URL:http://www.wikicfp.com/cfp/servlet/event.showcfp?eventid=122813&copyo
 wnerid=162337
UID:cfp870328-A@wikicfp.com
END:VEVENT
BEGIN:VEVENT
DTSTAMP:20260420T191750Z
DTSTART;VALUE=DATE:20210401
SUMMARY:HOST 2021 Deadline
DESCRIPTION:IEEE International Symposium on Hardware Oriented Security an
 d Trust (HOST)
URL:http://www.wikicfp.com/cfp/servlet/event.showcfp?eventid=122813&copyo
 wnerid=162337
UID:cfp870328-D@wikicfp.com
END:VEVENT
BEGIN:VEVENT
DTSTAMP:20260420T191750Z
DTSTART;VALUE=DATE:20210527
SUMMARY:HOST 2021 Notification Due
DESCRIPTION:IEEE International Symposium on Hardware Oriented Security an
 d Trust (HOST)
URL:http://www.wikicfp.com/cfp/servlet/event.showcfp?eventid=122813&copyo
 wnerid=162337
UID:cfp870328-N@wikicfp.com
END:VEVENT
BEGIN:VEVENT
DTSTAMP:20260420T191750Z
DTSTART;VALUE=DATE:20210715
SUMMARY:HOST 2021 Final Version Due
DESCRIPTION:IEEE International Symposium on Hardware Oriented Security an
 d Trust (HOST)
URL:http://www.wikicfp.com/cfp/servlet/event.showcfp?eventid=122813&copyo
 wnerid=162337
UID:cfp870328-N@wikicfp.com
END:VEVENT
END:VCALENDAR
