BEGIN:VCALENDAR
PRODID:-//WikiCFP//YuSuifei6 1.0//EN
VERSION:2.0
CALSCALE:GREGORIAN
BEGIN:VEVENT
DTSTAMP:20260420T125612Z
DTSTART;VALUE=DATE:20200723
DTEND;VALUE=DATE:20200725
SUMMARY:APEF 2020
DESCRIPTION:2020 Asia-Pacific Conference on Economics and Finance (APEF 2
 020)
URL:http://www.wikicfp.com/cfp/servlet/event.showcfp?eventid=95225&copyow
 nerid=162291
UID:cfp830401-E@wikicfp.com
END:VEVENT
BEGIN:VEVENT
DTSTAMP:20260420T125612Z
DTSTART;VALUE=DATE:20200409
SUMMARY:APEF 2020 Deadline
DESCRIPTION:2020 Asia-Pacific Conference on Economics and Finance (APEF 2
 020)
URL:http://www.wikicfp.com/cfp/servlet/event.showcfp?eventid=95225&copyow
 nerid=162291
UID:cfp830401-D@wikicfp.com
END:VEVENT
BEGIN:VEVENT
DTSTAMP:20260420T125612Z
DTSTART;VALUE=DATE:20200423
SUMMARY:APEF 2020 Notification Due
DESCRIPTION:2020 Asia-Pacific Conference on Economics and Finance (APEF 2
 020)
URL:http://www.wikicfp.com/cfp/servlet/event.showcfp?eventid=95225&copyow
 nerid=162291
UID:cfp830401-N@wikicfp.com
END:VEVENT
BEGIN:VEVENT
DTSTAMP:20260420T125612Z
DTSTART;VALUE=DATE:20200413
DTEND;VALUE=DATE:20200415
SUMMARY:AMEF 2020
DESCRIPTION:6th International Conference on Applied Theory\, Macro and Em
 pirical Finance
URL:http://www.wikicfp.com/cfp/servlet/event.showcfp?eventid=98862&copyow
 nerid=162291
UID:cfp830403-E@wikicfp.com
END:VEVENT
BEGIN:VEVENT
DTSTAMP:20260420T125612Z
DTSTART;VALUE=DATE:20200214
SUMMARY:AMEF 2020 Abstract Due
DESCRIPTION:6th International Conference on Applied Theory\, Macro and Em
 pirical Finance
URL:http://www.wikicfp.com/cfp/servlet/event.showcfp?eventid=98862&copyow
 nerid=162291
UID:cfp830403-A@wikicfp.com
END:VEVENT
BEGIN:VEVENT
DTSTAMP:20260420T125612Z
DTSTART;VALUE=DATE:20200414
SUMMARY:AMEF 2020 Deadline
DESCRIPTION:6th International Conference on Applied Theory\, Macro and Em
 pirical Finance
URL:http://www.wikicfp.com/cfp/servlet/event.showcfp?eventid=98862&copyow
 nerid=162291
UID:cfp830403-D@wikicfp.com
END:VEVENT
BEGIN:VEVENT
DTSTAMP:20260420T125612Z
DTSTART;VALUE=DATE:20200415
SUMMARY:AMEF 2020 Notification Due
DESCRIPTION:6th International Conference on Applied Theory\, Macro and Em
 pirical Finance
URL:http://www.wikicfp.com/cfp/servlet/event.showcfp?eventid=98862&copyow
 nerid=162291
UID:cfp830403-N@wikicfp.com
END:VEVENT
BEGIN:VEVENT
DTSTAMP:20260420T125612Z
DTSTART;VALUE=DATE:20200618
DTEND;VALUE=DATE:20200620
SUMMARY:ICBF 2020
DESCRIPTION:2020 The 2nd UEH International Conference on Business and Fin
 ance
URL:http://www.wikicfp.com/cfp/servlet/event.showcfp?eventid=99105&copyow
 nerid=162291
UID:cfp830407-E@wikicfp.com
END:VEVENT
BEGIN:VEVENT
DTSTAMP:20260420T125612Z
DTSTART;VALUE=DATE:20200530
SUMMARY:ICBF 2020 Abstract Due
DESCRIPTION:2020 The 2nd UEH International Conference on Business and Fin
 ance
URL:http://www.wikicfp.com/cfp/servlet/event.showcfp?eventid=99105&copyow
 nerid=162291
UID:cfp830407-A@wikicfp.com
END:VEVENT
BEGIN:VEVENT
DTSTAMP:20260420T125612Z
DTSTART;VALUE=DATE:20200430
SUMMARY:ICBF 2020 Deadline
DESCRIPTION:2020 The 2nd UEH International Conference on Business and Fin
 ance
URL:http://www.wikicfp.com/cfp/servlet/event.showcfp?eventid=99105&copyow
 nerid=162291
UID:cfp830407-D@wikicfp.com
END:VEVENT
BEGIN:VEVENT
DTSTAMP:20260420T125612Z
DTSTART;VALUE=DATE:20200510
SUMMARY:ICBF 2020 Notification Due
DESCRIPTION:2020 The 2nd UEH International Conference on Business and Fin
 ance
URL:http://www.wikicfp.com/cfp/servlet/event.showcfp?eventid=99105&copyow
 nerid=162291
UID:cfp830407-N@wikicfp.com
END:VEVENT
BEGIN:VEVENT
DTSTAMP:20260420T125612Z
DTSTART;VALUE=DATE:20200605
DTEND;VALUE=DATE:20200608
SUMMARY:ICESM 2020
DESCRIPTION:2020 The 7th International Conference on Economics\, Society 
 and Management (ICESM 2020)
URL:http://www.wikicfp.com/cfp/servlet/event.showcfp?eventid=95201&copyow
 nerid=162291
UID:cfp830400-E@wikicfp.com
END:VEVENT
BEGIN:VEVENT
DTSTAMP:20260420T125612Z
DTSTART;VALUE=DATE:20200505
SUMMARY:ICESM 2020 Deadline
DESCRIPTION:2020 The 7th International Conference on Economics\, Society 
 and Management (ICESM 2020)
URL:http://www.wikicfp.com/cfp/servlet/event.showcfp?eventid=95201&copyow
 nerid=162291
UID:cfp830400-D@wikicfp.com
END:VEVENT
BEGIN:VEVENT
DTSTAMP:20260420T125612Z
DTSTART;VALUE=DATE:20200909
DTEND;VALUE=DATE:20200911
SUMMARY:ICSD  2020
DESCRIPTION: 8th International Conference on Sustainable Development\,9 -
  10 September ICSD 2020
URL:http://www.wikicfp.com/cfp/servlet/event.showcfp?eventid=57737&copyow
 nerid=162291
UID:cfp830404-E@wikicfp.com
END:VEVENT
BEGIN:VEVENT
DTSTAMP:20260420T125612Z
DTSTART;VALUE=DATE:20200510
SUMMARY:ICSD  2020 Deadline
DESCRIPTION: 8th International Conference on Sustainable Development\,9 -
  10 September ICSD 2020
URL:http://www.wikicfp.com/cfp/servlet/event.showcfp?eventid=57737&copyow
 nerid=162291
UID:cfp830404-D@wikicfp.com
END:VEVENT
BEGIN:VEVENT
DTSTAMP:20260420T125612Z
DTSTART;VALUE=DATE:20200915
DTEND;VALUE=DATE:20200918
SUMMARY:GECON 2020
DESCRIPTION:17h Intl Conf on Economics of Grids\, Clouds\, Systems and Se
 rvices
URL:http://www.wikicfp.com/cfp/servlet/event.showcfp?eventid=100342&copyo
 wnerid=162291
UID:cfp830409-E@wikicfp.com
END:VEVENT
BEGIN:VEVENT
DTSTAMP:20260420T125612Z
DTSTART;VALUE=DATE:20200518
SUMMARY:GECON 2020 Abstract Due
DESCRIPTION:17h Intl Conf on Economics of Grids\, Clouds\, Systems and Se
 rvices
URL:http://www.wikicfp.com/cfp/servlet/event.showcfp?eventid=100342&copyo
 wnerid=162291
UID:cfp830409-A@wikicfp.com
END:VEVENT
BEGIN:VEVENT
DTSTAMP:20260420T125612Z
DTSTART;VALUE=DATE:20200525
SUMMARY:GECON 2020 Deadline
DESCRIPTION:17h Intl Conf on Economics of Grids\, Clouds\, Systems and Se
 rvices
URL:http://www.wikicfp.com/cfp/servlet/event.showcfp?eventid=100342&copyo
 wnerid=162291
UID:cfp830409-D@wikicfp.com
END:VEVENT
BEGIN:VEVENT
DTSTAMP:20260420T125612Z
DTSTART;VALUE=DATE:20200629
SUMMARY:GECON 2020 Notification Due
DESCRIPTION:17h Intl Conf on Economics of Grids\, Clouds\, Systems and Se
 rvices
URL:http://www.wikicfp.com/cfp/servlet/event.showcfp?eventid=100342&copyo
 wnerid=162291
UID:cfp830409-N@wikicfp.com
END:VEVENT
BEGIN:VEVENT
DTSTAMP:20260420T125612Z
DTSTART;VALUE=DATE:20200720
SUMMARY:GECON 2020 Final Version Due
DESCRIPTION:17h Intl Conf on Economics of Grids\, Clouds\, Systems and Se
 rvices
URL:http://www.wikicfp.com/cfp/servlet/event.showcfp?eventid=100342&copyo
 wnerid=162291
UID:cfp830409-N@wikicfp.com
END:VEVENT
BEGIN:VEVENT
DTSTAMP:20260420T125612Z
DTSTART;VALUE=DATE:20201018
DTEND;VALUE=DATE:20201022
SUMMARY:MMBD 2020
DESCRIPTION:EI/SSCI-2020 International Conference on Modern Management ba
 sed on Big Data 
URL:http://www.wikicfp.com/cfp/servlet/event.showcfp?eventid=99313&copyow
 nerid=162291
UID:cfp830408-E@wikicfp.com
END:VEVENT
BEGIN:VEVENT
DTSTAMP:20260420T125612Z
DTSTART;VALUE=DATE:20200516
SUMMARY:MMBD 2020 Abstract Due
DESCRIPTION:EI/SSCI-2020 International Conference on Modern Management ba
 sed on Big Data 
URL:http://www.wikicfp.com/cfp/servlet/event.showcfp?eventid=99313&copyow
 nerid=162291
UID:cfp830408-A@wikicfp.com
END:VEVENT
BEGIN:VEVENT
DTSTAMP:20260420T125612Z
DTSTART;VALUE=DATE:20200531
SUMMARY:MMBD 2020 Deadline
DESCRIPTION:EI/SSCI-2020 International Conference on Modern Management ba
 sed on Big Data 
URL:http://www.wikicfp.com/cfp/servlet/event.showcfp?eventid=99313&copyow
 nerid=162291
UID:cfp830408-D@wikicfp.com
END:VEVENT
BEGIN:VEVENT
DTSTAMP:20260420T125612Z
DTSTART;VALUE=DATE:20200731
SUMMARY:MMBD 2020 Notification Due
DESCRIPTION:EI/SSCI-2020 International Conference on Modern Management ba
 sed on Big Data 
URL:http://www.wikicfp.com/cfp/servlet/event.showcfp?eventid=99313&copyow
 nerid=162291
UID:cfp830408-N@wikicfp.com
END:VEVENT
BEGIN:VEVENT
DTSTAMP:20260420T125612Z
DTSTART;VALUE=DATE:20200910
SUMMARY:MMBD 2020 Final Version Due
DESCRIPTION:EI/SSCI-2020 International Conference on Modern Management ba
 sed on Big Data 
URL:http://www.wikicfp.com/cfp/servlet/event.showcfp?eventid=99313&copyow
 nerid=162291
UID:cfp830408-N@wikicfp.com
END:VEVENT
BEGIN:VEVENT
DTSTAMP:20260420T125612Z
DTSTART;VALUE=DATE:20200824
DTEND;VALUE=DATE:20200827
SUMMARY:ICAEB 2020
DESCRIPTION:2020 4th International Conference on Applied Economics and Bu
 siness (ICAEB 2020)
URL:http://www.wikicfp.com/cfp/servlet/event.showcfp?eventid=96044&copyow
 nerid=162291
UID:cfp830402-E@wikicfp.com
END:VEVENT
BEGIN:VEVENT
DTSTAMP:20260420T125612Z
DTSTART;VALUE=DATE:20200705
SUMMARY:ICAEB 2020 Deadline
DESCRIPTION:2020 4th International Conference on Applied Economics and Bu
 siness (ICAEB 2020)
URL:http://www.wikicfp.com/cfp/servlet/event.showcfp?eventid=96044&copyow
 nerid=162291
UID:cfp830402-D@wikicfp.com
END:VEVENT
BEGIN:VEVENT
DTSTAMP:20260420T125612Z
DTSTART;VALUE=DATE:20201005
SUMMARY:REASER 2020 Deadline
DESCRIPTION:Call for Papers for the 20th Volume (issue 2/2020)  of the Re
 view of Applied Socio-Economic Research (June 2019)
URL:http://www.wikicfp.com/cfp/servlet/event.showcfp?eventid=61066&copyow
 nerid=162291
UID:cfp830406-D@wikicfp.com
END:VEVENT
BEGIN:VEVENT
DTSTAMP:20260420T125612Z
DTSTART;VALUE=DATE:20201030
SUMMARY:REASER 2020 Notification Due
DESCRIPTION:Call for Papers for the 20th Volume (issue 2/2020)  of the Re
 view of Applied Socio-Economic Research (June 2019)
URL:http://www.wikicfp.com/cfp/servlet/event.showcfp?eventid=61066&copyow
 nerid=162291
UID:cfp830406-N@wikicfp.com
END:VEVENT
BEGIN:VEVENT
DTSTAMP:20260420T125612Z
DTSTART;VALUE=DATE:20201115
SUMMARY:REASER 2020 Final Version Due
DESCRIPTION:Call for Papers for the 20th Volume (issue 2/2020)  of the Re
 view of Applied Socio-Economic Research (June 2019)
URL:http://www.wikicfp.com/cfp/servlet/event.showcfp?eventid=61066&copyow
 nerid=162291
UID:cfp830406-N@wikicfp.com
END:VEVENT
BEGIN:VEVENT
DTSTAMP:20260420T125612Z
DTSTART;VALUE=DATE:20221209
DTEND;VALUE=DATE:20221210
SUMMARY:ICEFS 2022
DESCRIPTION:ãWOSããScopusã2022 10th International Conference on Ec
 onomics\, Finance and Statistics
URL:http://www.wikicfp.com/cfp/servlet/event.showcfp?eventid=58503&copyow
 nerid=162291
UID:cfp830405-E@wikicfp.com
END:VEVENT
BEGIN:VEVENT
DTSTAMP:20260420T125612Z
DTSTART;VALUE=DATE:20221109
SUMMARY:ICEFS 2022 Deadline
DESCRIPTION:ãWOSããScopusã2022 10th International Conference on Ec
 onomics\, Finance and Statistics
URL:http://www.wikicfp.com/cfp/servlet/event.showcfp?eventid=58503&copyow
 nerid=162291
UID:cfp830405-D@wikicfp.com
END:VEVENT
BEGIN:VEVENT
DTSTAMP:20260420T125612Z
DTSTART;VALUE=DATE:20221130
SUMMARY:ICEFS 2022 Final Version Due
DESCRIPTION:ãWOSããScopusã2022 10th International Conference on Ec
 onomics\, Finance and Statistics
URL:http://www.wikicfp.com/cfp/servlet/event.showcfp?eventid=58503&copyow
 nerid=162291
UID:cfp830405-N@wikicfp.com
END:VEVENT
END:VCALENDAR
