BEGIN:VCALENDAR
PRODID:-//WikiCFP//LiuHDme 1.0//EN
VERSION:2.0
CALSCALE:GREGORIAN
BEGIN:VEVENT
DTSTAMP:20260420T224947Z
DTSTART;VALUE=DATE:20201019
DTEND;VALUE=DATE:20201024
SUMMARY:CIKM 2020
DESCRIPTION:29TH ACM INTERNATIONAL CONFERENCE ON INFORMATION AND KNOWLEDG
 E MANAGEMENT
URL:http://www.wikicfp.com/cfp/servlet/event.showcfp?eventid=96971&copyow
 nerid=161933
UID:cfp828472-E@wikicfp.com
END:VEVENT
BEGIN:VEVENT
DTSTAMP:20260420T224947Z
DTSTART;VALUE=DATE:20200424
SUMMARY:CIKM 2020 Abstract Due
DESCRIPTION:29TH ACM INTERNATIONAL CONFERENCE ON INFORMATION AND KNOWLEDG
 E MANAGEMENT
URL:http://www.wikicfp.com/cfp/servlet/event.showcfp?eventid=96971&copyow
 nerid=161933
UID:cfp828472-A@wikicfp.com
END:VEVENT
BEGIN:VEVENT
DTSTAMP:20260420T224947Z
DTSTART;VALUE=DATE:20200501
SUMMARY:CIKM 2020 Deadline
DESCRIPTION:29TH ACM INTERNATIONAL CONFERENCE ON INFORMATION AND KNOWLEDG
 E MANAGEMENT
URL:http://www.wikicfp.com/cfp/servlet/event.showcfp?eventid=96971&copyow
 nerid=161933
UID:cfp828472-D@wikicfp.com
END:VEVENT
BEGIN:VEVENT
DTSTAMP:20260420T224947Z
DTSTART;VALUE=DATE:20200703
SUMMARY:CIKM 2020 Notification Due
DESCRIPTION:29TH ACM INTERNATIONAL CONFERENCE ON INFORMATION AND KNOWLEDG
 E MANAGEMENT
URL:http://www.wikicfp.com/cfp/servlet/event.showcfp?eventid=96971&copyow
 nerid=161933
UID:cfp828472-N@wikicfp.com
END:VEVENT
BEGIN:VEVENT
DTSTAMP:20260420T224947Z
DTSTART;VALUE=DATE:20200814
SUMMARY:CIKM 2020 Final Version Due
DESCRIPTION:29TH ACM INTERNATIONAL CONFERENCE ON INFORMATION AND KNOWLEDG
 E MANAGEMENT
URL:http://www.wikicfp.com/cfp/servlet/event.showcfp?eventid=96971&copyow
 nerid=161933
UID:cfp828472-N@wikicfp.com
END:VEVENT
BEGIN:VEVENT
DTSTAMP:20260420T224947Z
DTSTART;VALUE=DATE:20201117
DTEND;VALUE=DATE:20201121
SUMMARY:ICDM 2020
DESCRIPTION:20th IEEE International Conference on Data Mining
URL:http://www.wikicfp.com/cfp/servlet/event.showcfp?eventid=98130&copyow
 nerid=161933
UID:cfp828471-E@wikicfp.com
END:VEVENT
BEGIN:VEVENT
DTSTAMP:20260420T224947Z
DTSTART;VALUE=DATE:20200602
SUMMARY:ICDM 2020 Deadline
DESCRIPTION:20th IEEE International Conference on Data Mining
URL:http://www.wikicfp.com/cfp/servlet/event.showcfp?eventid=98130&copyow
 nerid=161933
UID:cfp828471-D@wikicfp.com
END:VEVENT
BEGIN:VEVENT
DTSTAMP:20260420T224947Z
DTSTART;VALUE=DATE:20200820
SUMMARY:ICDM 2020 Notification Due
DESCRIPTION:20th IEEE International Conference on Data Mining
URL:http://www.wikicfp.com/cfp/servlet/event.showcfp?eventid=98130&copyow
 nerid=161933
UID:cfp828471-N@wikicfp.com
END:VEVENT
BEGIN:VEVENT
DTSTAMP:20260420T224947Z
DTSTART;VALUE=DATE:20200924
SUMMARY:ICDM 2020 Final Version Due
DESCRIPTION:20th IEEE International Conference on Data Mining
URL:http://www.wikicfp.com/cfp/servlet/event.showcfp?eventid=98130&copyow
 nerid=161933
UID:cfp828471-N@wikicfp.com
END:VEVENT
BEGIN:VEVENT
DTSTAMP:20260420T224947Z
DTSTART;VALUE=DATE:20211025
DTEND;VALUE=DATE:20211029
SUMMARY:DASC 2021
DESCRIPTION:The 19th IEEE International Conference on Dependable\, Autono
 mic & Secure Computing
URL:http://www.wikicfp.com/cfp/servlet/event.showcfp?eventid=125585&copyo
 wnerid=161933
UID:cfp873875-E@wikicfp.com
END:VEVENT
BEGIN:VEVENT
DTSTAMP:20260420T224947Z
DTSTART;VALUE=DATE:20210715
SUMMARY:DASC 2021 Deadline
DESCRIPTION:The 19th IEEE International Conference on Dependable\, Autono
 mic & Secure Computing
URL:http://www.wikicfp.com/cfp/servlet/event.showcfp?eventid=125585&copyo
 wnerid=161933
UID:cfp873875-D@wikicfp.com
END:VEVENT
BEGIN:VEVENT
DTSTAMP:20260420T224947Z
DTSTART;VALUE=DATE:20210801
SUMMARY:DASC 2021 Notification Due
DESCRIPTION:The 19th IEEE International Conference on Dependable\, Autono
 mic & Secure Computing
URL:http://www.wikicfp.com/cfp/servlet/event.showcfp?eventid=125585&copyo
 wnerid=161933
UID:cfp873875-N@wikicfp.com
END:VEVENT
BEGIN:VEVENT
DTSTAMP:20260420T224947Z
DTSTART;VALUE=DATE:20220912
DTEND;VALUE=DATE:20220916
SUMMARY:DASC 2022
DESCRIPTION:The 20th IEEE International Conference on Dependable\, Autono
 mic & Secure Computing (DASC 2022)
URL:http://www.wikicfp.com/cfp/servlet/event.showcfp?eventid=153958&copyo
 wnerid=161933
UID:cfp918545-E@wikicfp.com
END:VEVENT
BEGIN:VEVENT
DTSTAMP:20260420T224947Z
DTSTART;VALUE=DATE:20220601
SUMMARY:DASC 2022 Deadline
DESCRIPTION:The 20th IEEE International Conference on Dependable\, Autono
 mic & Secure Computing (DASC 2022)
URL:http://www.wikicfp.com/cfp/servlet/event.showcfp?eventid=153958&copyo
 wnerid=161933
UID:cfp918545-D@wikicfp.com
END:VEVENT
BEGIN:VEVENT
DTSTAMP:20260420T224947Z
DTSTART;VALUE=DATE:20220701
SUMMARY:DASC 2022 Notification Due
DESCRIPTION:The 20th IEEE International Conference on Dependable\, Autono
 mic & Secure Computing (DASC 2022)
URL:http://www.wikicfp.com/cfp/servlet/event.showcfp?eventid=153958&copyo
 wnerid=161933
UID:cfp918545-N@wikicfp.com
END:VEVENT
BEGIN:VEVENT
DTSTAMP:20260420T224947Z
DTSTART;VALUE=DATE:20220715
SUMMARY:DASC 2022 Final Version Due
DESCRIPTION:The 20th IEEE International Conference on Dependable\, Autono
 mic & Secure Computing (DASC 2022)
URL:http://www.wikicfp.com/cfp/servlet/event.showcfp?eventid=153958&copyo
 wnerid=161933
UID:cfp918545-N@wikicfp.com
END:VEVENT
END:VCALENDAR
