BEGIN:VCALENDAR
PRODID:-//WikiCFP//bputz 1.0//EN
VERSION:2.0
CALSCALE:GREGORIAN
BEGIN:VEVENT
DTSTAMP:20260424T200930Z
DTSTART;VALUE=DATE:20200625
DTEND;VALUE=DATE:20200628
SUMMARY:DBSec 2020
DESCRIPTION:34th Annual IFIP WG 11.3 Conference on Data and  Applications
  Security and Privacy
URL:http://www.wikicfp.com/cfp/servlet/event.showcfp?eventid=96663&copyow
 nerid=161841
UID:cfp827916-E@wikicfp.com
END:VEVENT
BEGIN:VEVENT
DTSTAMP:20260424T200930Z
DTSTART;VALUE=DATE:20200229
SUMMARY:DBSec 2020 Deadline
DESCRIPTION:34th Annual IFIP WG 11.3 Conference on Data and  Applications
  Security and Privacy
URL:http://www.wikicfp.com/cfp/servlet/event.showcfp?eventid=96663&copyow
 nerid=161841
UID:cfp827916-D@wikicfp.com
END:VEVENT
BEGIN:VEVENT
DTSTAMP:20260424T200930Z
DTSTART;VALUE=DATE:20200410
SUMMARY:DBSec 2020 Notification Due
DESCRIPTION:34th Annual IFIP WG 11.3 Conference on Data and  Applications
  Security and Privacy
URL:http://www.wikicfp.com/cfp/servlet/event.showcfp?eventid=96663&copyow
 nerid=161841
UID:cfp827916-N@wikicfp.com
END:VEVENT
BEGIN:VEVENT
DTSTAMP:20260424T200930Z
DTSTART;VALUE=DATE:20200420
SUMMARY:DBSec 2020 Final Version Due
DESCRIPTION:34th Annual IFIP WG 11.3 Conference on Data and  Applications
  Security and Privacy
URL:http://www.wikicfp.com/cfp/servlet/event.showcfp?eventid=96663&copyow
 nerid=161841
UID:cfp827916-N@wikicfp.com
END:VEVENT
END:VCALENDAR
