BEGIN:VCALENDAR
PRODID:-//WikiCFP//kkondru 1.0//EN
VERSION:2.0
CALSCALE:GREGORIAN
BEGIN:VEVENT
DTSTAMP:20260420T074051Z
DTSTART;VALUE=DATE:20240729
DTEND;VALUE=DATE:20240801
SUMMARY:IEEE COINS  2024
DESCRIPTION:IEEE COINS 2024 - London\, UK - July 29-31 - Hybrid (In-Perso
 n & Virtual)
URL:http://www.wikicfp.com/cfp/servlet/event.showcfp?eventid=93624&copyow
 nerid=161801
UID:cfp827732-E@wikicfp.com
END:VEVENT
BEGIN:VEVENT
DTSTAMP:20260420T074051Z
DTSTART;VALUE=DATE:20240331
SUMMARY:IEEE COINS  2024 Deadline
DESCRIPTION:IEEE COINS 2024 - London\, UK - July 29-31 - Hybrid (In-Perso
 n & Virtual)
URL:http://www.wikicfp.com/cfp/servlet/event.showcfp?eventid=93624&copyow
 nerid=161801
UID:cfp827732-D@wikicfp.com
END:VEVENT
END:VCALENDAR
