BEGIN:VCALENDAR
PRODID:-//WikiCFP//fleker 1.0//EN
VERSION:2.0
CALSCALE:GREGORIAN
BEGIN:VEVENT
DTSTAMP:20260426T001801Z
DTSTART;VALUE=DATE:20201104
DTEND;VALUE=DATE:20201107
SUMMARY:OSDI 2020
DESCRIPTION:USENIX Symposium on Operating Systems Design and Implementati
 on
URL:http://www.wikicfp.com/cfp/servlet/event.showcfp?eventid=97417&copyow
 nerid=161694
UID:cfp826715-E@wikicfp.com
END:VEVENT
BEGIN:VEVENT
DTSTAMP:20260426T001801Z
DTSTART;VALUE=DATE:20200505
SUMMARY:OSDI 2020 Abstract Due
DESCRIPTION:USENIX Symposium on Operating Systems Design and Implementati
 on
URL:http://www.wikicfp.com/cfp/servlet/event.showcfp?eventid=97417&copyow
 nerid=161694
UID:cfp826715-A@wikicfp.com
END:VEVENT
BEGIN:VEVENT
DTSTAMP:20260426T001801Z
DTSTART;VALUE=DATE:20200512
SUMMARY:OSDI 2020 Deadline
DESCRIPTION:USENIX Symposium on Operating Systems Design and Implementati
 on
URL:http://www.wikicfp.com/cfp/servlet/event.showcfp?eventid=97417&copyow
 nerid=161694
UID:cfp826715-D@wikicfp.com
END:VEVENT
BEGIN:VEVENT
DTSTAMP:20260426T001801Z
DTSTART;VALUE=DATE:20200804
SUMMARY:OSDI 2020 Notification Due
DESCRIPTION:USENIX Symposium on Operating Systems Design and Implementati
 on
URL:http://www.wikicfp.com/cfp/servlet/event.showcfp?eventid=97417&copyow
 nerid=161694
UID:cfp826715-N@wikicfp.com
END:VEVENT
BEGIN:VEVENT
DTSTAMP:20260426T001801Z
DTSTART;VALUE=DATE:20201001
SUMMARY:OSDI 2020 Final Version Due
DESCRIPTION:USENIX Symposium on Operating Systems Design and Implementati
 on
URL:http://www.wikicfp.com/cfp/servlet/event.showcfp?eventid=97417&copyow
 nerid=161694
UID:cfp826715-N@wikicfp.com
END:VEVENT
BEGIN:VEVENT
DTSTAMP:20260426T001801Z
DTSTART;VALUE=DATE:20201210
DTEND;VALUE=DATE:20201213
SUMMARY:IEEE-CC 2020
DESCRIPTION:First IEEE International Conference on Conversational Computi
 ng
URL:http://www.wikicfp.com/cfp/servlet/event.showcfp?eventid=98234&copyow
 nerid=161694
UID:cfp826714-E@wikicfp.com
END:VEVENT
BEGIN:VEVENT
DTSTAMP:20260426T001801Z
DTSTART;VALUE=DATE:20201015
SUMMARY:IEEE-CC 2020 Deadline
DESCRIPTION:First IEEE International Conference on Conversational Computi
 ng
URL:http://www.wikicfp.com/cfp/servlet/event.showcfp?eventid=98234&copyow
 nerid=161694
UID:cfp826714-D@wikicfp.com
END:VEVENT
BEGIN:VEVENT
DTSTAMP:20260426T001801Z
DTSTART;VALUE=DATE:20201108
SUMMARY:IEEE-CC 2020 Notification Due
DESCRIPTION:First IEEE International Conference on Conversational Computi
 ng
URL:http://www.wikicfp.com/cfp/servlet/event.showcfp?eventid=98234&copyow
 nerid=161694
UID:cfp826714-N@wikicfp.com
END:VEVENT
BEGIN:VEVENT
DTSTAMP:20260426T001801Z
DTSTART;VALUE=DATE:20201125
SUMMARY:IEEE-CC 2020 Final Version Due
DESCRIPTION:First IEEE International Conference on Conversational Computi
 ng
URL:http://www.wikicfp.com/cfp/servlet/event.showcfp?eventid=98234&copyow
 nerid=161694
UID:cfp826714-N@wikicfp.com
END:VEVENT
END:VCALENDAR
