BEGIN:VCALENDAR
PRODID:-//WikiCFP//slazaar 1.0//EN
VERSION:2.0
CALSCALE:GREGORIAN
BEGIN:VEVENT
DTSTAMP:20260423T194809Z
DTSTART;VALUE=DATE:20200420
DTEND;VALUE=DATE:20200422
SUMMARY:SMM 2020
DESCRIPTION:International Conference on CyberSecurity and recent trends i
 n Mathematical Modeling
URL:http://www.wikicfp.com/cfp/servlet/event.showcfp?eventid=99275&copyow
 nerid=161401
UID:cfp825448-E@wikicfp.com
END:VEVENT
BEGIN:VEVENT
DTSTAMP:20260423T194809Z
DTSTART;VALUE=DATE:20200229
SUMMARY:SMM 2020 Deadline
DESCRIPTION:International Conference on CyberSecurity and recent trends i
 n Mathematical Modeling
URL:http://www.wikicfp.com/cfp/servlet/event.showcfp?eventid=99275&copyow
 nerid=161401
UID:cfp825448-D@wikicfp.com
END:VEVENT
BEGIN:VEVENT
DTSTAMP:20260423T194809Z
DTSTART;VALUE=DATE:20200315
SUMMARY:SMM 2020 Notification Due
DESCRIPTION:International Conference on CyberSecurity and recent trends i
 n Mathematical Modeling
URL:http://www.wikicfp.com/cfp/servlet/event.showcfp?eventid=99275&copyow
 nerid=161401
UID:cfp825448-N@wikicfp.com
END:VEVENT
BEGIN:VEVENT
DTSTAMP:20260423T194809Z
DTSTART;VALUE=DATE:20200401
SUMMARY:SMM 2020 Final Version Due
DESCRIPTION:International Conference on CyberSecurity and recent trends i
 n Mathematical Modeling
URL:http://www.wikicfp.com/cfp/servlet/event.showcfp?eventid=99275&copyow
 nerid=161401
UID:cfp825448-N@wikicfp.com
END:VEVENT
END:VCALENDAR
