BEGIN:VCALENDAR
PRODID:-//WikiCFP//lkstrand 1.0//EN
VERSION:2.0
CALSCALE:GREGORIAN
BEGIN:VEVENT
DTSTAMP:20260423T000055Z
DTSTART;VALUE=DATE:20110508
DTEND;VALUE=DATE:20110512
SUMMARY:ICT 2011
DESCRIPTION:18th International Conference on Telecommunications 2011
URL:http://www.wikicfp.com/cfp/servlet/event.showcfp?eventid=11166&copyow
 nerid=16115
UID:cfp110274-E@wikicfp.com
END:VEVENT
BEGIN:VEVENT
DTSTAMP:20260423T000055Z
DTSTART;VALUE=DATE:20101101
SUMMARY:ICT 2011 Deadline
DESCRIPTION:18th International Conference on Telecommunications 2011
URL:http://www.wikicfp.com/cfp/servlet/event.showcfp?eventid=11166&copyow
 nerid=16115
UID:cfp110274-D@wikicfp.com
END:VEVENT
BEGIN:VEVENT
DTSTAMP:20260423T000055Z
DTSTART;VALUE=DATE:20110522
DTEND;VALUE=DATE:20110526
SUMMARY:S&P 2011
DESCRIPTION:IEEE Symposium on Security and Privacy
URL:http://www.wikicfp.com/cfp/servlet/event.showcfp?eventid=10300&copyow
 nerid=16115
UID:cfp110279-E@wikicfp.com
END:VEVENT
BEGIN:VEVENT
DTSTAMP:20260423T000055Z
DTSTART;VALUE=DATE:20101119
SUMMARY:S&P 2011 Deadline
DESCRIPTION:IEEE Symposium on Security and Privacy
URL:http://www.wikicfp.com/cfp/servlet/event.showcfp?eventid=10300&copyow
 nerid=16115
UID:cfp110279-D@wikicfp.com
END:VEVENT
BEGIN:VEVENT
DTSTAMP:20260423T000055Z
DTSTART;VALUE=DATE:20110131
SUMMARY:S&P 2011 Notification Due
DESCRIPTION:IEEE Symposium on Security and Privacy
URL:http://www.wikicfp.com/cfp/servlet/event.showcfp?eventid=10300&copyow
 nerid=16115
UID:cfp110279-N@wikicfp.com
END:VEVENT
BEGIN:VEVENT
DTSTAMP:20260423T000055Z
DTSTART;VALUE=DATE:20110304
SUMMARY:S&P 2011 Final Version Due
DESCRIPTION:IEEE Symposium on Security and Privacy
URL:http://www.wikicfp.com/cfp/servlet/event.showcfp?eventid=10300&copyow
 nerid=16115
UID:cfp110279-N@wikicfp.com
END:VEVENT
BEGIN:VEVENT
DTSTAMP:20260423T000055Z
DTSTART;VALUE=DATE:20110627
DTEND;VALUE=DATE:20110630
SUMMARY:SSIRI 2011
DESCRIPTION:International Conference on Secure Software Integration and R
 eliability Improvement
URL:http://www.wikicfp.com/cfp/servlet/event.showcfp?eventid=11076&copyow
 nerid=16115
UID:cfp110281-E@wikicfp.com
END:VEVENT
BEGIN:VEVENT
DTSTAMP:20260423T000055Z
DTSTART;VALUE=DATE:20110115
SUMMARY:SSIRI 2011 Deadline
DESCRIPTION:International Conference on Secure Software Integration and R
 eliability Improvement
URL:http://www.wikicfp.com/cfp/servlet/event.showcfp?eventid=11076&copyow
 nerid=16115
UID:cfp110281-D@wikicfp.com
END:VEVENT
BEGIN:VEVENT
DTSTAMP:20260423T000055Z
DTSTART;VALUE=DATE:20110310
SUMMARY:SSIRI 2011 Notification Due
DESCRIPTION:International Conference on Secure Software Integration and R
 eliability Improvement
URL:http://www.wikicfp.com/cfp/servlet/event.showcfp?eventid=11076&copyow
 nerid=16115
UID:cfp110281-N@wikicfp.com
END:VEVENT
BEGIN:VEVENT
DTSTAMP:20260423T000055Z
DTSTART;VALUE=DATE:20110401
SUMMARY:SSIRI 2011 Final Version Due
DESCRIPTION:International Conference on Secure Software Integration and R
 eliability Improvement
URL:http://www.wikicfp.com/cfp/servlet/event.showcfp?eventid=11076&copyow
 nerid=16115
UID:cfp110281-N@wikicfp.com
END:VEVENT
BEGIN:VEVENT
DTSTAMP:20260423T000055Z
DTSTART;VALUE=DATE:20110326
DTEND;VALUE=DATE:20110328
SUMMARY:ISAC 2011
DESCRIPTION:International Symposia in Advance Computing
URL:http://www.wikicfp.com/cfp/servlet/event.showcfp?eventid=10656&copyow
 nerid=16115
UID:cfp110276-E@wikicfp.com
END:VEVENT
BEGIN:VEVENT
DTSTAMP:20260423T000055Z
DTSTART;VALUE=DATE:20110131
SUMMARY:ISAC 2011 Deadline
DESCRIPTION:International Symposia in Advance Computing
URL:http://www.wikicfp.com/cfp/servlet/event.showcfp?eventid=10656&copyow
 nerid=16115
UID:cfp110276-D@wikicfp.com
END:VEVENT
BEGIN:VEVENT
DTSTAMP:20260423T000055Z
DTSTART;VALUE=DATE:20110215
SUMMARY:ISAC 2011 Notification Due
DESCRIPTION:International Symposia in Advance Computing
URL:http://www.wikicfp.com/cfp/servlet/event.showcfp?eventid=10656&copyow
 nerid=16115
UID:cfp110276-N@wikicfp.com
END:VEVENT
BEGIN:VEVENT
DTSTAMP:20260423T000055Z
DTSTART;VALUE=DATE:20110305
SUMMARY:ISAC 2011 Final Version Due
DESCRIPTION:International Symposia in Advance Computing
URL:http://www.wikicfp.com/cfp/servlet/event.showcfp?eventid=10656&copyow
 nerid=16115
UID:cfp110276-N@wikicfp.com
END:VEVENT
BEGIN:VEVENT
DTSTAMP:20260423T000055Z
DTSTART;VALUE=DATE:20110718
DTEND;VALUE=DATE:20110722
SUMMARY:SECRYPT 2011
DESCRIPTION:International Conference on Security and Cryptography (SECRYP
 T)
URL:http://www.wikicfp.com/cfp/servlet/event.showcfp?eventid=11282&copyow
 nerid=16115
UID:cfp110282-E@wikicfp.com
END:VEVENT
BEGIN:VEVENT
DTSTAMP:20260423T000055Z
DTSTART;VALUE=DATE:20110203
SUMMARY:SECRYPT 2011 Deadline
DESCRIPTION:International Conference on Security and Cryptography (SECRYP
 T)
URL:http://www.wikicfp.com/cfp/servlet/event.showcfp?eventid=11282&copyow
 nerid=16115
UID:cfp110282-D@wikicfp.com
END:VEVENT
BEGIN:VEVENT
DTSTAMP:20260423T000055Z
DTSTART;VALUE=DATE:20110416
SUMMARY:SECRYPT 2011 Notification Due
DESCRIPTION:International Conference on Security and Cryptography (SECRYP
 T)
URL:http://www.wikicfp.com/cfp/servlet/event.showcfp?eventid=11282&copyow
 nerid=16115
UID:cfp110282-N@wikicfp.com
END:VEVENT
BEGIN:VEVENT
DTSTAMP:20260423T000055Z
DTSTART;VALUE=DATE:20110505
SUMMARY:SECRYPT 2011 Final Version Due
DESCRIPTION:International Conference on Security and Cryptography (SECRYP
 T)
URL:http://www.wikicfp.com/cfp/servlet/event.showcfp?eventid=11282&copyow
 nerid=16115
UID:cfp110282-N@wikicfp.com
END:VEVENT
BEGIN:VEVENT
DTSTAMP:20260423T000055Z
DTSTART;VALUE=DATE:20110718
DTEND;VALUE=DATE:20110722
SUMMARY:ICETE 2011
DESCRIPTION:International Joint Conference on e-Business and Telecommunic
 ations(ICETE 2011)
URL:http://www.wikicfp.com/cfp/servlet/event.showcfp?eventid=11285&copyow
 nerid=16115
UID:cfp110275-E@wikicfp.com
END:VEVENT
BEGIN:VEVENT
DTSTAMP:20260423T000055Z
DTSTART;VALUE=DATE:20110203
SUMMARY:ICETE 2011 Deadline
DESCRIPTION:International Joint Conference on e-Business and Telecommunic
 ations(ICETE 2011)
URL:http://www.wikicfp.com/cfp/servlet/event.showcfp?eventid=11285&copyow
 nerid=16115
UID:cfp110275-D@wikicfp.com
END:VEVENT
BEGIN:VEVENT
DTSTAMP:20260423T000055Z
DTSTART;VALUE=DATE:20110416
SUMMARY:ICETE 2011 Notification Due
DESCRIPTION:International Joint Conference on e-Business and Telecommunic
 ations(ICETE 2011)
URL:http://www.wikicfp.com/cfp/servlet/event.showcfp?eventid=11285&copyow
 nerid=16115
UID:cfp110275-N@wikicfp.com
END:VEVENT
BEGIN:VEVENT
DTSTAMP:20260423T000055Z
DTSTART;VALUE=DATE:20110505
SUMMARY:ICETE 2011 Final Version Due
DESCRIPTION:International Joint Conference on e-Business and Telecommunic
 ations(ICETE 2011)
URL:http://www.wikicfp.com/cfp/servlet/event.showcfp?eventid=11285&copyow
 nerid=16115
UID:cfp110275-N@wikicfp.com
END:VEVENT
BEGIN:VEVENT
DTSTAMP:20260423T000055Z
DTSTART;VALUE=DATE:20110621
DTEND;VALUE=DATE:20110624
SUMMARY:DICTAP 2011
DESCRIPTION:The International Conference on Digital Information and Commu
 nication Technology and its Applications 
URL:http://www.wikicfp.com/cfp/servlet/event.showcfp?eventid=11088&copyow
 nerid=16115
UID:cfp110283-E@wikicfp.com
END:VEVENT
BEGIN:VEVENT
DTSTAMP:20260423T000055Z
DTSTART;VALUE=DATE:20110220
SUMMARY:DICTAP 2011 Deadline
DESCRIPTION:The International Conference on Digital Information and Commu
 nication Technology and its Applications 
URL:http://www.wikicfp.com/cfp/servlet/event.showcfp?eventid=11088&copyow
 nerid=16115
UID:cfp110283-D@wikicfp.com
END:VEVENT
BEGIN:VEVENT
DTSTAMP:20260423T000055Z
DTSTART;VALUE=DATE:20110401
SUMMARY:DICTAP 2011 Notification Due
DESCRIPTION:The International Conference on Digital Information and Commu
 nication Technology and its Applications 
URL:http://www.wikicfp.com/cfp/servlet/event.showcfp?eventid=11088&copyow
 nerid=16115
UID:cfp110283-N@wikicfp.com
END:VEVENT
BEGIN:VEVENT
DTSTAMP:20260423T000055Z
DTSTART;VALUE=DATE:20110522
DTEND;VALUE=DATE:20110525
SUMMARY:ICICS 2011
DESCRIPTION:The 2nd International Conference on Information and Communica
 tion Systems
URL:http://www.wikicfp.com/cfp/servlet/event.showcfp?eventid=11187&copyow
 nerid=16115
UID:cfp110278-E@wikicfp.com
END:VEVENT
BEGIN:VEVENT
DTSTAMP:20260423T000055Z
DTSTART;VALUE=DATE:20110315
SUMMARY:ICICS 2011 Deadline
DESCRIPTION:The 2nd International Conference on Information and Communica
 tion Systems
URL:http://www.wikicfp.com/cfp/servlet/event.showcfp?eventid=11187&copyow
 nerid=16115
UID:cfp110278-D@wikicfp.com
END:VEVENT
BEGIN:VEVENT
DTSTAMP:20260423T000055Z
DTSTART;VALUE=DATE:20110401
SUMMARY:ICICS 2011 Notification Due
DESCRIPTION:The 2nd International Conference on Information and Communica
 tion Systems
URL:http://www.wikicfp.com/cfp/servlet/event.showcfp?eventid=11187&copyow
 nerid=16115
UID:cfp110278-N@wikicfp.com
END:VEVENT
BEGIN:VEVENT
DTSTAMP:20260423T000055Z
DTSTART;VALUE=DATE:20110401
SUMMARY:ICICS 2011 Final Version Due
DESCRIPTION:The 2nd International Conference on Information and Communica
 tion Systems
URL:http://www.wikicfp.com/cfp/servlet/event.showcfp?eventid=11187&copyow
 nerid=16115
UID:cfp110278-N@wikicfp.com
END:VEVENT
BEGIN:VEVENT
DTSTAMP:20260423T000055Z
DTSTART;VALUE=DATE:20111114
DTEND;VALUE=DATE:20111117
SUMMARY:ICIEIS 2011
DESCRIPTION:The International Conference on Informatics Engineering & Inf
 ormation Science
URL:http://www.wikicfp.com/cfp/servlet/event.showcfp?eventid=11259&copyow
 nerid=16115
UID:cfp110277-E@wikicfp.com
END:VEVENT
BEGIN:VEVENT
DTSTAMP:20260423T000055Z
DTSTART;VALUE=DATE:20110801
SUMMARY:ICIEIS 2011 Deadline
DESCRIPTION:The International Conference on Informatics Engineering & Inf
 ormation Science
URL:http://www.wikicfp.com/cfp/servlet/event.showcfp?eventid=11259&copyow
 nerid=16115
UID:cfp110277-D@wikicfp.com
END:VEVENT
BEGIN:VEVENT
DTSTAMP:20260423T000055Z
DTSTART;VALUE=DATE:20110820
SUMMARY:ICIEIS 2011 Notification Due
DESCRIPTION:The International Conference on Informatics Engineering & Inf
 ormation Science
URL:http://www.wikicfp.com/cfp/servlet/event.showcfp?eventid=11259&copyow
 nerid=16115
UID:cfp110277-N@wikicfp.com
END:VEVENT
BEGIN:VEVENT
DTSTAMP:20260423T000055Z
DTSTART;VALUE=DATE:20110830
SUMMARY:ICIEIS 2011 Final Version Due
DESCRIPTION:The International Conference on Informatics Engineering & Inf
 ormation Science
URL:http://www.wikicfp.com/cfp/servlet/event.showcfp?eventid=11259&copyow
 nerid=16115
UID:cfp110277-N@wikicfp.com
END:VEVENT
END:VCALENDAR
