BEGIN:VCALENDAR
PRODID:-//WikiCFP//mediterranehack 1.0//EN
VERSION:2.0
CALSCALE:GREGORIAN
BEGIN:VEVENT
DTSTAMP:20260423T194804Z
DTSTART;VALUE=DATE:20200905
DTEND;VALUE=DATE:20200906
SUMMARY:Mediterranehack 2020
DESCRIPTION:Mediterranehack: The new great Cybersecurity event in Souther
 n Italy
URL:http://www.wikicfp.com/cfp/servlet/event.showcfp?eventid=98808&copyow
 nerid=161110
UID:cfp824075-E@wikicfp.com
END:VEVENT
BEGIN:VEVENT
DTSTAMP:20260423T194804Z
DTSTART;VALUE=DATE:20200320
SUMMARY:Mediterranehack 2020 Deadline
DESCRIPTION:Mediterranehack: The new great Cybersecurity event in Souther
 n Italy
URL:http://www.wikicfp.com/cfp/servlet/event.showcfp?eventid=98808&copyow
 nerid=161110
UID:cfp824075-D@wikicfp.com
END:VEVENT
END:VCALENDAR
