BEGIN:VCALENDAR
PRODID:-//WikiCFP//lamiaPoly 1.0//EN
VERSION:2.0
CALSCALE:GREGORIAN
BEGIN:VEVENT
DTSTAMP:20260420T223440Z
DTSTART;VALUE=DATE:20200921
DTEND;VALUE=DATE:20200924
SUMMARY:ai4i 2020
DESCRIPTION:Artificial Intelligence for Industries
URL:http://www.wikicfp.com/cfp/servlet/event.showcfp?eventid=98228&copyow
 nerid=160887
UID:cfp823023-E@wikicfp.com
END:VEVENT
BEGIN:VEVENT
DTSTAMP:20260420T223440Z
DTSTART;VALUE=DATE:20200615
SUMMARY:ai4i 2020 Deadline
DESCRIPTION:Artificial Intelligence for Industries
URL:http://www.wikicfp.com/cfp/servlet/event.showcfp?eventid=98228&copyow
 nerid=160887
UID:cfp823023-D@wikicfp.com
END:VEVENT
BEGIN:VEVENT
DTSTAMP:20260420T223440Z
DTSTART;VALUE=DATE:20200715
SUMMARY:ai4i 2020 Notification Due
DESCRIPTION:Artificial Intelligence for Industries
URL:http://www.wikicfp.com/cfp/servlet/event.showcfp?eventid=98228&copyow
 nerid=160887
UID:cfp823023-N@wikicfp.com
END:VEVENT
BEGIN:VEVENT
DTSTAMP:20260420T223440Z
DTSTART;VALUE=DATE:20200731
SUMMARY:ai4i 2020 Final Version Due
DESCRIPTION:Artificial Intelligence for Industries
URL:http://www.wikicfp.com/cfp/servlet/event.showcfp?eventid=98228&copyow
 nerid=160887
UID:cfp823023-N@wikicfp.com
END:VEVENT
BEGIN:VEVENT
DTSTAMP:20260420T223440Z
DTSTART;VALUE=DATE:20200921
DTEND;VALUE=DATE:20200924
SUMMARY:TransAI 2020
DESCRIPTION:Transdisciplinary AI
URL:http://www.wikicfp.com/cfp/servlet/event.showcfp?eventid=98230&copyow
 nerid=160887
UID:cfp823024-E@wikicfp.com
END:VEVENT
BEGIN:VEVENT
DTSTAMP:20260420T223440Z
DTSTART;VALUE=DATE:20200615
SUMMARY:TransAI 2020 Deadline
DESCRIPTION:Transdisciplinary AI
URL:http://www.wikicfp.com/cfp/servlet/event.showcfp?eventid=98230&copyow
 nerid=160887
UID:cfp823024-D@wikicfp.com
END:VEVENT
BEGIN:VEVENT
DTSTAMP:20260420T223440Z
DTSTART;VALUE=DATE:20200715
SUMMARY:TransAI 2020 Notification Due
DESCRIPTION:Transdisciplinary AI
URL:http://www.wikicfp.com/cfp/servlet/event.showcfp?eventid=98230&copyow
 nerid=160887
UID:cfp823024-N@wikicfp.com
END:VEVENT
BEGIN:VEVENT
DTSTAMP:20260420T223440Z
DTSTART;VALUE=DATE:20200815
SUMMARY:TransAI 2020 Final Version Due
DESCRIPTION:Transdisciplinary AI
URL:http://www.wikicfp.com/cfp/servlet/event.showcfp?eventid=98230&copyow
 nerid=160887
UID:cfp823024-N@wikicfp.com
END:VEVENT
END:VCALENDAR
