BEGIN:VCALENDAR
PRODID:-//WikiCFP//ConBoy 1.0//EN
VERSION:2.0
CALSCALE:GREGORIAN
BEGIN:VEVENT
DTSTAMP:20260420T221851Z
DTSTART;VALUE=DATE:20201009
DTEND;VALUE=DATE:20201012
SUMMARY:IEEE REPE--Ei Compendex\, Scopus 2020
DESCRIPTION:2020 IEEE 3rd International Conference on Renewable Energy an
 d Power Engineering (REPE 2020)--Ei Compendex\, Scopus
URL:http://www.wikicfp.com/cfp/servlet/event.showcfp?eventid=99727&copyow
 nerid=160598
UID:cfp827217-E@wikicfp.com
END:VEVENT
BEGIN:VEVENT
DTSTAMP:20260420T221851Z
DTSTART;VALUE=DATE:20200905
SUMMARY:IEEE REPE--Ei Compendex\, Scopus 2020 Deadline
DESCRIPTION:2020 IEEE 3rd International Conference on Renewable Energy an
 d Power Engineering (REPE 2020)--Ei Compendex\, Scopus
URL:http://www.wikicfp.com/cfp/servlet/event.showcfp?eventid=99727&copyow
 nerid=160598
UID:cfp827217-D@wikicfp.com
END:VEVENT
BEGIN:VEVENT
DTSTAMP:20260420T221851Z
DTSTART;VALUE=DATE:20201009
DTEND;VALUE=DATE:20201012
SUMMARY:REPE--IEEE\, Ei and Scopus 2020
DESCRIPTION:2020 IEEE 3rd International Conference on Renewable Energy an
 d Power Engineering (REPE 2020)--Ei Compendex\, Scopus
URL:http://www.wikicfp.com/cfp/servlet/event.showcfp?eventid=99728&copyow
 nerid=160598
UID:cfp827218-E@wikicfp.com
END:VEVENT
BEGIN:VEVENT
DTSTAMP:20260420T221851Z
DTSTART;VALUE=DATE:20200905
SUMMARY:REPE--IEEE\, Ei and Scopus 2020 Deadline
DESCRIPTION:2020 IEEE 3rd International Conference on Renewable Energy an
 d Power Engineering (REPE 2020)--Ei Compendex\, Scopus
URL:http://www.wikicfp.com/cfp/servlet/event.showcfp?eventid=99728&copyow
 nerid=160598
UID:cfp827218-D@wikicfp.com
END:VEVENT
BEGIN:VEVENT
DTSTAMP:20260420T221851Z
DTSTART;VALUE=DATE:20260518
SUMMARY:IJANS 2026 Deadline
DESCRIPTION:International Journal on AdHoc Networking Systems 
URL:http://www.wikicfp.com/cfp/servlet/event.showcfp?eventid=99716&copyow
 nerid=160598
UID:cfp827216-D@wikicfp.com
END:VEVENT
BEGIN:VEVENT
DTSTAMP:20260420T221851Z
DTSTART;VALUE=DATE:20260618
SUMMARY:IJANS 2026 Notification Due
DESCRIPTION:International Journal on AdHoc Networking Systems 
URL:http://www.wikicfp.com/cfp/servlet/event.showcfp?eventid=99716&copyow
 nerid=160598
UID:cfp827216-N@wikicfp.com
END:VEVENT
BEGIN:VEVENT
DTSTAMP:20260420T221851Z
DTSTART;VALUE=DATE:20260625
SUMMARY:IJANS 2026 Final Version Due
DESCRIPTION:International Journal on AdHoc Networking Systems 
URL:http://www.wikicfp.com/cfp/servlet/event.showcfp?eventid=99716&copyow
 nerid=160598
UID:cfp827216-N@wikicfp.com
END:VEVENT
END:VCALENDAR
