BEGIN:VCALENDAR
PRODID:-//WikiCFP//fpkibm 1.0//EN
VERSION:2.0
CALSCALE:GREGORIAN
BEGIN:VEVENT
DTSTAMP:20260421T224825Z
DTSTART;VALUE=DATE:20200405
DTEND;VALUE=DATE:20200406
SUMMARY:FastPath 2020
DESCRIPTION:FastPath 2020:  International Workshop on Performance Analysi
 s of Machine Learning Systems (An ISPASS Workshop under the auspices of 
 IEEE)
URL:http://www.wikicfp.com/cfp/servlet/event.showcfp?eventid=98033&copyow
 nerid=160510
UID:cfp821296-E@wikicfp.com
END:VEVENT
BEGIN:VEVENT
DTSTAMP:20260421T224825Z
DTSTART;VALUE=DATE:20200221
SUMMARY:FastPath 2020 Deadline
DESCRIPTION:FastPath 2020:  International Workshop on Performance Analysi
 s of Machine Learning Systems (An ISPASS Workshop under the auspices of 
 IEEE)
URL:http://www.wikicfp.com/cfp/servlet/event.showcfp?eventid=98033&copyow
 nerid=160510
UID:cfp821296-D@wikicfp.com
END:VEVENT
BEGIN:VEVENT
DTSTAMP:20260421T224825Z
DTSTART;VALUE=DATE:20200302
SUMMARY:FastPath 2020 Notification Due
DESCRIPTION:FastPath 2020:  International Workshop on Performance Analysi
 s of Machine Learning Systems (An ISPASS Workshop under the auspices of 
 IEEE)
URL:http://www.wikicfp.com/cfp/servlet/event.showcfp?eventid=98033&copyow
 nerid=160510
UID:cfp821296-N@wikicfp.com
END:VEVENT
BEGIN:VEVENT
DTSTAMP:20260421T224825Z
DTSTART;VALUE=DATE:20200405
SUMMARY:FastPath 2020 Final Version Due
DESCRIPTION:FastPath 2020:  International Workshop on Performance Analysi
 s of Machine Learning Systems (An ISPASS Workshop under the auspices of 
 IEEE)
URL:http://www.wikicfp.com/cfp/servlet/event.showcfp?eventid=98033&copyow
 nerid=160510
UID:cfp821296-N@wikicfp.com
END:VEVENT
END:VCALENDAR
