BEGIN:VCALENDAR
PRODID:-//WikiCFP//Giyoh 1.0//EN
VERSION:2.0
CALSCALE:GREGORIAN
BEGIN:VEVENT
DTSTAMP:20260425T002201Z
DTSTART;VALUE=DATE:20200225
DTEND;VALUE=DATE:20200228
SUMMARY:CEBMM 2020
DESCRIPTION:2020 The 9th International Conference on Economics\, Business
  and Marketing Management (CEBMM 2020)
URL:http://www.wikicfp.com/cfp/servlet/event.showcfp?eventid=88801&copyow
 nerid=160143
UID:cfp819299-E@wikicfp.com
END:VEVENT
BEGIN:VEVENT
DTSTAMP:20260425T002201Z
DTSTART;VALUE=DATE:20191230
SUMMARY:CEBMM 2020 Deadline
DESCRIPTION:2020 The 9th International Conference on Economics\, Business
  and Marketing Management (CEBMM 2020)
URL:http://www.wikicfp.com/cfp/servlet/event.showcfp?eventid=88801&copyow
 nerid=160143
UID:cfp819299-D@wikicfp.com
END:VEVENT
BEGIN:VEVENT
DTSTAMP:20260425T002201Z
DTSTART;VALUE=DATE:20200105
SUMMARY:EJSD  Journal  2020 Deadline
DESCRIPTION:European Journal of Sustainable Development 
URL:http://www.wikicfp.com/cfp/servlet/event.showcfp?eventid=48456&copyow
 nerid=160143
UID:cfp819297-D@wikicfp.com
END:VEVENT
BEGIN:VEVENT
DTSTAMP:20260425T002201Z
DTSTART;VALUE=DATE:20200125
DTEND;VALUE=DATE:20200127
SUMMARY:BMSS 2020
DESCRIPTION:3rd International Conference on Business Management\, Social 
 Science and Sustainable Development
URL:http://www.wikicfp.com/cfp/servlet/event.showcfp?eventid=89560&copyow
 nerid=160143
UID:cfp819300-E@wikicfp.com
END:VEVENT
BEGIN:VEVENT
DTSTAMP:20260425T002201Z
DTSTART;VALUE=DATE:20200115
SUMMARY:BMSS 2020 Deadline
DESCRIPTION:3rd International Conference on Business Management\, Social 
 Science and Sustainable Development
URL:http://www.wikicfp.com/cfp/servlet/event.showcfp?eventid=89560&copyow
 nerid=160143
UID:cfp819300-D@wikicfp.com
END:VEVENT
BEGIN:VEVENT
DTSTAMP:20260425T002201Z
DTSTART;VALUE=DATE:20200125
DTEND;VALUE=DATE:20200127
SUMMARY:BMSS 2020
DESCRIPTION:3rd International Conference on Business Management\, Social 
 Science and Sustainable Development
URL:http://www.wikicfp.com/cfp/servlet/event.showcfp?eventid=89561&copyow
 nerid=160143
UID:cfp819301-E@wikicfp.com
END:VEVENT
BEGIN:VEVENT
DTSTAMP:20260425T002201Z
DTSTART;VALUE=DATE:20200115
SUMMARY:BMSS 2020 Deadline
DESCRIPTION:3rd International Conference on Business Management\, Social 
 Science and Sustainable Development
URL:http://www.wikicfp.com/cfp/servlet/event.showcfp?eventid=89561&copyow
 nerid=160143
UID:cfp819301-D@wikicfp.com
END:VEVENT
BEGIN:VEVENT
DTSTAMP:20260425T002201Z
DTSTART;VALUE=DATE:20200312
DTEND;VALUE=DATE:20200315
SUMMARY:ICABE 2020
DESCRIPTION:2020 The 2nd International Conference on Applied Business and
  Economics (ICABE 2020)
URL:http://www.wikicfp.com/cfp/servlet/event.showcfp?eventid=90923&copyow
 nerid=160143
UID:cfp819303-E@wikicfp.com
END:VEVENT
BEGIN:VEVENT
DTSTAMP:20260425T002201Z
DTSTART;VALUE=DATE:20200115
SUMMARY:ICABE 2020 Deadline
DESCRIPTION:2020 The 2nd International Conference on Applied Business and
  Economics (ICABE 2020)
URL:http://www.wikicfp.com/cfp/servlet/event.showcfp?eventid=90923&copyow
 nerid=160143
UID:cfp819303-D@wikicfp.com
END:VEVENT
BEGIN:VEVENT
DTSTAMP:20260425T002201Z
DTSTART;VALUE=DATE:20200505
DTEND;VALUE=DATE:20200507
SUMMARY:FEMIB 2020
DESCRIPTION:2nd International Conference on Finance\, Economics\, Managem
 ent and IT Business
URL:http://www.wikicfp.com/cfp/servlet/event.showcfp?eventid=93848&copyow
 nerid=160143
UID:cfp819305-E@wikicfp.com
END:VEVENT
BEGIN:VEVENT
DTSTAMP:20260425T002201Z
DTSTART;VALUE=DATE:20200129
SUMMARY:FEMIB 2020 Deadline
DESCRIPTION:2nd International Conference on Finance\, Economics\, Managem
 ent and IT Business
URL:http://www.wikicfp.com/cfp/servlet/event.showcfp?eventid=93848&copyow
 nerid=160143
UID:cfp819305-D@wikicfp.com
END:VEVENT
BEGIN:VEVENT
DTSTAMP:20260425T002201Z
DTSTART;VALUE=DATE:20200212
SUMMARY:FEMIB 2020 Notification Due
DESCRIPTION:2nd International Conference on Finance\, Economics\, Managem
 ent and IT Business
URL:http://www.wikicfp.com/cfp/servlet/event.showcfp?eventid=93848&copyow
 nerid=160143
UID:cfp819305-N@wikicfp.com
END:VEVENT
BEGIN:VEVENT
DTSTAMP:20260425T002201Z
DTSTART;VALUE=DATE:20200227
SUMMARY:FEMIB 2020 Final Version Due
DESCRIPTION:2nd International Conference on Finance\, Economics\, Managem
 ent and IT Business
URL:http://www.wikicfp.com/cfp/servlet/event.showcfp?eventid=93848&copyow
 nerid=160143
UID:cfp819305-N@wikicfp.com
END:VEVENT
BEGIN:VEVENT
DTSTAMP:20260425T002201Z
DTSTART;VALUE=DATE:20200222
DTEND;VALUE=DATE:20200224
SUMMARY:EGER 2020
DESCRIPTION:3rd International Conference on Economic Development and Grow
 th\, Economic Policy and Rural Development
URL:http://www.wikicfp.com/cfp/servlet/event.showcfp?eventid=89562&copyow
 nerid=160143
UID:cfp819302-E@wikicfp.com
END:VEVENT
BEGIN:VEVENT
DTSTAMP:20260425T002201Z
DTSTART;VALUE=DATE:20200212
SUMMARY:EGER 2020 Deadline
DESCRIPTION:3rd International Conference on Economic Development and Grow
 th\, Economic Policy and Rural Development
URL:http://www.wikicfp.com/cfp/servlet/event.showcfp?eventid=89562&copyow
 nerid=160143
UID:cfp819302-D@wikicfp.com
END:VEVENT
BEGIN:VEVENT
DTSTAMP:20260425T002201Z
DTSTART;VALUE=DATE:20200909
DTEND;VALUE=DATE:20200911
SUMMARY:ICSD  2020
DESCRIPTION: 8th International Conference on Sustainable Development\,9 -
  10 September ICSD 2020
URL:http://www.wikicfp.com/cfp/servlet/event.showcfp?eventid=57737&copyow
 nerid=160143
UID:cfp819298-E@wikicfp.com
END:VEVENT
BEGIN:VEVENT
DTSTAMP:20260425T002201Z
DTSTART;VALUE=DATE:20200310
SUMMARY:ICSD  2020 Deadline
DESCRIPTION: 8th International Conference on Sustainable Development\,9 -
  10 September ICSD 2020
URL:http://www.wikicfp.com/cfp/servlet/event.showcfp?eventid=57737&copyow
 nerid=160143
UID:cfp819298-D@wikicfp.com
END:VEVENT
BEGIN:VEVENT
DTSTAMP:20260425T002201Z
DTSTART;VALUE=DATE:20200703
DTEND;VALUE=DATE:20200706
SUMMARY:PEJ 2020
DESCRIPTION:14th Annual Meeting of the Portuguese Economic Journal 
URL:http://www.wikicfp.com/cfp/servlet/event.showcfp?eventid=96908&copyow
 nerid=160143
UID:cfp819308-E@wikicfp.com
END:VEVENT
BEGIN:VEVENT
DTSTAMP:20260425T002201Z
DTSTART;VALUE=DATE:20200315
SUMMARY:PEJ 2020 Deadline
DESCRIPTION:14th Annual Meeting of the Portuguese Economic Journal 
URL:http://www.wikicfp.com/cfp/servlet/event.showcfp?eventid=96908&copyow
 nerid=160143
UID:cfp819308-D@wikicfp.com
END:VEVENT
BEGIN:VEVENT
DTSTAMP:20260425T002201Z
DTSTART;VALUE=DATE:20200420
SUMMARY:PEJ 2020 Notification Due
DESCRIPTION:14th Annual Meeting of the Portuguese Economic Journal 
URL:http://www.wikicfp.com/cfp/servlet/event.showcfp?eventid=96908&copyow
 nerid=160143
UID:cfp819308-N@wikicfp.com
END:VEVENT
BEGIN:VEVENT
DTSTAMP:20260425T002201Z
DTSTART;VALUE=DATE:20200527
DTEND;VALUE=DATE:20200530
SUMMARY:ICETD 2020
DESCRIPTION:2020 The 10th International Conference on Economics\, Trade a
 nd Development (ICETD 2020)
URL:http://www.wikicfp.com/cfp/servlet/event.showcfp?eventid=93100&copyow
 nerid=160143
UID:cfp819304-E@wikicfp.com
END:VEVENT
BEGIN:VEVENT
DTSTAMP:20260425T002201Z
DTSTART;VALUE=DATE:20200331
SUMMARY:ICETD 2020 Deadline
DESCRIPTION:2020 The 10th International Conference on Economics\, Trade a
 nd Development (ICETD 2020)
URL:http://www.wikicfp.com/cfp/servlet/event.showcfp?eventid=93100&copyow
 nerid=160143
UID:cfp819304-D@wikicfp.com
END:VEVENT
BEGIN:VEVENT
DTSTAMP:20260425T002201Z
DTSTART;VALUE=DATE:20200605
DTEND;VALUE=DATE:20200608
SUMMARY:ICESM 2020
DESCRIPTION:2020 The 7th International Conference on Economics\, Society 
 and Management (ICESM 2020)
URL:http://www.wikicfp.com/cfp/servlet/event.showcfp?eventid=95201&copyow
 nerid=160143
UID:cfp819306-E@wikicfp.com
END:VEVENT
BEGIN:VEVENT
DTSTAMP:20260425T002201Z
DTSTART;VALUE=DATE:20200505
SUMMARY:ICESM 2020 Deadline
DESCRIPTION:2020 The 7th International Conference on Economics\, Society 
 and Management (ICESM 2020)
URL:http://www.wikicfp.com/cfp/servlet/event.showcfp?eventid=95201&copyow
 nerid=160143
UID:cfp819306-D@wikicfp.com
END:VEVENT
BEGIN:VEVENT
DTSTAMP:20260425T002201Z
DTSTART;VALUE=DATE:20200617
DTEND;VALUE=DATE:20200620
SUMMARY:ICEFR 2020
DESCRIPTION:2020 The 9th International Conference on Economics and Financ
 e Research (ICEFR 2020)
URL:http://www.wikicfp.com/cfp/servlet/event.showcfp?eventid=96051&copyow
 nerid=160143
UID:cfp819307-E@wikicfp.com
END:VEVENT
BEGIN:VEVENT
DTSTAMP:20260425T002201Z
DTSTART;VALUE=DATE:20200602
SUMMARY:ICEFR 2020 Deadline
DESCRIPTION:2020 The 9th International Conference on Economics and Financ
 e Research (ICEFR 2020)
URL:http://www.wikicfp.com/cfp/servlet/event.showcfp?eventid=96051&copyow
 nerid=160143
UID:cfp819307-D@wikicfp.com
END:VEVENT
END:VCALENDAR
