BEGIN:VCALENDAR
PRODID:-//WikiCFP//rituraj 1.0//EN
VERSION:2.0
CALSCALE:GREGORIAN
BEGIN:VEVENT
DTSTAMP:20260421T235910Z
DTSTART;VALUE=DATE:20200529
DTEND;VALUE=DATE:20200601
SUMMARY:ICPSG--Ei Compendex\, Scopus 2020
DESCRIPTION:2020 3rd International Conference on Power and Smart Grid (IC
 PSG 2020)--Ei Compendex\, Scopus
URL:http://www.wikicfp.com/cfp/servlet/event.showcfp?eventid=93210&copyow
 nerid=159709
UID:cfp817338-E@wikicfp.com
END:VEVENT
BEGIN:VEVENT
DTSTAMP:20260421T235910Z
DTSTART;VALUE=DATE:20200420
SUMMARY:ICPSG--Ei Compendex\, Scopus 2020 Deadline
DESCRIPTION:2020 3rd International Conference on Power and Smart Grid (IC
 PSG 2020)--Ei Compendex\, Scopus
URL:http://www.wikicfp.com/cfp/servlet/event.showcfp?eventid=93210&copyow
 nerid=159709
UID:cfp817338-D@wikicfp.com
END:VEVENT
BEGIN:VEVENT
DTSTAMP:20260421T235910Z
DTSTART;VALUE=DATE:20200529
DTEND;VALUE=DATE:20200601
SUMMARY:ICREC--JA\, Scopus 2020
DESCRIPTION:2020 5th International Conference on Renewable Energy and Con
 servation (ICREC 2020)--JA\, Scopus
URL:http://www.wikicfp.com/cfp/servlet/event.showcfp?eventid=93211&copyow
 nerid=159709
UID:cfp817339-E@wikicfp.com
END:VEVENT
BEGIN:VEVENT
DTSTAMP:20260421T235910Z
DTSTART;VALUE=DATE:20200420
SUMMARY:ICREC--JA\, Scopus 2020 Deadline
DESCRIPTION:2020 5th International Conference on Renewable Energy and Con
 servation (ICREC 2020)--JA\, Scopus
URL:http://www.wikicfp.com/cfp/servlet/event.showcfp?eventid=93211&copyow
 nerid=159709
UID:cfp817339-D@wikicfp.com
END:VEVENT
BEGIN:VEVENT
DTSTAMP:20260421T235910Z
DTSTART;VALUE=DATE:20200915
DTEND;VALUE=DATE:20200919
SUMMARY:SPIES--IEEE\, Ei Compendex and Scopus 2020
DESCRIPTION:IEEE--2020 2nd International Conference on Smart Power & Inte
 rnet Energy Systems (SPIES 2020)--Ei Compendex\, Scopus
URL:http://www.wikicfp.com/cfp/servlet/event.showcfp?eventid=94386&copyow
 nerid=159709
UID:cfp817337-E@wikicfp.com
END:VEVENT
BEGIN:VEVENT
DTSTAMP:20260421T235910Z
DTSTART;VALUE=DATE:20200705
SUMMARY:SPIES--IEEE\, Ei Compendex and Scopus 2020 Deadline
DESCRIPTION:IEEE--2020 2nd International Conference on Smart Power & Inte
 rnet Energy Systems (SPIES 2020)--Ei Compendex\, Scopus
URL:http://www.wikicfp.com/cfp/servlet/event.showcfp?eventid=94386&copyow
 nerid=159709
UID:cfp817337-D@wikicfp.com
END:VEVENT
END:VCALENDAR
