BEGIN:VCALENDAR
PRODID:-//WikiCFP//hadadian 1.0//EN
VERSION:2.0
CALSCALE:GREGORIAN
BEGIN:VEVENT
DTSTAMP:20260422T083734Z
DTSTART;VALUE=DATE:20110107
DTEND;VALUE=DATE:20110110
SUMMARY:IC4E 2011
DESCRIPTION:2011 2nd International Conference on e-Education\, e-Business
 \, e-Management and E-Learning (IC4E 2011) 
URL:http://www.wikicfp.com/cfp/servlet/event.showcfp?eventid=9764&copyown
 erid=15949
UID:cfp109241-E@wikicfp.com
END:VEVENT
BEGIN:VEVENT
DTSTAMP:20260422T083734Z
DTSTART;VALUE=DATE:20101010
SUMMARY:IC4E 2011 Abstract Due
DESCRIPTION:2011 2nd International Conference on e-Education\, e-Business
 \, e-Management and E-Learning (IC4E 2011) 
URL:http://www.wikicfp.com/cfp/servlet/event.showcfp?eventid=9764&copyown
 erid=15949
UID:cfp109241-A@wikicfp.com
END:VEVENT
BEGIN:VEVENT
DTSTAMP:20260422T083734Z
DTSTART;VALUE=DATE:20100820
SUMMARY:IC4E 2011 Deadline
DESCRIPTION:2011 2nd International Conference on e-Education\, e-Business
 \, e-Management and E-Learning (IC4E 2011) 
URL:http://www.wikicfp.com/cfp/servlet/event.showcfp?eventid=9764&copyown
 erid=15949
UID:cfp109241-D@wikicfp.com
END:VEVENT
BEGIN:VEVENT
DTSTAMP:20260422T083734Z
DTSTART;VALUE=DATE:20100920
SUMMARY:IC4E 2011 Notification Due
DESCRIPTION:2011 2nd International Conference on e-Education\, e-Business
 \, e-Management and E-Learning (IC4E 2011) 
URL:http://www.wikicfp.com/cfp/servlet/event.showcfp?eventid=9764&copyown
 erid=15949
UID:cfp109241-N@wikicfp.com
END:VEVENT
BEGIN:VEVENT
DTSTAMP:20260422T083734Z
DTSTART;VALUE=DATE:20101010
SUMMARY:IC4E 2011 Final Version Due
DESCRIPTION:2011 2nd International Conference on e-Education\, e-Business
 \, e-Management and E-Learning (IC4E 2011) 
URL:http://www.wikicfp.com/cfp/servlet/event.showcfp?eventid=9764&copyown
 erid=15949
UID:cfp109241-N@wikicfp.com
END:VEVENT
BEGIN:VEVENT
DTSTAMP:20260422T083734Z
DTSTART;VALUE=DATE:20101202
DTEND;VALUE=DATE:20101206
SUMMARY:ACE 2010
DESCRIPTION:Asian Conference on Education 2010
URL:http://www.wikicfp.com/cfp/servlet/event.showcfp?eventid=10848&copyow
 nerid=15949
UID:cfp109243-E@wikicfp.com
END:VEVENT
BEGIN:VEVENT
DTSTAMP:20260422T083734Z
DTSTART;VALUE=DATE:20101101
SUMMARY:ACE 2010 Abstract Due
DESCRIPTION:Asian Conference on Education 2010
URL:http://www.wikicfp.com/cfp/servlet/event.showcfp?eventid=10848&copyow
 nerid=15949
UID:cfp109243-A@wikicfp.com
END:VEVENT
BEGIN:VEVENT
DTSTAMP:20260422T083734Z
DTSTART;VALUE=DATE:20100901
SUMMARY:ACE 2010 Deadline
DESCRIPTION:Asian Conference on Education 2010
URL:http://www.wikicfp.com/cfp/servlet/event.showcfp?eventid=10848&copyow
 nerid=15949
UID:cfp109243-D@wikicfp.com
END:VEVENT
BEGIN:VEVENT
DTSTAMP:20260422T083734Z
DTSTART;VALUE=DATE:20100910
SUMMARY:ACE 2010 Notification Due
DESCRIPTION:Asian Conference on Education 2010
URL:http://www.wikicfp.com/cfp/servlet/event.showcfp?eventid=10848&copyow
 nerid=15949
UID:cfp109243-N@wikicfp.com
END:VEVENT
BEGIN:VEVENT
DTSTAMP:20260422T083734Z
DTSTART;VALUE=DATE:20101101
SUMMARY:ACE 2010 Final Version Due
DESCRIPTION:Asian Conference on Education 2010
URL:http://www.wikicfp.com/cfp/servlet/event.showcfp?eventid=10848&copyow
 nerid=15949
UID:cfp109243-N@wikicfp.com
END:VEVENT
BEGIN:VEVENT
DTSTAMP:20260422T083734Z
DTSTART;VALUE=DATE:20110506
DTEND;VALUE=DATE:20110510
SUMMARY:CSEDU 2011
DESCRIPTION:3rd International Conference on Computer Supported Education 
 (CSEDU 2011)
URL:http://www.wikicfp.com/cfp/servlet/event.showcfp?eventid=10369&copyow
 nerid=15949
UID:cfp109242-E@wikicfp.com
END:VEVENT
BEGIN:VEVENT
DTSTAMP:20260422T083734Z
DTSTART;VALUE=DATE:20101025
SUMMARY:CSEDU 2011 Deadline
DESCRIPTION:3rd International Conference on Computer Supported Education 
 (CSEDU 2011)
URL:http://www.wikicfp.com/cfp/servlet/event.showcfp?eventid=10369&copyow
 nerid=15949
UID:cfp109242-D@wikicfp.com
END:VEVENT
BEGIN:VEVENT
DTSTAMP:20260422T083734Z
DTSTART;VALUE=DATE:20110106
SUMMARY:CSEDU 2011 Notification Due
DESCRIPTION:3rd International Conference on Computer Supported Education 
 (CSEDU 2011)
URL:http://www.wikicfp.com/cfp/servlet/event.showcfp?eventid=10369&copyow
 nerid=15949
UID:cfp109242-N@wikicfp.com
END:VEVENT
BEGIN:VEVENT
DTSTAMP:20260422T083734Z
DTSTART;VALUE=DATE:20110127
SUMMARY:CSEDU 2011 Final Version Due
DESCRIPTION:3rd International Conference on Computer Supported Education 
 (CSEDU 2011)
URL:http://www.wikicfp.com/cfp/servlet/event.showcfp?eventid=10369&copyow
 nerid=15949
UID:cfp109242-N@wikicfp.com
END:VEVENT
BEGIN:VEVENT
DTSTAMP:20260422T083734Z
DTSTART;VALUE=DATE:20110131
DTEND;VALUE=DATE:20110204
SUMMARY:e-Lex 2011
DESCRIPTION:4th Conference on e-Learning Excellence in the Middle East
URL:http://www.wikicfp.com/cfp/servlet/event.showcfp?eventid=11478&copyow
 nerid=15949
UID:cfp109247-E@wikicfp.com
END:VEVENT
BEGIN:VEVENT
DTSTAMP:20260422T083734Z
DTSTART;VALUE=DATE:20110101
SUMMARY:e-Lex 2011 Abstract Due
DESCRIPTION:4th Conference on e-Learning Excellence in the Middle East
URL:http://www.wikicfp.com/cfp/servlet/event.showcfp?eventid=11478&copyow
 nerid=15949
UID:cfp109247-A@wikicfp.com
END:VEVENT
BEGIN:VEVENT
DTSTAMP:20260422T083734Z
DTSTART;VALUE=DATE:20101030
SUMMARY:e-Lex 2011 Deadline
DESCRIPTION:4th Conference on e-Learning Excellence in the Middle East
URL:http://www.wikicfp.com/cfp/servlet/event.showcfp?eventid=11478&copyow
 nerid=15949
UID:cfp109247-D@wikicfp.com
END:VEVENT
BEGIN:VEVENT
DTSTAMP:20260422T083734Z
DTSTART;VALUE=DATE:20101220
SUMMARY:e-Lex 2011 Notification Due
DESCRIPTION:4th Conference on e-Learning Excellence in the Middle East
URL:http://www.wikicfp.com/cfp/servlet/event.showcfp?eventid=11478&copyow
 nerid=15949
UID:cfp109247-N@wikicfp.com
END:VEVENT
BEGIN:VEVENT
DTSTAMP:20260422T083734Z
DTSTART;VALUE=DATE:20101201
SUMMARY:e-Lex 2011 Final Version Due
DESCRIPTION:4th Conference on e-Learning Excellence in the Middle East
URL:http://www.wikicfp.com/cfp/servlet/event.showcfp?eventid=11478&copyow
 nerid=15949
UID:cfp109247-N@wikicfp.com
END:VEVENT
BEGIN:VEVENT
DTSTAMP:20260422T083734Z
DTSTART;VALUE=DATE:20110321
DTEND;VALUE=DATE:20110326
SUMMARY:PerEL 2011
DESCRIPTION:7th IEEE Int. Workshop on PervasivE Learning\, Life\, and Lei
 sure
URL:http://www.wikicfp.com/cfp/servlet/event.showcfp?eventid=11106&copyow
 nerid=15949
UID:cfp109246-E@wikicfp.com
END:VEVENT
BEGIN:VEVENT
DTSTAMP:20260422T083734Z
DTSTART;VALUE=DATE:20101031
SUMMARY:PerEL 2011 Deadline
DESCRIPTION:7th IEEE Int. Workshop on PervasivE Learning\, Life\, and Lei
 sure
URL:http://www.wikicfp.com/cfp/servlet/event.showcfp?eventid=11106&copyow
 nerid=15949
UID:cfp109246-D@wikicfp.com
END:VEVENT
BEGIN:VEVENT
DTSTAMP:20260422T083734Z
DTSTART;VALUE=DATE:20110107
SUMMARY:PerEL 2011 Notification Due
DESCRIPTION:7th IEEE Int. Workshop on PervasivE Learning\, Life\, and Lei
 sure
URL:http://www.wikicfp.com/cfp/servlet/event.showcfp?eventid=11106&copyow
 nerid=15949
UID:cfp109246-N@wikicfp.com
END:VEVENT
BEGIN:VEVENT
DTSTAMP:20260422T083734Z
DTSTART;VALUE=DATE:20110128
SUMMARY:PerEL 2011 Final Version Due
DESCRIPTION:7th IEEE Int. Workshop on PervasivE Learning\, Life\, and Lei
 sure
URL:http://www.wikicfp.com/cfp/servlet/event.showcfp?eventid=11106&copyow
 nerid=15949
UID:cfp109246-N@wikicfp.com
END:VEVENT
BEGIN:VEVENT
DTSTAMP:20260422T083734Z
DTSTART;VALUE=DATE:20110706
DTEND;VALUE=DATE:20110709
SUMMARY:ICALT 2011
DESCRIPTION:11th IEEE International Conference on Advanced Learning Techn
 ologies
URL:http://www.wikicfp.com/cfp/servlet/event.showcfp?eventid=10989&copyow
 nerid=15949
UID:cfp109244-E@wikicfp.com
END:VEVENT
BEGIN:VEVENT
DTSTAMP:20260422T083734Z
DTSTART;VALUE=DATE:20110117
SUMMARY:ICALT 2011 Deadline
DESCRIPTION:11th IEEE International Conference on Advanced Learning Techn
 ologies
URL:http://www.wikicfp.com/cfp/servlet/event.showcfp?eventid=10989&copyow
 nerid=15949
UID:cfp109244-D@wikicfp.com
END:VEVENT
BEGIN:VEVENT
DTSTAMP:20260422T083734Z
DTSTART;VALUE=DATE:20110214
SUMMARY:ICALT 2011 Notification Due
DESCRIPTION:11th IEEE International Conference on Advanced Learning Techn
 ologies
URL:http://www.wikicfp.com/cfp/servlet/event.showcfp?eventid=10989&copyow
 nerid=15949
UID:cfp109244-N@wikicfp.com
END:VEVENT
BEGIN:VEVENT
DTSTAMP:20260422T083734Z
DTSTART;VALUE=DATE:20110415
SUMMARY:ICALT 2011 Final Version Due
DESCRIPTION:11th IEEE International Conference on Advanced Learning Techn
 ologies
URL:http://www.wikicfp.com/cfp/servlet/event.showcfp?eventid=10989&copyow
 nerid=15949
UID:cfp109244-N@wikicfp.com
END:VEVENT
BEGIN:VEVENT
DTSTAMP:20260422T083734Z
DTSTART;VALUE=DATE:20110506
DTEND;VALUE=DATE:20110510
SUMMARY:ATTeL 2011
DESCRIPTION:CSEDU Special Session on Assessment Tools and Techniques for 
 e-Learning 
URL:http://www.wikicfp.com/cfp/servlet/event.showcfp?eventid=13801&copyow
 nerid=15949
UID:cfp139999-E@wikicfp.com
END:VEVENT
BEGIN:VEVENT
DTSTAMP:20260422T083734Z
DTSTART;VALUE=DATE:20110214
SUMMARY:ATTeL 2011 Deadline
DESCRIPTION:CSEDU Special Session on Assessment Tools and Techniques for 
 e-Learning 
URL:http://www.wikicfp.com/cfp/servlet/event.showcfp?eventid=13801&copyow
 nerid=15949
UID:cfp139999-D@wikicfp.com
END:VEVENT
BEGIN:VEVENT
DTSTAMP:20260422T083734Z
DTSTART;VALUE=DATE:20110301
SUMMARY:ATTeL 2011 Notification Due
DESCRIPTION:CSEDU Special Session on Assessment Tools and Techniques for 
 e-Learning 
URL:http://www.wikicfp.com/cfp/servlet/event.showcfp?eventid=13801&copyow
 nerid=15949
UID:cfp139999-N@wikicfp.com
END:VEVENT
BEGIN:VEVENT
DTSTAMP:20260422T083734Z
DTSTART;VALUE=DATE:20110314
SUMMARY:ATTeL 2011 Final Version Due
DESCRIPTION:CSEDU Special Session on Assessment Tools and Techniques for 
 e-Learning 
URL:http://www.wikicfp.com/cfp/servlet/event.showcfp?eventid=13801&copyow
 nerid=15949
UID:cfp139999-N@wikicfp.com
END:VEVENT
BEGIN:VEVENT
DTSTAMP:20260422T083734Z
DTSTART;VALUE=DATE:20110428
DTEND;VALUE=DATE:20110430
SUMMARY:eLSE 2011
DESCRIPTION:7-th eLearning and Software for Education Conference
URL:http://www.wikicfp.com/cfp/servlet/event.showcfp?eventid=11035&copyow
 nerid=15949
UID:cfp109245-E@wikicfp.com
END:VEVENT
BEGIN:VEVENT
DTSTAMP:20260422T083734Z
DTSTART;VALUE=DATE:20101130
SUMMARY:eLSE 2011 Abstract Due
DESCRIPTION:7-th eLearning and Software for Education Conference
URL:http://www.wikicfp.com/cfp/servlet/event.showcfp?eventid=11035&copyow
 nerid=15949
UID:cfp109245-A@wikicfp.com
END:VEVENT
BEGIN:VEVENT
DTSTAMP:20260422T083734Z
DTSTART;VALUE=DATE:20110315
SUMMARY:eLSE 2011 Deadline
DESCRIPTION:7-th eLearning and Software for Education Conference
URL:http://www.wikicfp.com/cfp/servlet/event.showcfp?eventid=11035&copyow
 nerid=15949
UID:cfp109245-D@wikicfp.com
END:VEVENT
BEGIN:VEVENT
DTSTAMP:20260422T083734Z
DTSTART;VALUE=DATE:20110115
SUMMARY:eLSE 2011 Notification Due
DESCRIPTION:7-th eLearning and Software for Education Conference
URL:http://www.wikicfp.com/cfp/servlet/event.showcfp?eventid=11035&copyow
 nerid=15949
UID:cfp109245-N@wikicfp.com
END:VEVENT
BEGIN:VEVENT
DTSTAMP:20260422T083734Z
DTSTART;VALUE=DATE:20110315
SUMMARY:eLSE 2011 Final Version Due
DESCRIPTION:7-th eLearning and Software for Education Conference
URL:http://www.wikicfp.com/cfp/servlet/event.showcfp?eventid=11035&copyow
 nerid=15949
UID:cfp109245-N@wikicfp.com
END:VEVENT
BEGIN:VEVENT
DTSTAMP:20260422T083734Z
DTSTART;VALUE=DATE:20110711
DTEND;VALUE=DATE:20110714
SUMMARY:CATE 2011
DESCRIPTION:Computers and Advanced Technology in Education
URL:http://www.wikicfp.com/cfp/servlet/event.showcfp?eventid=11441&copyow
 nerid=15949
UID:cfp109248-E@wikicfp.com
END:VEVENT
BEGIN:VEVENT
DTSTAMP:20260422T083734Z
DTSTART;VALUE=DATE:20110401
SUMMARY:CATE 2011 Deadline
DESCRIPTION:Computers and Advanced Technology in Education
URL:http://www.wikicfp.com/cfp/servlet/event.showcfp?eventid=11441&copyow
 nerid=15949
UID:cfp109248-D@wikicfp.com
END:VEVENT
BEGIN:VEVENT
DTSTAMP:20260422T083734Z
DTSTART;VALUE=DATE:20110429
SUMMARY:CATE 2011 Notification Due
DESCRIPTION:Computers and Advanced Technology in Education
URL:http://www.wikicfp.com/cfp/servlet/event.showcfp?eventid=11441&copyow
 nerid=15949
UID:cfp109248-N@wikicfp.com
END:VEVENT
BEGIN:VEVENT
DTSTAMP:20260422T083734Z
DTSTART;VALUE=DATE:20110518
SUMMARY:CATE 2011 Final Version Due
DESCRIPTION:Computers and Advanced Technology in Education
URL:http://www.wikicfp.com/cfp/servlet/event.showcfp?eventid=11441&copyow
 nerid=15949
UID:cfp109248-N@wikicfp.com
END:VEVENT
END:VCALENDAR
