BEGIN:VCALENDAR
PRODID:-//WikiCFP//narinpetrot 1.0//EN
VERSION:2.0
CALSCALE:GREGORIAN
BEGIN:VEVENT
DTSTAMP:20260425T132416Z
DTSTART;VALUE=DATE:20200715
DTEND;VALUE=DATE:20200719
SUMMARY:ACFPTO 2020
DESCRIPTION:The 11th Asian Conference on Fixed Point Theory and Optimizat
 ion 2020 
URL:http://www.wikicfp.com/cfp/servlet/event.showcfp?eventid=96408&copyow
 nerid=159162
UID:cfp813728-E@wikicfp.com
END:VEVENT
BEGIN:VEVENT
DTSTAMP:20260425T132416Z
DTSTART;VALUE=DATE:20200315
SUMMARY:ACFPTO 2020 Abstract Due
DESCRIPTION:The 11th Asian Conference on Fixed Point Theory and Optimizat
 ion 2020 
URL:http://www.wikicfp.com/cfp/servlet/event.showcfp?eventid=96408&copyow
 nerid=159162
UID:cfp813728-A@wikicfp.com
END:VEVENT
BEGIN:VEVENT
DTSTAMP:20260425T132416Z
DTSTART;VALUE=DATE:20200531
SUMMARY:ACFPTO 2020 Deadline
DESCRIPTION:The 11th Asian Conference on Fixed Point Theory and Optimizat
 ion 2020 
URL:http://www.wikicfp.com/cfp/servlet/event.showcfp?eventid=96408&copyow
 nerid=159162
UID:cfp813728-D@wikicfp.com
END:VEVENT
END:VCALENDAR
