BEGIN:VCALENDAR
PRODID:-//WikiCFP//ShirleyJin 1.0//EN
VERSION:2.0
CALSCALE:GREGORIAN
BEGIN:VEVENT
DTSTAMP:20260422T065954Z
DTSTART;VALUE=DATE:20200913
DTEND;VALUE=DATE:20200919
SUMMARY:ICPR 2020
DESCRIPTION:International Conference on Pattern Recognition 2020
URL:http://www.wikicfp.com/cfp/servlet/event.showcfp?eventid=94260&copyow
 nerid=159083
UID:cfp813134-E@wikicfp.com
END:VEVENT
BEGIN:VEVENT
DTSTAMP:20260422T065954Z
DTSTART;VALUE=DATE:20200302
SUMMARY:ICPR 2020 Deadline
DESCRIPTION:International Conference on Pattern Recognition 2020
URL:http://www.wikicfp.com/cfp/servlet/event.showcfp?eventid=94260&copyow
 nerid=159083
UID:cfp813134-D@wikicfp.com
END:VEVENT
BEGIN:VEVENT
DTSTAMP:20260422T065954Z
DTSTART;VALUE=DATE:20200601
SUMMARY:ICPR 2020 Notification Due
DESCRIPTION:International Conference on Pattern Recognition 2020
URL:http://www.wikicfp.com/cfp/servlet/event.showcfp?eventid=94260&copyow
 nerid=159083
UID:cfp813134-N@wikicfp.com
END:VEVENT
BEGIN:VEVENT
DTSTAMP:20260422T065954Z
DTSTART;VALUE=DATE:20200615
SUMMARY:ICPR 2020 Final Version Due
DESCRIPTION:International Conference on Pattern Recognition 2020
URL:http://www.wikicfp.com/cfp/servlet/event.showcfp?eventid=94260&copyow
 nerid=159083
UID:cfp813134-N@wikicfp.com
END:VEVENT
BEGIN:VEVENT
DTSTAMP:20260422T065954Z
DTSTART;VALUE=DATE:20200710
DTEND;VALUE=DATE:20200713
SUMMARY:IEEE-CVIV 2020
DESCRIPTION:2020 2nd International Conference on Advances in Computer Vis
 ion\, Image and Virtualization (CVIV 2020)
URL:http://www.wikicfp.com/cfp/servlet/event.showcfp?eventid=77747&copyow
 nerid=159083
UID:cfp813135-E@wikicfp.com
END:VEVENT
BEGIN:VEVENT
DTSTAMP:20260422T065954Z
DTSTART;VALUE=DATE:20200630
SUMMARY:IEEE-CVIV 2020 Deadline
DESCRIPTION:2020 2nd International Conference on Advances in Computer Vis
 ion\, Image and Virtualization (CVIV 2020)
URL:http://www.wikicfp.com/cfp/servlet/event.showcfp?eventid=77747&copyow
 nerid=159083
UID:cfp813135-D@wikicfp.com
END:VEVENT
BEGIN:VEVENT
DTSTAMP:20260422T065954Z
DTSTART;VALUE=DATE:20201009
DTEND;VALUE=DATE:20201012
SUMMARY:IEEE ICPEA----Ei Compendex\, Scopus 2020
DESCRIPTION:2020 IEEE 3rd International Conference on Power and Energy Ap
 plications (ICPEA 2020)--Ei Compendex\, Scopus
URL:http://www.wikicfp.com/cfp/servlet/event.showcfp?eventid=93213&copyow
 nerid=159083
UID:cfp813137-E@wikicfp.com
END:VEVENT
BEGIN:VEVENT
DTSTAMP:20260422T065954Z
DTSTART;VALUE=DATE:20200830
SUMMARY:IEEE ICPEA----Ei Compendex\, Scopus 2020 Deadline
DESCRIPTION:2020 IEEE 3rd International Conference on Power and Energy Ap
 plications (ICPEA 2020)--Ei Compendex\, Scopus
URL:http://www.wikicfp.com/cfp/servlet/event.showcfp?eventid=93213&copyow
 nerid=159083
UID:cfp813137-D@wikicfp.com
END:VEVENT
BEGIN:VEVENT
DTSTAMP:20260422T065954Z
DTSTART;VALUE=DATE:20240729
DTEND;VALUE=DATE:20240801
SUMMARY:IEEE COINS  2024
DESCRIPTION:IEEE COINS 2024 - London\, UK - July 29-31 - Hybrid (In-Perso
 n & Virtual)
URL:http://www.wikicfp.com/cfp/servlet/event.showcfp?eventid=93624&copyow
 nerid=159083
UID:cfp813133-E@wikicfp.com
END:VEVENT
BEGIN:VEVENT
DTSTAMP:20260422T065954Z
DTSTART;VALUE=DATE:20240331
SUMMARY:IEEE COINS  2024 Deadline
DESCRIPTION:IEEE COINS 2024 - London\, UK - July 29-31 - Hybrid (In-Perso
 n & Virtual)
URL:http://www.wikicfp.com/cfp/servlet/event.showcfp?eventid=93624&copyow
 nerid=159083
UID:cfp813133-D@wikicfp.com
END:VEVENT
END:VCALENDAR
