BEGIN:VCALENDAR
PRODID:-//WikiCFP//BrandoZ 1.0//EN
VERSION:2.0
CALSCALE:GREGORIAN
BEGIN:VEVENT
DTSTAMP:20260423T201618Z
DTSTART;VALUE=DATE:20200823
DTEND;VALUE=DATE:20200829
SUMMARY:ECCV 2020
DESCRIPTION:European Conference on Computer Vision
URL:http://www.wikicfp.com/cfp/servlet/event.showcfp?eventid=92874&copyow
 nerid=158690
UID:cfp811389-E@wikicfp.com
END:VEVENT
END:VCALENDAR
