BEGIN:VCALENDAR
PRODID:-//WikiCFP//anoll 1.0//EN
VERSION:2.0
CALSCALE:GREGORIAN
BEGIN:VEVENT
DTSTAMP:20260420T021744Z
DTSTART;VALUE=DATE:20110126
DTEND;VALUE=DATE:20110129
SUMMARY:POPL 2011
DESCRIPTION:The 38th Annual ACM SIGPLAN-SIGACT Symposium on Principles of
  Programming Languages
URL:http://www.wikicfp.com/cfp/servlet/event.showcfp?eventid=8238&copyown
 erid=15860
UID:cfp108780-E@wikicfp.com
END:VEVENT
BEGIN:VEVENT
DTSTAMP:20260420T021744Z
DTSTART;VALUE=DATE:20100708
SUMMARY:POPL 2011 Abstract Due
DESCRIPTION:The 38th Annual ACM SIGPLAN-SIGACT Symposium on Principles of
  Programming Languages
URL:http://www.wikicfp.com/cfp/servlet/event.showcfp?eventid=8238&copyown
 erid=15860
UID:cfp108780-A@wikicfp.com
END:VEVENT
BEGIN:VEVENT
DTSTAMP:20260420T021744Z
DTSTART;VALUE=DATE:20100715
SUMMARY:POPL 2011 Deadline
DESCRIPTION:The 38th Annual ACM SIGPLAN-SIGACT Symposium on Principles of
  Programming Languages
URL:http://www.wikicfp.com/cfp/servlet/event.showcfp?eventid=8238&copyown
 erid=15860
UID:cfp108780-D@wikicfp.com
END:VEVENT
BEGIN:VEVENT
DTSTAMP:20260420T021744Z
DTSTART;VALUE=DATE:20101003
SUMMARY:POPL 2011 Notification Due
DESCRIPTION:The 38th Annual ACM SIGPLAN-SIGACT Symposium on Principles of
  Programming Languages
URL:http://www.wikicfp.com/cfp/servlet/event.showcfp?eventid=8238&copyown
 erid=15860
UID:cfp108780-N@wikicfp.com
END:VEVENT
BEGIN:VEVENT
DTSTAMP:20260420T021744Z
DTSTART;VALUE=DATE:20101109
SUMMARY:POPL 2011 Final Version Due
DESCRIPTION:The 38th Annual ACM SIGPLAN-SIGACT Symposium on Principles of
  Programming Languages
URL:http://www.wikicfp.com/cfp/servlet/event.showcfp?eventid=8238&copyown
 erid=15860
UID:cfp108780-N@wikicfp.com
END:VEVENT
BEGIN:VEVENT
DTSTAMP:20260420T021744Z
DTSTART;VALUE=DATE:20110305
DTEND;VALUE=DATE:20110312
SUMMARY:ASPLOS 2011
DESCRIPTION:Architectural Support for Programming Languages and Operating
  Systems
URL:http://www.wikicfp.com/cfp/servlet/event.showcfp?eventid=10048&copyow
 nerid=15860
UID:cfp108806-E@wikicfp.com
END:VEVENT
BEGIN:VEVENT
DTSTAMP:20260420T021744Z
DTSTART;VALUE=DATE:20100719
SUMMARY:ASPLOS 2011 Abstract Due
DESCRIPTION:Architectural Support for Programming Languages and Operating
  Systems
URL:http://www.wikicfp.com/cfp/servlet/event.showcfp?eventid=10048&copyow
 nerid=15860
UID:cfp108806-A@wikicfp.com
END:VEVENT
BEGIN:VEVENT
DTSTAMP:20260420T021744Z
DTSTART;VALUE=DATE:20100726
SUMMARY:ASPLOS 2011 Deadline
DESCRIPTION:Architectural Support for Programming Languages and Operating
  Systems
URL:http://www.wikicfp.com/cfp/servlet/event.showcfp?eventid=10048&copyow
 nerid=15860
UID:cfp108806-D@wikicfp.com
END:VEVENT
BEGIN:VEVENT
DTSTAMP:20260420T021744Z
DTSTART;VALUE=DATE:20101029
SUMMARY:ASPLOS 2011 Notification Due
DESCRIPTION:Architectural Support for Programming Languages and Operating
  Systems
URL:http://www.wikicfp.com/cfp/servlet/event.showcfp?eventid=10048&copyow
 nerid=15860
UID:cfp108806-N@wikicfp.com
END:VEVENT
BEGIN:VEVENT
DTSTAMP:20260420T021744Z
DTSTART;VALUE=DATE:20110402
DTEND;VALUE=DATE:20110407
SUMMARY:CGO 2011
DESCRIPTION:International Symposium on Code Generation and Optimization
URL:http://www.wikicfp.com/cfp/servlet/event.showcfp?eventid=10324&copyow
 nerid=15860
UID:cfp108776-E@wikicfp.com
END:VEVENT
BEGIN:VEVENT
DTSTAMP:20260420T021744Z
DTSTART;VALUE=DATE:20100915
SUMMARY:CGO 2011 Abstract Due
DESCRIPTION:International Symposium on Code Generation and Optimization
URL:http://www.wikicfp.com/cfp/servlet/event.showcfp?eventid=10324&copyow
 nerid=15860
UID:cfp108776-A@wikicfp.com
END:VEVENT
BEGIN:VEVENT
DTSTAMP:20260420T021744Z
DTSTART;VALUE=DATE:20100922
SUMMARY:CGO 2011 Deadline
DESCRIPTION:International Symposium on Code Generation and Optimization
URL:http://www.wikicfp.com/cfp/servlet/event.showcfp?eventid=10324&copyow
 nerid=15860
UID:cfp108776-D@wikicfp.com
END:VEVENT
BEGIN:VEVENT
DTSTAMP:20260420T021744Z
DTSTART;VALUE=DATE:20101110
SUMMARY:CGO 2011 Notification Due
DESCRIPTION:International Symposium on Code Generation and Optimization
URL:http://www.wikicfp.com/cfp/servlet/event.showcfp?eventid=10324&copyow
 nerid=15860
UID:cfp108776-N@wikicfp.com
END:VEVENT
BEGIN:VEVENT
DTSTAMP:20260420T021744Z
DTSTART;VALUE=DATE:20110326
DTEND;VALUE=DATE:20110404
SUMMARY:CC 2011
DESCRIPTION:CC 2011 International Conference on  Compiler Construction
URL:http://www.wikicfp.com/cfp/servlet/event.showcfp?eventid=11233&copyow
 nerid=15860
UID:cfp108805-E@wikicfp.com
END:VEVENT
BEGIN:VEVENT
DTSTAMP:20260420T021744Z
DTSTART;VALUE=DATE:20101001
SUMMARY:CC 2011 Abstract Due
DESCRIPTION:CC 2011 International Conference on  Compiler Construction
URL:http://www.wikicfp.com/cfp/servlet/event.showcfp?eventid=11233&copyow
 nerid=15860
UID:cfp108805-A@wikicfp.com
END:VEVENT
BEGIN:VEVENT
DTSTAMP:20260420T021744Z
DTSTART;VALUE=DATE:20101008
SUMMARY:CC 2011 Deadline
DESCRIPTION:CC 2011 International Conference on  Compiler Construction
URL:http://www.wikicfp.com/cfp/servlet/event.showcfp?eventid=11233&copyow
 nerid=15860
UID:cfp108805-D@wikicfp.com
END:VEVENT
BEGIN:VEVENT
DTSTAMP:20260420T021744Z
DTSTART;VALUE=DATE:20101210
SUMMARY:CC 2011 Notification Due
DESCRIPTION:CC 2011 International Conference on  Compiler Construction
URL:http://www.wikicfp.com/cfp/servlet/event.showcfp?eventid=11233&copyow
 nerid=15860
UID:cfp108805-N@wikicfp.com
END:VEVENT
BEGIN:VEVENT
DTSTAMP:20260420T021744Z
DTSTART;VALUE=DATE:20110103
SUMMARY:CC 2011 Final Version Due
DESCRIPTION:CC 2011 International Conference on  Compiler Construction
URL:http://www.wikicfp.com/cfp/servlet/event.showcfp?eventid=11233&copyow
 nerid=15860
UID:cfp108805-N@wikicfp.com
END:VEVENT
BEGIN:VEVENT
DTSTAMP:20260420T021744Z
DTSTART;VALUE=DATE:20110410
DTEND;VALUE=DATE:20110414
SUMMARY:Eurosys 2011
DESCRIPTION:European Conference on Computer Systems
URL:http://www.wikicfp.com/cfp/servlet/event.showcfp?eventid=10033&copyow
 nerid=15860
UID:cfp108777-E@wikicfp.com
END:VEVENT
BEGIN:VEVENT
DTSTAMP:20260420T021744Z
DTSTART;VALUE=DATE:20100910
SUMMARY:Eurosys 2011 Abstract Due
DESCRIPTION:European Conference on Computer Systems
URL:http://www.wikicfp.com/cfp/servlet/event.showcfp?eventid=10033&copyow
 nerid=15860
UID:cfp108777-A@wikicfp.com
END:VEVENT
BEGIN:VEVENT
DTSTAMP:20260420T021744Z
DTSTART;VALUE=DATE:20101010
SUMMARY:Eurosys 2011 Deadline
DESCRIPTION:European Conference on Computer Systems
URL:http://www.wikicfp.com/cfp/servlet/event.showcfp?eventid=10033&copyow
 nerid=15860
UID:cfp108777-D@wikicfp.com
END:VEVENT
BEGIN:VEVENT
DTSTAMP:20260420T021744Z
DTSTART;VALUE=DATE:20101225
SUMMARY:Eurosys 2011 Notification Due
DESCRIPTION:European Conference on Computer Systems
URL:http://www.wikicfp.com/cfp/servlet/event.showcfp?eventid=10033&copyow
 nerid=15860
UID:cfp108777-N@wikicfp.com
END:VEVENT
BEGIN:VEVENT
DTSTAMP:20260420T021744Z
DTSTART;VALUE=DATE:20110309
DTEND;VALUE=DATE:20110312
SUMMARY:VEE 2011
DESCRIPTION:ACM International Conference on Virtual Execution Environment
 s
URL:http://www.wikicfp.com/cfp/servlet/event.showcfp?eventid=10325&copyow
 nerid=15860
UID:cfp108779-E@wikicfp.com
END:VEVENT
BEGIN:VEVENT
DTSTAMP:20260420T021744Z
DTSTART;VALUE=DATE:20101025
SUMMARY:VEE 2011 Abstract Due
DESCRIPTION:ACM International Conference on Virtual Execution Environment
 s
URL:http://www.wikicfp.com/cfp/servlet/event.showcfp?eventid=10325&copyow
 nerid=15860
UID:cfp108779-A@wikicfp.com
END:VEVENT
BEGIN:VEVENT
DTSTAMP:20260420T021744Z
DTSTART;VALUE=DATE:20101101
SUMMARY:VEE 2011 Deadline
DESCRIPTION:ACM International Conference on Virtual Execution Environment
 s
URL:http://www.wikicfp.com/cfp/servlet/event.showcfp?eventid=10325&copyow
 nerid=15860
UID:cfp108779-D@wikicfp.com
END:VEVENT
BEGIN:VEVENT
DTSTAMP:20260420T021744Z
DTSTART;VALUE=DATE:20101220
SUMMARY:VEE 2011 Notification Due
DESCRIPTION:ACM International Conference on Virtual Execution Environment
 s
URL:http://www.wikicfp.com/cfp/servlet/event.showcfp?eventid=10325&copyow
 nerid=15860
UID:cfp108779-N@wikicfp.com
END:VEVENT
BEGIN:VEVENT
DTSTAMP:20260420T021744Z
DTSTART;VALUE=DATE:20110117
SUMMARY:VEE 2011 Final Version Due
DESCRIPTION:ACM International Conference on Virtual Execution Environment
 s
URL:http://www.wikicfp.com/cfp/servlet/event.showcfp?eventid=10325&copyow
 nerid=15860
UID:cfp108779-N@wikicfp.com
END:VEVENT
BEGIN:VEVENT
DTSTAMP:20260420T021744Z
DTSTART;VALUE=DATE:20110604
DTEND;VALUE=DATE:20110609
SUMMARY:PLDI 2011
DESCRIPTION:The 32nd ACM SIGPLAN conference on Programming Language Desig
 n and Implementation
URL:http://www.wikicfp.com/cfp/servlet/event.showcfp?eventid=11254&copyow
 nerid=15860
UID:cfp108775-E@wikicfp.com
END:VEVENT
BEGIN:VEVENT
DTSTAMP:20260420T021744Z
DTSTART;VALUE=DATE:20101112
SUMMARY:PLDI 2011 Abstract Due
DESCRIPTION:The 32nd ACM SIGPLAN conference on Programming Language Desig
 n and Implementation
URL:http://www.wikicfp.com/cfp/servlet/event.showcfp?eventid=11254&copyow
 nerid=15860
UID:cfp108775-A@wikicfp.com
END:VEVENT
BEGIN:VEVENT
DTSTAMP:20260420T021744Z
DTSTART;VALUE=DATE:20101119
SUMMARY:PLDI 2011 Deadline
DESCRIPTION:The 32nd ACM SIGPLAN conference on Programming Language Desig
 n and Implementation
URL:http://www.wikicfp.com/cfp/servlet/event.showcfp?eventid=11254&copyow
 nerid=15860
UID:cfp108775-D@wikicfp.com
END:VEVENT
BEGIN:VEVENT
DTSTAMP:20260420T021744Z
DTSTART;VALUE=DATE:20110203
SUMMARY:PLDI 2011 Notification Due
DESCRIPTION:The 32nd ACM SIGPLAN conference on Programming Language Desig
 n and Implementation
URL:http://www.wikicfp.com/cfp/servlet/event.showcfp?eventid=11254&copyow
 nerid=15860
UID:cfp108775-N@wikicfp.com
END:VEVENT
BEGIN:VEVENT
DTSTAMP:20260420T021744Z
DTSTART;VALUE=DATE:20110503
DTEND;VALUE=DATE:20110506
SUMMARY:CF 2011
DESCRIPTION:Computing Frontiers Conference
URL:http://www.wikicfp.com/cfp/servlet/event.showcfp?eventid=11510&copyow
 nerid=15860
UID:cfp108774-E@wikicfp.com
END:VEVENT
BEGIN:VEVENT
DTSTAMP:20260420T021744Z
DTSTART;VALUE=DATE:20101203
SUMMARY:CF 2011 Abstract Due
DESCRIPTION:Computing Frontiers Conference
URL:http://www.wikicfp.com/cfp/servlet/event.showcfp?eventid=11510&copyow
 nerid=15860
UID:cfp108774-A@wikicfp.com
END:VEVENT
BEGIN:VEVENT
DTSTAMP:20260420T021744Z
DTSTART;VALUE=DATE:20101210
SUMMARY:CF 2011 Deadline
DESCRIPTION:Computing Frontiers Conference
URL:http://www.wikicfp.com/cfp/servlet/event.showcfp?eventid=11510&copyow
 nerid=15860
UID:cfp108774-D@wikicfp.com
END:VEVENT
BEGIN:VEVENT
DTSTAMP:20260420T021744Z
DTSTART;VALUE=DATE:20110214
SUMMARY:CF 2011 Notification Due
DESCRIPTION:Computing Frontiers Conference
URL:http://www.wikicfp.com/cfp/servlet/event.showcfp?eventid=11510&copyow
 nerid=15860
UID:cfp108774-N@wikicfp.com
END:VEVENT
BEGIN:VEVENT
DTSTAMP:20260420T021744Z
DTSTART;VALUE=DATE:20110725
DTEND;VALUE=DATE:20110730
SUMMARY:ECOOP 2011
DESCRIPTION:25th European Conference on Object-Oriented Programming
URL:http://www.wikicfp.com/cfp/servlet/event.showcfp?eventid=11143&copyow
 nerid=15860
UID:cfp108778-E@wikicfp.com
END:VEVENT
BEGIN:VEVENT
DTSTAMP:20260420T021744Z
DTSTART;VALUE=DATE:20101215
SUMMARY:ECOOP 2011 Deadline
DESCRIPTION:25th European Conference on Object-Oriented Programming
URL:http://www.wikicfp.com/cfp/servlet/event.showcfp?eventid=11143&copyow
 nerid=15860
UID:cfp108778-D@wikicfp.com
END:VEVENT
BEGIN:VEVENT
DTSTAMP:20260420T021744Z
DTSTART;VALUE=DATE:20110301
SUMMARY:ECOOP 2011 Notification Due
DESCRIPTION:25th European Conference on Object-Oriented Programming
URL:http://www.wikicfp.com/cfp/servlet/event.showcfp?eventid=11143&copyow
 nerid=15860
UID:cfp108778-N@wikicfp.com
END:VEVENT
BEGIN:VEVENT
DTSTAMP:20260420T021744Z
DTSTART;VALUE=DATE:20110417
SUMMARY:ECOOP 2011 Final Version Due
DESCRIPTION:25th European Conference on Object-Oriented Programming
URL:http://www.wikicfp.com/cfp/servlet/event.showcfp?eventid=11143&copyow
 nerid=15860
UID:cfp108778-N@wikicfp.com
END:VEVENT
BEGIN:VEVENT
DTSTAMP:20260420T021744Z
DTSTART;VALUE=DATE:20110601
DTEND;VALUE=DATE:20110605
SUMMARY:ICS 2011
DESCRIPTION:25th International Conference on Supercomputing
URL:http://www.wikicfp.com/cfp/servlet/event.showcfp?eventid=10971&copyow
 nerid=15860
UID:cfp110708-E@wikicfp.com
END:VEVENT
BEGIN:VEVENT
DTSTAMP:20260420T021744Z
DTSTART;VALUE=DATE:20110110
SUMMARY:ICS 2011 Abstract Due
DESCRIPTION:25th International Conference on Supercomputing
URL:http://www.wikicfp.com/cfp/servlet/event.showcfp?eventid=10971&copyow
 nerid=15860
UID:cfp110708-A@wikicfp.com
END:VEVENT
BEGIN:VEVENT
DTSTAMP:20260420T021744Z
DTSTART;VALUE=DATE:20110114
SUMMARY:ICS 2011 Deadline
DESCRIPTION:25th International Conference on Supercomputing
URL:http://www.wikicfp.com/cfp/servlet/event.showcfp?eventid=10971&copyow
 nerid=15860
UID:cfp110708-D@wikicfp.com
END:VEVENT
BEGIN:VEVENT
DTSTAMP:20260420T021744Z
DTSTART;VALUE=DATE:20110301
SUMMARY:ICS 2011 Notification Due
DESCRIPTION:25th International Conference on Supercomputing
URL:http://www.wikicfp.com/cfp/servlet/event.showcfp?eventid=10971&copyow
 nerid=15860
UID:cfp110708-N@wikicfp.com
END:VEVENT
BEGIN:VEVENT
DTSTAMP:20260420T021744Z
DTSTART;VALUE=DATE:20110331
SUMMARY:ICS 2011 Final Version Due
DESCRIPTION:25th International Conference on Supercomputing
URL:http://www.wikicfp.com/cfp/servlet/event.showcfp?eventid=10971&copyow
 nerid=15860
UID:cfp110708-N@wikicfp.com
END:VEVENT
BEGIN:VEVENT
DTSTAMP:20260420T021744Z
DTSTART;VALUE=DATE:20110526
DTEND;VALUE=DATE:20110528
SUMMARY:HotPar 2011
DESCRIPTION:3rd USENIX Workshop on Hot Topics in Parallelism
URL:http://www.wikicfp.com/cfp/servlet/event.showcfp?eventid=12536&copyow
 nerid=15860
UID:cfp130010-E@wikicfp.com
END:VEVENT
BEGIN:VEVENT
DTSTAMP:20260420T021744Z
DTSTART;VALUE=DATE:20110116
SUMMARY:HotPar 2011 Abstract Due
DESCRIPTION:3rd USENIX Workshop on Hot Topics in Parallelism
URL:http://www.wikicfp.com/cfp/servlet/event.showcfp?eventid=12536&copyow
 nerid=15860
UID:cfp130010-A@wikicfp.com
END:VEVENT
BEGIN:VEVENT
DTSTAMP:20260420T021744Z
DTSTART;VALUE=DATE:20110125
SUMMARY:HotPar 2011 Deadline
DESCRIPTION:3rd USENIX Workshop on Hot Topics in Parallelism
URL:http://www.wikicfp.com/cfp/servlet/event.showcfp?eventid=12536&copyow
 nerid=15860
UID:cfp130010-D@wikicfp.com
END:VEVENT
BEGIN:VEVENT
DTSTAMP:20260420T021744Z
DTSTART;VALUE=DATE:20110307
SUMMARY:HotPar 2011 Notification Due
DESCRIPTION:3rd USENIX Workshop on Hot Topics in Parallelism
URL:http://www.wikicfp.com/cfp/servlet/event.showcfp?eventid=12536&copyow
 nerid=15860
UID:cfp130010-N@wikicfp.com
END:VEVENT
BEGIN:VEVENT
DTSTAMP:20260420T021744Z
DTSTART;VALUE=DATE:20110419
SUMMARY:HotPar 2011 Final Version Due
DESCRIPTION:3rd USENIX Workshop on Hot Topics in Parallelism
URL:http://www.wikicfp.com/cfp/servlet/event.showcfp?eventid=12536&copyow
 nerid=15860
UID:cfp130010-N@wikicfp.com
END:VEVENT
BEGIN:VEVENT
DTSTAMP:20260420T021744Z
DTSTART;VALUE=DATE:20111022
DTEND;VALUE=DATE:20111028
SUMMARY:SPLASH 2011
DESCRIPTION:Conference on Systems\, Programming\, and Applications: Softw
 are for Humanity 
URL:http://www.wikicfp.com/cfp/servlet/event.showcfp?eventid=13190&copyow
 nerid=15860
UID:cfp130011-E@wikicfp.com
END:VEVENT
BEGIN:VEVENT
DTSTAMP:20260420T021744Z
DTSTART;VALUE=DATE:20110408
SUMMARY:SPLASH 2011 Deadline
DESCRIPTION:Conference on Systems\, Programming\, and Applications: Softw
 are for Humanity 
URL:http://www.wikicfp.com/cfp/servlet/event.showcfp?eventid=13190&copyow
 nerid=15860
UID:cfp130011-D@wikicfp.com
END:VEVENT
BEGIN:VEVENT
DTSTAMP:20260420T021744Z
DTSTART;VALUE=DATE:20110613
SUMMARY:SPLASH 2011 Notification Due
DESCRIPTION:Conference on Systems\, Programming\, and Applications: Softw
 are for Humanity 
URL:http://www.wikicfp.com/cfp/servlet/event.showcfp?eventid=13190&copyow
 nerid=15860
UID:cfp130011-N@wikicfp.com
END:VEVENT
BEGIN:VEVENT
DTSTAMP:20260420T021744Z
DTSTART;VALUE=DATE:20110725
SUMMARY:SPLASH 2011 Final Version Due
DESCRIPTION:Conference on Systems\, Programming\, and Applications: Softw
 are for Humanity 
URL:http://www.wikicfp.com/cfp/servlet/event.showcfp?eventid=13190&copyow
 nerid=15860
UID:cfp130011-N@wikicfp.com
END:VEVENT
END:VCALENDAR
