BEGIN:VCALENDAR
PRODID:-//WikiCFP//PPAPADOPOULOU 1.0//EN
VERSION:2.0
CALSCALE:GREGORIAN
BEGIN:VEVENT
DTSTAMP:20260424T125959Z
DTSTART;VALUE=DATE:20200307
DTEND;VALUE=DATE:20200309
SUMMARY:FOOD 2020
DESCRIPTION:Heritage\, Terroir and Community:  3rd Global 'Food and Drink
  in the 21st Century' Conference
URL:http://www.wikicfp.com/cfp/servlet/event.showcfp?eventid=92732&copyow
 nerid=158511
UID:cfp810641-E@wikicfp.com
END:VEVENT
BEGIN:VEVENT
DTSTAMP:20260424T125959Z
DTSTART;VALUE=DATE:20191004
SUMMARY:FOOD 2020 Deadline
DESCRIPTION:Heritage\, Terroir and Community:  3rd Global 'Food and Drink
  in the 21st Century' Conference
URL:http://www.wikicfp.com/cfp/servlet/event.showcfp?eventid=92732&copyow
 nerid=158511
UID:cfp810641-D@wikicfp.com
END:VEVENT
BEGIN:VEVENT
DTSTAMP:20260424T125959Z
DTSTART;VALUE=DATE:20191018
SUMMARY:FOOD 2020 Notification Due
DESCRIPTION:Heritage\, Terroir and Community:  3rd Global 'Food and Drink
  in the 21st Century' Conference
URL:http://www.wikicfp.com/cfp/servlet/event.showcfp?eventid=92732&copyow
 nerid=158511
UID:cfp810641-N@wikicfp.com
END:VEVENT
BEGIN:VEVENT
DTSTAMP:20260424T125959Z
DTSTART;VALUE=DATE:20200401
DTEND;VALUE=DATE:20200404
SUMMARY:Walking on Images 2020
DESCRIPTION:CFP: Walking on Images (conference session at AAH\, April 202
 0)
URL:http://www.wikicfp.com/cfp/servlet/event.showcfp?eventid=94143&copyow
 nerid=158511
UID:cfp810642-E@wikicfp.com
END:VEVENT
BEGIN:VEVENT
DTSTAMP:20260424T125959Z
DTSTART;VALUE=DATE:20191021
SUMMARY:Walking on Images 2020 Deadline
DESCRIPTION:CFP: Walking on Images (conference session at AAH\, April 202
 0)
URL:http://www.wikicfp.com/cfp/servlet/event.showcfp?eventid=94143&copyow
 nerid=158511
UID:cfp810642-D@wikicfp.com
END:VEVENT
BEGIN:VEVENT
DTSTAMP:20260424T125959Z
DTSTART;VALUE=DATE:20200407
DTEND;VALUE=DATE:20200410
SUMMARY:ICCIS 2020
DESCRIPTION:2020 International Conference on Computer and Information Sci
 ences
URL:http://www.wikicfp.com/cfp/servlet/event.showcfp?eventid=95635&copyow
 nerid=158511
UID:cfp810639-E@wikicfp.com
END:VEVENT
BEGIN:VEVENT
DTSTAMP:20260424T125959Z
DTSTART;VALUE=DATE:20191215
SUMMARY:ICCIS 2020 Deadline
DESCRIPTION:2020 International Conference on Computer and Information Sci
 ences
URL:http://www.wikicfp.com/cfp/servlet/event.showcfp?eventid=95635&copyow
 nerid=158511
UID:cfp810639-D@wikicfp.com
END:VEVENT
BEGIN:VEVENT
DTSTAMP:20260424T125959Z
DTSTART;VALUE=DATE:20200115
SUMMARY:ICCIS 2020 Notification Due
DESCRIPTION:2020 International Conference on Computer and Information Sci
 ences
URL:http://www.wikicfp.com/cfp/servlet/event.showcfp?eventid=95635&copyow
 nerid=158511
UID:cfp810639-N@wikicfp.com
END:VEVENT
BEGIN:VEVENT
DTSTAMP:20260424T125959Z
DTSTART;VALUE=DATE:20200710
DTEND;VALUE=DATE:20200713
SUMMARY:IEEE ICIVC--Ei Compendex\, Scopus 2020
DESCRIPTION:2020 5th IEEE International Conference on Image\, Vision and 
 Computing (IEEE ICIVC 2020)--Ei Compendex\, Scopus
URL:http://www.wikicfp.com/cfp/servlet/event.showcfp?eventid=95328&copyow
 nerid=158511
UID:cfp810644-E@wikicfp.com
END:VEVENT
BEGIN:VEVENT
DTSTAMP:20260424T125959Z
DTSTART;VALUE=DATE:20200615
SUMMARY:IEEE ICIVC--Ei Compendex\, Scopus 2020 Deadline
DESCRIPTION:2020 5th IEEE International Conference on Image\, Vision and 
 Computing (IEEE ICIVC 2020)--Ei Compendex\, Scopus
URL:http://www.wikicfp.com/cfp/servlet/event.showcfp?eventid=95328&copyow
 nerid=158511
UID:cfp810644-D@wikicfp.com
END:VEVENT
BEGIN:VEVENT
DTSTAMP:20260424T125959Z
DTSTART;VALUE=DATE:20200724
DTEND;VALUE=DATE:20200727
SUMMARY:CGDIP-SCOPUS 2020
DESCRIPTION:4th International Conference on Computer Graphics and Digital
  Image Processing
URL:http://www.wikicfp.com/cfp/servlet/event.showcfp?eventid=94342&copyow
 nerid=158511
UID:cfp810643-E@wikicfp.com
END:VEVENT
BEGIN:VEVENT
DTSTAMP:20260424T125959Z
DTSTART;VALUE=DATE:20200625
SUMMARY:CGDIP-SCOPUS 2020 Deadline
DESCRIPTION:4th International Conference on Computer Graphics and Digital
  Image Processing
URL:http://www.wikicfp.com/cfp/servlet/event.showcfp?eventid=94342&copyow
 nerid=158511
UID:cfp810643-D@wikicfp.com
END:VEVENT
BEGIN:VEVENT
DTSTAMP:20260424T125959Z
DTSTART;VALUE=DATE:20251020
SUMMARY:MathSJ  2025 Deadline
DESCRIPTION:Applied Mathematics and Sciences: An International Journal 
URL:http://www.wikicfp.com/cfp/servlet/event.showcfp?eventid=95656&copyow
 nerid=158511
UID:cfp810640-D@wikicfp.com
END:VEVENT
BEGIN:VEVENT
DTSTAMP:20260424T125959Z
DTSTART;VALUE=DATE:20251119
SUMMARY:MathSJ  2025 Notification Due
DESCRIPTION:Applied Mathematics and Sciences: An International Journal 
URL:http://www.wikicfp.com/cfp/servlet/event.showcfp?eventid=95656&copyow
 nerid=158511
UID:cfp810640-N@wikicfp.com
END:VEVENT
BEGIN:VEVENT
DTSTAMP:20260424T125959Z
DTSTART;VALUE=DATE:20251126
SUMMARY:MathSJ  2025 Final Version Due
DESCRIPTION:Applied Mathematics and Sciences: An International Journal 
URL:http://www.wikicfp.com/cfp/servlet/event.showcfp?eventid=95656&copyow
 nerid=158511
UID:cfp810640-N@wikicfp.com
END:VEVENT
END:VCALENDAR
