BEGIN:VCALENDAR
PRODID:-//WikiCFP//luoluo_96 1.0//EN
VERSION:2.0
CALSCALE:GREGORIAN
BEGIN:VEVENT
DTSTAMP:20260420T170001Z
DTSTART;VALUE=DATE:20220322
DTEND;VALUE=DATE:20220324
SUMMARY:TERA - Eurasia Research 2022
DESCRIPTION:2nd ICTEL 2022 â International Conference on Teaching\, Edu
 cation & Learning\, 22-23 March\, Singapore
URL:http://www.wikicfp.com/cfp/servlet/event.showcfp?eventid=92418&copyow
 nerid=157735
UID:cfp807419-E@wikicfp.com
END:VEVENT
BEGIN:VEVENT
DTSTAMP:20260420T170001Z
DTSTART;VALUE=DATE:20200104
DTEND;VALUE=DATE:20200107
SUMMARY:ACM--ICCDE--Ei\, Scopus 2020
DESCRIPTION:ACM--2020 the 6th International Conference on Computing and D
 ata Engineering (ICCDE 2020)--Ei Compendex\, Scopus
URL:http://www.wikicfp.com/cfp/servlet/event.showcfp?eventid=90182&copyow
 nerid=157735
UID:cfp809482-E@wikicfp.com
END:VEVENT
BEGIN:VEVENT
DTSTAMP:20260420T170001Z
DTSTART;VALUE=DATE:20191105
SUMMARY:ACM--ICCDE--Ei\, Scopus 2020 Deadline
DESCRIPTION:ACM--2020 the 6th International Conference on Computing and D
 ata Engineering (ICCDE 2020)--Ei Compendex\, Scopus
URL:http://www.wikicfp.com/cfp/servlet/event.showcfp?eventid=90182&copyow
 nerid=157735
UID:cfp809482-D@wikicfp.com
END:VEVENT
BEGIN:VEVENT
DTSTAMP:20260420T170001Z
DTSTART;VALUE=DATE:20200508
DTEND;VALUE=DATE:20200512
SUMMARY:ICBDA--IEEE\, Ei Compendex and Scopus 2020
DESCRIPTION:IEEE--2020 The 5th International Conference on Big Data Analy
 tics (ICBDA 2020)--Ei Compendex\, Scopus
URL:http://www.wikicfp.com/cfp/servlet/event.showcfp?eventid=90715&copyow
 nerid=157735
UID:cfp809483-E@wikicfp.com
END:VEVENT
BEGIN:VEVENT
DTSTAMP:20260420T170001Z
DTSTART;VALUE=DATE:20200105
SUMMARY:ICBDA--IEEE\, Ei Compendex and Scopus 2020 Deadline
DESCRIPTION:IEEE--2020 The 5th International Conference on Big Data Analy
 tics (ICBDA 2020)--Ei Compendex\, Scopus
URL:http://www.wikicfp.com/cfp/servlet/event.showcfp?eventid=90715&copyow
 nerid=157735
UID:cfp809483-D@wikicfp.com
END:VEVENT
BEGIN:VEVENT
DTSTAMP:20260420T170001Z
DTSTART;VALUE=DATE:20200401
DTEND;VALUE=DATE:20200404
SUMMARY:ACM--ICBDE--EI Compendex\, Scopus 2020
DESCRIPTION:ACM--2020 The 3rd International Conference on Big Data and Ed
 ucation (ICBDE 2020)--EI Compendex\, Scopus
URL:http://www.wikicfp.com/cfp/servlet/event.showcfp?eventid=93909&copyow
 nerid=157735
UID:cfp821787-E@wikicfp.com
END:VEVENT
BEGIN:VEVENT
DTSTAMP:20260420T170001Z
DTSTART;VALUE=DATE:20200131
SUMMARY:ACM--ICBDE--EI Compendex\, Scopus 2020 Deadline
DESCRIPTION:ACM--2020 The 3rd International Conference on Big Data and Ed
 ucation (ICBDE 2020)--EI Compendex\, Scopus
URL:http://www.wikicfp.com/cfp/servlet/event.showcfp?eventid=93909&copyow
 nerid=157735
UID:cfp821787-D@wikicfp.com
END:VEVENT
BEGIN:VEVENT
DTSTAMP:20260420T170001Z
DTSTART;VALUE=DATE:20200729
DTEND;VALUE=DATE:20200801
SUMMARY:CSEE&T 2020
DESCRIPTION:32nd International Conference on Software Engineering Educati
 on & Training
URL:http://www.wikicfp.com/cfp/servlet/event.showcfp?eventid=91596&copyow
 nerid=157735
UID:cfp821796-E@wikicfp.com
END:VEVENT
BEGIN:VEVENT
DTSTAMP:20260420T170001Z
DTSTART;VALUE=DATE:20200201
SUMMARY:CSEE&T 2020 Abstract Due
DESCRIPTION:32nd International Conference on Software Engineering Educati
 on & Training
URL:http://www.wikicfp.com/cfp/servlet/event.showcfp?eventid=91596&copyow
 nerid=157735
UID:cfp821796-A@wikicfp.com
END:VEVENT
BEGIN:VEVENT
DTSTAMP:20260420T170001Z
DTSTART;VALUE=DATE:20200208
SUMMARY:CSEE&T 2020 Deadline
DESCRIPTION:32nd International Conference on Software Engineering Educati
 on & Training
URL:http://www.wikicfp.com/cfp/servlet/event.showcfp?eventid=91596&copyow
 nerid=157735
UID:cfp821796-D@wikicfp.com
END:VEVENT
BEGIN:VEVENT
DTSTAMP:20260420T170001Z
DTSTART;VALUE=DATE:20200404
SUMMARY:CSEE&T 2020 Notification Due
DESCRIPTION:32nd International Conference on Software Engineering Educati
 on & Training
URL:http://www.wikicfp.com/cfp/servlet/event.showcfp?eventid=91596&copyow
 nerid=157735
UID:cfp821796-N@wikicfp.com
END:VEVENT
BEGIN:VEVENT
DTSTAMP:20260420T170001Z
DTSTART;VALUE=DATE:20200509
SUMMARY:CSEE&T 2020 Final Version Due
DESCRIPTION:32nd International Conference on Software Engineering Educati
 on & Training
URL:http://www.wikicfp.com/cfp/servlet/event.showcfp?eventid=91596&copyow
 nerid=157735
UID:cfp821796-N@wikicfp.com
END:VEVENT
BEGIN:VEVENT
DTSTAMP:20260420T170001Z
DTSTART;VALUE=DATE:20200515
DTEND;VALUE=DATE:20200519
SUMMARY:ICMET--ACM\, Ei and Scopus 2020
DESCRIPTION:ACM--2020 the 2nd International Conference on Modern Educatio
 nal Technology (ICMET 2020)--EI Compendex\, Scopus
URL:http://www.wikicfp.com/cfp/servlet/event.showcfp?eventid=92897&copyow
 nerid=157735
UID:cfp807415-E@wikicfp.com
END:VEVENT
BEGIN:VEVENT
DTSTAMP:20260420T170001Z
DTSTART;VALUE=DATE:20200315
SUMMARY:ICMET--ACM\, Ei and Scopus 2020 Deadline
DESCRIPTION:ACM--2020 the 2nd International Conference on Modern Educatio
 nal Technology (ICMET 2020)--EI Compendex\, Scopus
URL:http://www.wikicfp.com/cfp/servlet/event.showcfp?eventid=92897&copyow
 nerid=157735
UID:cfp807415-D@wikicfp.com
END:VEVENT
BEGIN:VEVENT
DTSTAMP:20260420T170001Z
DTSTART;VALUE=DATE:20200518
DTEND;VALUE=DATE:20200521
SUMMARY:ICETT--EI and Scopus 2020
DESCRIPTION:2020 The 6th International Conference on Education and Traini
 ng Technologies (ICETT 2020)--EI Compendex\, Scopus
URL:http://www.wikicfp.com/cfp/servlet/event.showcfp?eventid=94108&copyow
 nerid=157735
UID:cfp807417-E@wikicfp.com
END:VEVENT
BEGIN:VEVENT
DTSTAMP:20260420T170001Z
DTSTART;VALUE=DATE:20200320
SUMMARY:ICETT--EI and Scopus 2020 Deadline
DESCRIPTION:2020 The 6th International Conference on Education and Traini
 ng Technologies (ICETT 2020)--EI Compendex\, Scopus
URL:http://www.wikicfp.com/cfp/servlet/event.showcfp?eventid=94108&copyow
 nerid=157735
UID:cfp807417-D@wikicfp.com
END:VEVENT
BEGIN:VEVENT
DTSTAMP:20260420T170001Z
DTSTART;VALUE=DATE:20200518
DTEND;VALUE=DATE:20200521
SUMMARY:ICLT--EI Compendex\, Scopus 2020
DESCRIPTION:2020 The 6th International Conference on Learning and Teachin
 g (ICLT 2020)--EI Compendex\, Scopus
URL:http://www.wikicfp.com/cfp/servlet/event.showcfp?eventid=94110&copyow
 nerid=157735
UID:cfp807418-E@wikicfp.com
END:VEVENT
BEGIN:VEVENT
DTSTAMP:20260420T170001Z
DTSTART;VALUE=DATE:20200320
SUMMARY:ICLT--EI Compendex\, Scopus 2020 Deadline
DESCRIPTION:2020 The 6th International Conference on Learning and Teachin
 g (ICLT 2020)--EI Compendex\, Scopus
URL:http://www.wikicfp.com/cfp/servlet/event.showcfp?eventid=94110&copyow
 nerid=157735
UID:cfp807418-D@wikicfp.com
END:VEVENT
BEGIN:VEVENT
DTSTAMP:20260420T170001Z
DTSTART;VALUE=DATE:20200522
DTEND;VALUE=DATE:20200526
SUMMARY:ACM--ICDEL--Ei Compendex and Scopus 2020
DESCRIPTION:ACM--2020 the 5th International Conference on Distance Educat
 ion and Learning (ICDEL 2020)--Ei Compendex\, Scopus
URL:http://www.wikicfp.com/cfp/servlet/event.showcfp?eventid=91569&copyow
 nerid=157735
UID:cfp807416-E@wikicfp.com
END:VEVENT
BEGIN:VEVENT
DTSTAMP:20260420T170001Z
DTSTART;VALUE=DATE:20200401
SUMMARY:ACM--ICDEL--Ei Compendex and Scopus 2020 Deadline
DESCRIPTION:ACM--2020 the 5th International Conference on Distance Educat
 ion and Learning (ICDEL 2020)--Ei Compendex\, Scopus
URL:http://www.wikicfp.com/cfp/servlet/event.showcfp?eventid=91569&copyow
 nerid=157735
UID:cfp807416-D@wikicfp.com
END:VEVENT
BEGIN:VEVENT
DTSTAMP:20260420T170001Z
DTSTART;VALUE=DATE:20200528
DTEND;VALUE=DATE:20200531
SUMMARY:ACM--ICBDC--Ei and Scopus 2020
DESCRIPTION:ACM--2020 5th International Conference on Big Data and Comput
 ing (ICBDC 2020)--Ei Compendex\, Scopus
URL:http://www.wikicfp.com/cfp/servlet/event.showcfp?eventid=92749&copyow
 nerid=157735
UID:cfp809484-E@wikicfp.com
END:VEVENT
BEGIN:VEVENT
DTSTAMP:20260420T170001Z
DTSTART;VALUE=DATE:20200405
SUMMARY:ACM--ICBDC--Ei and Scopus 2020 Deadline
DESCRIPTION:ACM--2020 5th International Conference on Big Data and Comput
 ing (ICBDC 2020)--Ei Compendex\, Scopus
URL:http://www.wikicfp.com/cfp/servlet/event.showcfp?eventid=92749&copyow
 nerid=157735
UID:cfp809484-D@wikicfp.com
END:VEVENT
BEGIN:VEVENT
DTSTAMP:20260420T170001Z
DTSTART;VALUE=DATE:20200528
DTEND;VALUE=DATE:20200601
SUMMARY:IEEE--ICAIBD--Ei and Scopus 2020
DESCRIPTION:IEEE--2020 3rd International Conference on Artificial Intelli
 gence and Big Data (ICAIBD 2020)--Ei Compendex\, Scopus
URL:http://www.wikicfp.com/cfp/servlet/event.showcfp?eventid=93415&copyow
 nerid=157735
UID:cfp809485-E@wikicfp.com
END:VEVENT
BEGIN:VEVENT
DTSTAMP:20260420T170001Z
DTSTART;VALUE=DATE:20200430
SUMMARY:IEEE--ICAIBD--Ei and Scopus 2020 Deadline
DESCRIPTION:IEEE--2020 3rd International Conference on Artificial Intelli
 gence and Big Data (ICAIBD 2020)--Ei Compendex\, Scopus
URL:http://www.wikicfp.com/cfp/servlet/event.showcfp?eventid=93415&copyow
 nerid=157735
UID:cfp809485-D@wikicfp.com
END:VEVENT
BEGIN:VEVENT
DTSTAMP:20260420T170001Z
DTSTART;VALUE=DATE:20200605
DTEND;VALUE=DATE:20200608
SUMMARY:ICEBT--ACM\, EI Compendex and Scopus 2020
DESCRIPTION:ACM--2020 The 4th International Conference on E-Education\, E
 -Business and E-Technology (ICEBT 2020)--EI Compendex\, Scopus
URL:http://www.wikicfp.com/cfp/servlet/event.showcfp?eventid=95199&copyow
 nerid=157735
UID:cfp821797-E@wikicfp.com
END:VEVENT
BEGIN:VEVENT
DTSTAMP:20260420T170001Z
DTSTART;VALUE=DATE:20200505
SUMMARY:ICEBT--ACM\, EI Compendex and Scopus 2020 Deadline
DESCRIPTION:ACM--2020 The 4th International Conference on E-Education\, E
 -Business and E-Technology (ICEBT 2020)--EI Compendex\, Scopus
URL:http://www.wikicfp.com/cfp/servlet/event.showcfp?eventid=95199&copyow
 nerid=157735
UID:cfp821797-D@wikicfp.com
END:VEVENT
BEGIN:VEVENT
DTSTAMP:20260420T170001Z
DTSTART;VALUE=DATE:20200605
DTEND;VALUE=DATE:20200608
SUMMARY:ACM--ICEBT--EI and Scopus 2020
DESCRIPTION:ACM--2020 The 4th International Conference on E-Education\, E
 -Business and E-Technology (ICEBT 2020)--EI Compendex\, Scopus
URL:http://www.wikicfp.com/cfp/servlet/event.showcfp?eventid=95200&copyow
 nerid=157735
UID:cfp821788-E@wikicfp.com
END:VEVENT
BEGIN:VEVENT
DTSTAMP:20260420T170001Z
DTSTART;VALUE=DATE:20200505
SUMMARY:ACM--ICEBT--EI and Scopus 2020 Deadline
DESCRIPTION:ACM--2020 The 4th International Conference on E-Education\, E
 -Business and E-Technology (ICEBT 2020)--EI Compendex\, Scopus
URL:http://www.wikicfp.com/cfp/servlet/event.showcfp?eventid=95200&copyow
 nerid=157735
UID:cfp821788-D@wikicfp.com
END:VEVENT
BEGIN:VEVENT
DTSTAMP:20260420T170001Z
DTSTART;VALUE=DATE:20200605
DTEND;VALUE=DATE:20200609
SUMMARY:ICFET--Ei Compendex\, Scopus 2020
DESCRIPTION:2020 The 6th International Conference on Frontiers of Educati
 onal Technologies (ICFET 2020)--Ei Compendex\, Scopus
URL:http://www.wikicfp.com/cfp/servlet/event.showcfp?eventid=95216&copyow
 nerid=157735
UID:cfp821789-E@wikicfp.com
END:VEVENT
BEGIN:VEVENT
DTSTAMP:20260420T170001Z
DTSTART;VALUE=DATE:20200505
SUMMARY:ICFET--Ei Compendex\, Scopus 2020 Deadline
DESCRIPTION:2020 The 6th International Conference on Frontiers of Educati
 onal Technologies (ICFET 2020)--Ei Compendex\, Scopus
URL:http://www.wikicfp.com/cfp/servlet/event.showcfp?eventid=95216&copyow
 nerid=157735
UID:cfp821789-D@wikicfp.com
END:VEVENT
BEGIN:VEVENT
DTSTAMP:20260420T170001Z
DTSTART;VALUE=DATE:20200719
DTEND;VALUE=DATE:20200722
SUMMARY:AIET--Scopus\, EI Compendex 2020
DESCRIPTION:2020 International Conference on Artificial Intelligence in E
 ducation Technology (AIET 2020)--Scopus\, EI Compendex
URL:http://www.wikicfp.com/cfp/servlet/event.showcfp?eventid=97679&copyow
 nerid=157735
UID:cfp821791-E@wikicfp.com
END:VEVENT
BEGIN:VEVENT
DTSTAMP:20260420T170001Z
DTSTART;VALUE=DATE:20200610
SUMMARY:AIET--Scopus\, EI Compendex 2020 Deadline
DESCRIPTION:2020 International Conference on Artificial Intelligence in E
 ducation Technology (AIET 2020)--Scopus\, EI Compendex
URL:http://www.wikicfp.com/cfp/servlet/event.showcfp?eventid=97679&copyow
 nerid=157735
UID:cfp821791-D@wikicfp.com
END:VEVENT
BEGIN:VEVENT
DTSTAMP:20260420T170001Z
DTSTART;VALUE=DATE:20200719
DTEND;VALUE=DATE:20200722
SUMMARY:ACM--ICTEM--Scopus\, EI Compendex 2020
DESCRIPTION:ACM--2020 International Conference on Teaching and Education 
 Management (ICTEM 2020)--Scopus\, EI Compendex
URL:http://www.wikicfp.com/cfp/servlet/event.showcfp?eventid=97681&copyow
 nerid=157735
UID:cfp821792-E@wikicfp.com
END:VEVENT
BEGIN:VEVENT
DTSTAMP:20260420T170001Z
DTSTART;VALUE=DATE:20200610
SUMMARY:ACM--ICTEM--Scopus\, EI Compendex 2020 Deadline
DESCRIPTION:ACM--2020 International Conference on Teaching and Education 
 Management (ICTEM 2020)--Scopus\, EI Compendex
URL:http://www.wikicfp.com/cfp/servlet/event.showcfp?eventid=97681&copyow
 nerid=157735
UID:cfp821792-D@wikicfp.com
END:VEVENT
BEGIN:VEVENT
DTSTAMP:20260420T170001Z
DTSTART;VALUE=DATE:20200719
DTEND;VALUE=DATE:20200723
SUMMARY:ICEMT--Ei and Scopus 2020
DESCRIPTION:2020 The 4th International Conference on Education and Multim
 edia Technology (ICEMT 2020)--Ei Compendex\, Scopus
URL:http://www.wikicfp.com/cfp/servlet/event.showcfp?eventid=97138&copyow
 nerid=157735
UID:cfp821798-E@wikicfp.com
END:VEVENT
BEGIN:VEVENT
DTSTAMP:20260420T170001Z
DTSTART;VALUE=DATE:20200615
SUMMARY:ICEMT--Ei and Scopus 2020 Deadline
DESCRIPTION:2020 The 4th International Conference on Education and Multim
 edia Technology (ICEMT 2020)--Ei Compendex\, Scopus
URL:http://www.wikicfp.com/cfp/servlet/event.showcfp?eventid=97138&copyow
 nerid=157735
UID:cfp821798-D@wikicfp.com
END:VEVENT
END:VCALENDAR
