BEGIN:VCALENDAR
PRODID:-//WikiCFP//shiffa 1.0//EN
VERSION:2.0
CALSCALE:GREGORIAN
BEGIN:VEVENT
DTSTAMP:20260425T161556Z
DTSTART;VALUE=DATE:20111027
DTEND;VALUE=DATE:20111028
SUMMARY:SOCC 2011
DESCRIPTION:ACM Symposium on Cloud Computing
URL:http://www.wikicfp.com/cfp/servlet/event.showcfp?eventid=10558&copyow
 nerid=15761
UID:cfp141927-E@wikicfp.com
END:VEVENT
BEGIN:VEVENT
DTSTAMP:20260425T161556Z
DTSTART;VALUE=DATE:20110430
SUMMARY:SOCC 2011 Deadline
DESCRIPTION:ACM Symposium on Cloud Computing
URL:http://www.wikicfp.com/cfp/servlet/event.showcfp?eventid=10558&copyow
 nerid=15761
UID:cfp141927-D@wikicfp.com
END:VEVENT
BEGIN:VEVENT
DTSTAMP:20260425T161556Z
DTSTART;VALUE=DATE:20110711
SUMMARY:SOCC 2011 Notification Due
DESCRIPTION:ACM Symposium on Cloud Computing
URL:http://www.wikicfp.com/cfp/servlet/event.showcfp?eventid=10558&copyow
 nerid=15761
UID:cfp141927-N@wikicfp.com
END:VEVENT
BEGIN:VEVENT
DTSTAMP:20260425T161556Z
DTSTART;VALUE=DATE:20110430
SUMMARY:Information Systems Frontiers SI 2011 Deadline
DESCRIPTION:Information Systems Frontiers Special issue on Advance on Int
 elligent Grid and Cloud Computing
URL:http://www.wikicfp.com/cfp/servlet/event.showcfp?eventid=15253&copyow
 nerid=15761
UID:cfp162936-D@wikicfp.com
END:VEVENT
BEGIN:VEVENT
DTSTAMP:20260425T161556Z
DTSTART;VALUE=DATE:20110630
SUMMARY:Information Systems Frontiers SI 2011 Notification Due
DESCRIPTION:Information Systems Frontiers Special issue on Advance on Int
 elligent Grid and Cloud Computing
URL:http://www.wikicfp.com/cfp/servlet/event.showcfp?eventid=15253&copyow
 nerid=15761
UID:cfp162936-N@wikicfp.com
END:VEVENT
BEGIN:VEVENT
DTSTAMP:20260425T161556Z
DTSTART;VALUE=DATE:20110815
SUMMARY:Information Systems Frontiers SI 2011 Final Version Due
DESCRIPTION:Information Systems Frontiers Special issue on Advance on Int
 elligent Grid and Cloud Computing
URL:http://www.wikicfp.com/cfp/servlet/event.showcfp?eventid=15253&copyow
 nerid=15761
UID:cfp162936-N@wikicfp.com
END:VEVENT
BEGIN:VEVENT
DTSTAMP:20260425T161556Z
DTSTART;VALUE=DATE:20110906
DTEND;VALUE=DATE:20110909
SUMMARY:ICAIS 2011
DESCRIPTION:2011 International Conference on Adaptive and Intelligent Sys
 tems
URL:http://www.wikicfp.com/cfp/servlet/event.showcfp?eventid=12034&copyow
 nerid=15761
UID:cfp173375-E@wikicfp.com
END:VEVENT
BEGIN:VEVENT
DTSTAMP:20260425T161556Z
DTSTART;VALUE=DATE:20110610
SUMMARY:ICAIS 2011 Deadline
DESCRIPTION:2011 International Conference on Adaptive and Intelligent Sys
 tems
URL:http://www.wikicfp.com/cfp/servlet/event.showcfp?eventid=12034&copyow
 nerid=15761
UID:cfp173375-D@wikicfp.com
END:VEVENT
BEGIN:VEVENT
DTSTAMP:20260425T161556Z
DTSTART;VALUE=DATE:20110708
SUMMARY:ICAIS 2011 Notification Due
DESCRIPTION:2011 International Conference on Adaptive and Intelligent Sys
 tems
URL:http://www.wikicfp.com/cfp/servlet/event.showcfp?eventid=12034&copyow
 nerid=15761
UID:cfp173375-N@wikicfp.com
END:VEVENT
BEGIN:VEVENT
DTSTAMP:20260425T161556Z
DTSTART;VALUE=DATE:20110718
SUMMARY:ICAIS 2011 Final Version Due
DESCRIPTION:2011 International Conference on Adaptive and Intelligent Sys
 tems
URL:http://www.wikicfp.com/cfp/servlet/event.showcfp?eventid=12034&copyow
 nerid=15761
UID:cfp173375-N@wikicfp.com
END:VEVENT
BEGIN:VEVENT
DTSTAMP:20260425T161556Z
DTSTART;VALUE=DATE:20111205
DTEND;VALUE=DATE:20111209
SUMMARY:CloudCom 2011
DESCRIPTION:The 3rd IEEE International Conference on Cloud Computing Tech
 nology and Science
URL:http://www.wikicfp.com/cfp/servlet/event.showcfp?eventid=14176&copyow
 nerid=15761
UID:cfp141931-E@wikicfp.com
END:VEVENT
BEGIN:VEVENT
DTSTAMP:20260425T161556Z
DTSTART;VALUE=DATE:20110821
SUMMARY:CloudCom 2011 Deadline
DESCRIPTION:The 3rd IEEE International Conference on Cloud Computing Tech
 nology and Science
URL:http://www.wikicfp.com/cfp/servlet/event.showcfp?eventid=14176&copyow
 nerid=15761
UID:cfp141931-D@wikicfp.com
END:VEVENT
BEGIN:VEVENT
DTSTAMP:20260425T161556Z
DTSTART;VALUE=DATE:20110926
SUMMARY:CloudCom 2011 Notification Due
DESCRIPTION:The 3rd IEEE International Conference on Cloud Computing Tech
 nology and Science
URL:http://www.wikicfp.com/cfp/servlet/event.showcfp?eventid=14176&copyow
 nerid=15761
UID:cfp141931-N@wikicfp.com
END:VEVENT
BEGIN:VEVENT
DTSTAMP:20260425T161556Z
DTSTART;VALUE=DATE:20111014
SUMMARY:CloudCom 2011 Final Version Due
DESCRIPTION:The 3rd IEEE International Conference on Cloud Computing Tech
 nology and Science
URL:http://www.wikicfp.com/cfp/servlet/event.showcfp?eventid=14176&copyow
 nerid=15761
UID:cfp141931-N@wikicfp.com
END:VEVENT
BEGIN:VEVENT
DTSTAMP:20260425T161556Z
DTSTART;VALUE=DATE:20120604
DTEND;VALUE=DATE:20120609
SUMMARY:AAMAS 2012
DESCRIPTION:11th International Conference on Autonomous Agents and Multia
 gent Systems
URL:http://www.wikicfp.com/cfp/servlet/event.showcfp?eventid=16263&copyow
 nerid=15761
UID:cfp173376-E@wikicfp.com
END:VEVENT
BEGIN:VEVENT
DTSTAMP:20260425T161556Z
DTSTART;VALUE=DATE:20111007
SUMMARY:AAMAS 2012 Abstract Due
DESCRIPTION:11th International Conference on Autonomous Agents and Multia
 gent Systems
URL:http://www.wikicfp.com/cfp/servlet/event.showcfp?eventid=16263&copyow
 nerid=15761
UID:cfp173376-A@wikicfp.com
END:VEVENT
BEGIN:VEVENT
DTSTAMP:20260425T161556Z
DTSTART;VALUE=DATE:20111012
SUMMARY:AAMAS 2012 Deadline
DESCRIPTION:11th International Conference on Autonomous Agents and Multia
 gent Systems
URL:http://www.wikicfp.com/cfp/servlet/event.showcfp?eventid=16263&copyow
 nerid=15761
UID:cfp173376-D@wikicfp.com
END:VEVENT
BEGIN:VEVENT
DTSTAMP:20260425T161556Z
DTSTART;VALUE=DATE:20111221
SUMMARY:AAMAS 2012 Notification Due
DESCRIPTION:11th International Conference on Autonomous Agents and Multia
 gent Systems
URL:http://www.wikicfp.com/cfp/servlet/event.showcfp?eventid=16263&copyow
 nerid=15761
UID:cfp173376-N@wikicfp.com
END:VEVENT
BEGIN:VEVENT
DTSTAMP:20260425T161556Z
DTSTART;VALUE=DATE:20120429
DTEND;VALUE=DATE:20120504
SUMMARY:ICAISC  2012
DESCRIPTION:The 11th International Conference on Artificial Intelligence 
 and Soft Computing
URL:http://www.wikicfp.com/cfp/servlet/event.showcfp?eventid=16294&copyow
 nerid=15761
UID:cfp173372-E@wikicfp.com
END:VEVENT
BEGIN:VEVENT
DTSTAMP:20260425T161556Z
DTSTART;VALUE=DATE:20111110
SUMMARY:ICAISC  2012 Deadline
DESCRIPTION:The 11th International Conference on Artificial Intelligence 
 and Soft Computing
URL:http://www.wikicfp.com/cfp/servlet/event.showcfp?eventid=16294&copyow
 nerid=15761
UID:cfp173372-D@wikicfp.com
END:VEVENT
BEGIN:VEVENT
DTSTAMP:20260425T161556Z
DTSTART;VALUE=DATE:20111201
SUMMARY:ICAISC  2012 Notification Due
DESCRIPTION:The 11th International Conference on Artificial Intelligence 
 and Soft Computing
URL:http://www.wikicfp.com/cfp/servlet/event.showcfp?eventid=16294&copyow
 nerid=15761
UID:cfp173372-N@wikicfp.com
END:VEVENT
BEGIN:VEVENT
DTSTAMP:20260425T161556Z
DTSTART;VALUE=DATE:20120115
SUMMARY:ICAISC  2012 Final Version Due
DESCRIPTION:The 11th International Conference on Artificial Intelligence 
 and Soft Computing
URL:http://www.wikicfp.com/cfp/servlet/event.showcfp?eventid=16294&copyow
 nerid=15761
UID:cfp173372-N@wikicfp.com
END:VEVENT
BEGIN:VEVENT
DTSTAMP:20260425T161556Z
DTSTART;VALUE=DATE:20140821
DTEND;VALUE=DATE:20140824
SUMMARY:STA 2014
DESCRIPTION:The 11th FTRA International Conference on Secure and Trust Co
 mputing\, data management\, and Applications
URL:http://www.wikicfp.com/cfp/servlet/event.showcfp?eventid=36920&copyow
 nerid=15761
UID:cfp435532-E@wikicfp.com
END:VEVENT
BEGIN:VEVENT
DTSTAMP:20260425T161556Z
DTSTART;VALUE=DATE:20140515
SUMMARY:STA 2014 Deadline
DESCRIPTION:The 11th FTRA International Conference on Secure and Trust Co
 mputing\, data management\, and Applications
URL:http://www.wikicfp.com/cfp/servlet/event.showcfp?eventid=36920&copyow
 nerid=15761
UID:cfp435532-D@wikicfp.com
END:VEVENT
BEGIN:VEVENT
DTSTAMP:20260425T161556Z
DTSTART;VALUE=DATE:20140615
SUMMARY:STA 2014 Notification Due
DESCRIPTION:The 11th FTRA International Conference on Secure and Trust Co
 mputing\, data management\, and Applications
URL:http://www.wikicfp.com/cfp/servlet/event.showcfp?eventid=36920&copyow
 nerid=15761
UID:cfp435532-N@wikicfp.com
END:VEVENT
BEGIN:VEVENT
DTSTAMP:20260425T161556Z
DTSTART;VALUE=DATE:20140630
SUMMARY:STA 2014 Final Version Due
DESCRIPTION:The 11th FTRA International Conference on Secure and Trust Co
 mputing\, data management\, and Applications
URL:http://www.wikicfp.com/cfp/servlet/event.showcfp?eventid=36920&copyow
 nerid=15761
UID:cfp435532-N@wikicfp.com
END:VEVENT
BEGIN:VEVENT
DTSTAMP:20260425T161556Z
DTSTART;VALUE=DATE:20141208
DTEND;VALUE=DATE:20141212
SUMMARY:UCC 2014
DESCRIPTION:IEEE/ACM International Conference on Utility and Cloud Comput
 ing
URL:http://www.wikicfp.com/cfp/servlet/event.showcfp?eventid=36180&copyow
 nerid=15761
UID:cfp435534-E@wikicfp.com
END:VEVENT
BEGIN:VEVENT
DTSTAMP:20260425T161556Z
DTSTART;VALUE=DATE:20140718
SUMMARY:UCC 2014 Deadline
DESCRIPTION:IEEE/ACM International Conference on Utility and Cloud Comput
 ing
URL:http://www.wikicfp.com/cfp/servlet/event.showcfp?eventid=36180&copyow
 nerid=15761
UID:cfp435534-D@wikicfp.com
END:VEVENT
BEGIN:VEVENT
DTSTAMP:20260425T161556Z
DTSTART;VALUE=DATE:20140829
SUMMARY:UCC 2014 Notification Due
DESCRIPTION:IEEE/ACM International Conference on Utility and Cloud Comput
 ing
URL:http://www.wikicfp.com/cfp/servlet/event.showcfp?eventid=36180&copyow
 nerid=15761
UID:cfp435534-N@wikicfp.com
END:VEVENT
BEGIN:VEVENT
DTSTAMP:20260425T161556Z
DTSTART;VALUE=DATE:20140731
SUMMARY:IEEE TCC 2014 Deadline
DESCRIPTION:IEEE Transactions on Cloud Computing: Special Issue on Scient
 ific Cloud Computing
URL:http://www.wikicfp.com/cfp/servlet/event.showcfp?eventid=31792&copyow
 nerid=15761
UID:cfp435533-D@wikicfp.com
END:VEVENT
BEGIN:VEVENT
DTSTAMP:20260425T161556Z
DTSTART;VALUE=DATE:20141030
SUMMARY:IEEE TCC 2014 Notification Due
DESCRIPTION:IEEE Transactions on Cloud Computing: Special Issue on Scient
 ific Cloud Computing
URL:http://www.wikicfp.com/cfp/servlet/event.showcfp?eventid=31792&copyow
 nerid=15761
UID:cfp435533-N@wikicfp.com
END:VEVENT
BEGIN:VEVENT
DTSTAMP:20260425T161556Z
DTSTART;VALUE=DATE:20141201
SUMMARY:IEEE TCC 2014 Final Version Due
DESCRIPTION:IEEE Transactions on Cloud Computing: Special Issue on Scient
 ific Cloud Computing
URL:http://www.wikicfp.com/cfp/servlet/event.showcfp?eventid=31792&copyow
 nerid=15761
UID:cfp435533-N@wikicfp.com
END:VEVENT
BEGIN:VEVENT
DTSTAMP:20260425T161556Z
DTSTART;VALUE=DATE:20150707
DTEND;VALUE=DATE:20150708
SUMMARY:SISSY 2015
DESCRIPTION:International Workshop on Self-Improving System Integration
URL:http://www.wikicfp.com/cfp/servlet/event.showcfp?eventid=43663&copyow
 nerid=15761
UID:cfp510718-E@wikicfp.com
END:VEVENT
BEGIN:VEVENT
DTSTAMP:20260425T161556Z
DTSTART;VALUE=DATE:20150413
SUMMARY:SISSY 2015 Deadline
DESCRIPTION:International Workshop on Self-Improving System Integration
URL:http://www.wikicfp.com/cfp/servlet/event.showcfp?eventid=43663&copyow
 nerid=15761
UID:cfp510718-D@wikicfp.com
END:VEVENT
BEGIN:VEVENT
DTSTAMP:20260425T161556Z
DTSTART;VALUE=DATE:20150515
SUMMARY:SISSY 2015 Notification Due
DESCRIPTION:International Workshop on Self-Improving System Integration
URL:http://www.wikicfp.com/cfp/servlet/event.showcfp?eventid=43663&copyow
 nerid=15761
UID:cfp510718-N@wikicfp.com
END:VEVENT
BEGIN:VEVENT
DTSTAMP:20260425T161556Z
DTSTART;VALUE=DATE:20150522
SUMMARY:SISSY 2015 Final Version Due
DESCRIPTION:International Workshop on Self-Improving System Integration
URL:http://www.wikicfp.com/cfp/servlet/event.showcfp?eventid=43663&copyow
 nerid=15761
UID:cfp510718-N@wikicfp.com
END:VEVENT
END:VCALENDAR
