BEGIN:VCALENDAR
PRODID:-//WikiCFP//nimadadashzadeh 1.0//EN
VERSION:2.0
CALSCALE:GREGORIAN
BEGIN:VEVENT
DTSTAMP:20260422T011942Z
DTSTART;VALUE=DATE:20200502
DTEND;VALUE=DATE:20200505
SUMMARY:VEHITS 2020
DESCRIPTION:6th International Conference on Vehicle Technology and Intell
 igent Transport Systems
URL:http://www.wikicfp.com/cfp/servlet/event.showcfp?eventid=93846&copyow
 nerid=157449
UID:cfp805886-E@wikicfp.com
END:VEVENT
BEGIN:VEVENT
DTSTAMP:20260422T011942Z
DTSTART;VALUE=DATE:20200106
SUMMARY:VEHITS 2020 Deadline
DESCRIPTION:6th International Conference on Vehicle Technology and Intell
 igent Transport Systems
URL:http://www.wikicfp.com/cfp/servlet/event.showcfp?eventid=93846&copyow
 nerid=157449
UID:cfp805886-D@wikicfp.com
END:VEVENT
BEGIN:VEVENT
DTSTAMP:20260422T011942Z
DTSTART;VALUE=DATE:20200212
SUMMARY:VEHITS 2020 Notification Due
DESCRIPTION:6th International Conference on Vehicle Technology and Intell
 igent Transport Systems
URL:http://www.wikicfp.com/cfp/servlet/event.showcfp?eventid=93846&copyow
 nerid=157449
UID:cfp805886-N@wikicfp.com
END:VEVENT
BEGIN:VEVENT
DTSTAMP:20260422T011942Z
DTSTART;VALUE=DATE:20200227
SUMMARY:VEHITS 2020 Final Version Due
DESCRIPTION:6th International Conference on Vehicle Technology and Intell
 igent Transport Systems
URL:http://www.wikicfp.com/cfp/servlet/event.showcfp?eventid=93846&copyow
 nerid=157449
UID:cfp805886-N@wikicfp.com
END:VEVENT
END:VCALENDAR
