BEGIN:VCALENDAR
PRODID:-//WikiCFP//nanakesewaa 1.0//EN
VERSION:2.0
CALSCALE:GREGORIAN
BEGIN:VEVENT
DTSTAMP:20260426T022608Z
DTSTART;VALUE=DATE:20200617
DTEND;VALUE=DATE:20200620
SUMMARY:TVX 2020
DESCRIPTION:ACM International Conference on Interactive Media Experiences
 
URL:http://www.wikicfp.com/cfp/servlet/event.showcfp?eventid=94089&copyow
 nerid=157370
UID:cfp805350-E@wikicfp.com
END:VEVENT
BEGIN:VEVENT
DTSTAMP:20260426T022608Z
DTSTART;VALUE=DATE:20200124
SUMMARY:TVX 2020 Deadline
DESCRIPTION:ACM International Conference on Interactive Media Experiences
 
URL:http://www.wikicfp.com/cfp/servlet/event.showcfp?eventid=94089&copyow
 nerid=157370
UID:cfp805350-D@wikicfp.com
END:VEVENT
BEGIN:VEVENT
DTSTAMP:20260426T022608Z
DTSTART;VALUE=DATE:20201025
DTEND;VALUE=DATE:20201030
SUMMARY:NordiCHI 2020
DESCRIPTION:NordiCHI - 11th Nordic Conference on Human-Computer Interacti
 on
URL:http://www.wikicfp.com/cfp/servlet/event.showcfp?eventid=94087&copyow
 nerid=157370
UID:cfp805349-E@wikicfp.com
END:VEVENT
BEGIN:VEVENT
DTSTAMP:20260426T022608Z
DTSTART;VALUE=DATE:20200420
SUMMARY:NordiCHI 2020 Deadline
DESCRIPTION:NordiCHI - 11th Nordic Conference on Human-Computer Interacti
 on
URL:http://www.wikicfp.com/cfp/servlet/event.showcfp?eventid=94087&copyow
 nerid=157370
UID:cfp805349-D@wikicfp.com
END:VEVENT
BEGIN:VEVENT
DTSTAMP:20260426T022608Z
DTSTART;VALUE=DATE:20200618
SUMMARY:NordiCHI 2020 Notification Due
DESCRIPTION:NordiCHI - 11th Nordic Conference on Human-Computer Interacti
 on
URL:http://www.wikicfp.com/cfp/servlet/event.showcfp?eventid=94087&copyow
 nerid=157370
UID:cfp805349-N@wikicfp.com
END:VEVENT
BEGIN:VEVENT
DTSTAMP:20260426T022608Z
DTSTART;VALUE=DATE:20200907
SUMMARY:NordiCHI 2020 Final Version Due
DESCRIPTION:NordiCHI - 11th Nordic Conference on Human-Computer Interacti
 on
URL:http://www.wikicfp.com/cfp/servlet/event.showcfp?eventid=94087&copyow
 nerid=157370
UID:cfp805349-N@wikicfp.com
END:VEVENT
BEGIN:VEVENT
DTSTAMP:20260426T022608Z
DTSTART;VALUE=DATE:20240323
SUMMARY:IJMA 2024 Deadline
DESCRIPTION:International Journal of Multimedia & Its Applications -- ERA
  Indexed
URL:http://www.wikicfp.com/cfp/servlet/event.showcfp?eventid=85490&copyow
 nerid=157370
UID:cfp805325-D@wikicfp.com
END:VEVENT
BEGIN:VEVENT
DTSTAMP:20260426T022608Z
DTSTART;VALUE=DATE:20240423
SUMMARY:IJMA 2024 Notification Due
DESCRIPTION:International Journal of Multimedia & Its Applications -- ERA
  Indexed
URL:http://www.wikicfp.com/cfp/servlet/event.showcfp?eventid=85490&copyow
 nerid=157370
UID:cfp805325-N@wikicfp.com
END:VEVENT
BEGIN:VEVENT
DTSTAMP:20260426T022608Z
DTSTART;VALUE=DATE:20240430
SUMMARY:IJMA 2024 Final Version Due
DESCRIPTION:International Journal of Multimedia & Its Applications -- ERA
  Indexed
URL:http://www.wikicfp.com/cfp/servlet/event.showcfp?eventid=85490&copyow
 nerid=157370
UID:cfp805325-N@wikicfp.com
END:VEVENT
BEGIN:VEVENT
DTSTAMP:20260426T022608Z
DTSTART;VALUE=DATE:20240406
SUMMARY:IJU 2024 Deadline
DESCRIPTION:International Journal of Ubiquitous Computing
URL:http://www.wikicfp.com/cfp/servlet/event.showcfp?eventid=94145&copyow
 nerid=157370
UID:cfp805351-D@wikicfp.com
END:VEVENT
BEGIN:VEVENT
DTSTAMP:20260426T022608Z
DTSTART;VALUE=DATE:20240427
SUMMARY:IJU 2024 Notification Due
DESCRIPTION:International Journal of Ubiquitous Computing
URL:http://www.wikicfp.com/cfp/servlet/event.showcfp?eventid=94145&copyow
 nerid=157370
UID:cfp805351-N@wikicfp.com
END:VEVENT
BEGIN:VEVENT
DTSTAMP:20260426T022608Z
DTSTART;VALUE=DATE:20240429
SUMMARY:IJU 2024 Final Version Due
DESCRIPTION:International Journal of Ubiquitous Computing
URL:http://www.wikicfp.com/cfp/servlet/event.showcfp?eventid=94145&copyow
 nerid=157370
UID:cfp805351-N@wikicfp.com
END:VEVENT
END:VCALENDAR
