BEGIN:VCALENDAR
PRODID:-//WikiCFP//MECARC 1.0//EN
VERSION:2.0
CALSCALE:GREGORIAN
BEGIN:VEVENT
DTSTAMP:20260424T162638Z
DTSTART;VALUE=DATE:20200421
DTEND;VALUE=DATE:20200424
SUMMARY:MECARC 2020
DESCRIPTION:The Middle East 2020  Reshaping Identities\, Societies and St
 ates
URL:http://www.wikicfp.com/cfp/servlet/event.showcfp?eventid=94177&copyow
 nerid=157264
UID:cfp804710-E@wikicfp.com
END:VEVENT
BEGIN:VEVENT
DTSTAMP:20260424T162638Z
DTSTART;VALUE=DATE:20191101
SUMMARY:MECARC 2020 Deadline
DESCRIPTION:The Middle East 2020  Reshaping Identities\, Societies and St
 ates
URL:http://www.wikicfp.com/cfp/servlet/event.showcfp?eventid=94177&copyow
 nerid=157264
UID:cfp804710-D@wikicfp.com
END:VEVENT
BEGIN:VEVENT
DTSTAMP:20260424T162638Z
DTSTART;VALUE=DATE:20191115
SUMMARY:MECARC 2020 Notification Due
DESCRIPTION:The Middle East 2020  Reshaping Identities\, Societies and St
 ates
URL:http://www.wikicfp.com/cfp/servlet/event.showcfp?eventid=94177&copyow
 nerid=157264
UID:cfp804710-N@wikicfp.com
END:VEVENT
END:VCALENDAR
