BEGIN:VCALENDAR
PRODID:-//WikiCFP//giacomog 1.0//EN
VERSION:2.0
CALSCALE:GREGORIAN
BEGIN:VEVENT
DTSTAMP:20260419T165118Z
DTSTART;VALUE=DATE:20190520
DTEND;VALUE=DATE:20190523
SUMMARY:IEEE S&P 2019
DESCRIPTION:IEEE Symposium on Security and Privacy
URL:http://www.wikicfp.com/cfp/servlet/event.showcfp?eventid=80117&copyow
 nerid=157028
UID:cfp803767-E@wikicfp.com
END:VEVENT
BEGIN:VEVENT
DTSTAMP:20260419T165118Z
DTSTART;VALUE=DATE:20181201
SUMMARY:IEEE S&P 2019 Deadline
DESCRIPTION:IEEE Symposium on Security and Privacy
URL:http://www.wikicfp.com/cfp/servlet/event.showcfp?eventid=80117&copyow
 nerid=157028
UID:cfp803767-D@wikicfp.com
END:VEVENT
BEGIN:VEVENT
DTSTAMP:20260419T165118Z
DTSTART;VALUE=DATE:20190301
SUMMARY:IEEE S&P 2019 Notification Due
DESCRIPTION:IEEE Symposium on Security and Privacy
URL:http://www.wikicfp.com/cfp/servlet/event.showcfp?eventid=80117&copyow
 nerid=157028
UID:cfp803767-N@wikicfp.com
END:VEVENT
BEGIN:VEVENT
DTSTAMP:20260419T165118Z
DTSTART;VALUE=DATE:20190501
SUMMARY:IEEE S&P 2019 Final Version Due
DESCRIPTION:IEEE Symposium on Security and Privacy
URL:http://www.wikicfp.com/cfp/servlet/event.showcfp?eventid=80117&copyow
 nerid=157028
UID:cfp803767-N@wikicfp.com
END:VEVENT
BEGIN:VEVENT
DTSTAMP:20260419T165118Z
DTSTART;VALUE=DATE:20190819
DTEND;VALUE=DATE:20190825
SUMMARY:SIGCOMM 2019
DESCRIPTION:Conference on Applications\, Technologies\, Architectures\, a
 nd Protocols for Computer Communication
URL:http://www.wikicfp.com/cfp/servlet/event.showcfp?eventid=82536&copyow
 nerid=157028
UID:cfp803759-E@wikicfp.com
END:VEVENT
BEGIN:VEVENT
DTSTAMP:20260419T165118Z
DTSTART;VALUE=DATE:20190124
SUMMARY:SIGCOMM 2019 Abstract Due
DESCRIPTION:Conference on Applications\, Technologies\, Architectures\, a
 nd Protocols for Computer Communication
URL:http://www.wikicfp.com/cfp/servlet/event.showcfp?eventid=82536&copyow
 nerid=157028
UID:cfp803759-A@wikicfp.com
END:VEVENT
BEGIN:VEVENT
DTSTAMP:20260419T165118Z
DTSTART;VALUE=DATE:20190131
SUMMARY:SIGCOMM 2019 Deadline
DESCRIPTION:Conference on Applications\, Technologies\, Architectures\, a
 nd Protocols for Computer Communication
URL:http://www.wikicfp.com/cfp/servlet/event.showcfp?eventid=82536&copyow
 nerid=157028
UID:cfp803759-D@wikicfp.com
END:VEVENT
BEGIN:VEVENT
DTSTAMP:20260419T165118Z
DTSTART;VALUE=DATE:20190510
SUMMARY:SIGCOMM 2019 Notification Due
DESCRIPTION:Conference on Applications\, Technologies\, Architectures\, a
 nd Protocols for Computer Communication
URL:http://www.wikicfp.com/cfp/servlet/event.showcfp?eventid=82536&copyow
 nerid=157028
UID:cfp803759-N@wikicfp.com
END:VEVENT
BEGIN:VEVENT
DTSTAMP:20260419T165118Z
DTSTART;VALUE=DATE:20190620
SUMMARY:SIGCOMM 2019 Final Version Due
DESCRIPTION:Conference on Applications\, Technologies\, Architectures\, a
 nd Protocols for Computer Communication
URL:http://www.wikicfp.com/cfp/servlet/event.showcfp?eventid=82536&copyow
 nerid=157028
UID:cfp803759-N@wikicfp.com
END:VEVENT
BEGIN:VEVENT
DTSTAMP:20260419T165118Z
DTSTART;VALUE=DATE:20191111
DTEND;VALUE=DATE:20191116
SUMMARY:CCS 2019
DESCRIPTION:26th ACM Conference on Computer and Communications Security
URL:http://www.wikicfp.com/cfp/servlet/event.showcfp?eventid=83847&copyow
 nerid=157028
UID:cfp803836-E@wikicfp.com
END:VEVENT
BEGIN:VEVENT
DTSTAMP:20260419T165118Z
DTSTART;VALUE=DATE:20190205
SUMMARY:CCS 2019 Deadline
DESCRIPTION:26th ACM Conference on Computer and Communications Security
URL:http://www.wikicfp.com/cfp/servlet/event.showcfp?eventid=83847&copyow
 nerid=157028
UID:cfp803836-D@wikicfp.com
END:VEVENT
BEGIN:VEVENT
DTSTAMP:20260419T165118Z
DTSTART;VALUE=DATE:20190419
SUMMARY:CCS 2019 Notification Due
DESCRIPTION:26th ACM Conference on Computer and Communications Security
URL:http://www.wikicfp.com/cfp/servlet/event.showcfp?eventid=83847&copyow
 nerid=157028
UID:cfp803836-N@wikicfp.com
END:VEVENT
BEGIN:VEVENT
DTSTAMP:20260419T165118Z
DTSTART;VALUE=DATE:20200812
DTEND;VALUE=DATE:20200815
SUMMARY:Usenix Security 2020
DESCRIPTION:USENIX Security '20
URL:http://www.wikicfp.com/cfp/servlet/event.showcfp?eventid=88541&copyow
 nerid=157028
UID:cfp803765-E@wikicfp.com
END:VEVENT
BEGIN:VEVENT
DTSTAMP:20260419T165118Z
DTSTART;VALUE=DATE:20190515
SUMMARY:Usenix Security 2020 Deadline
DESCRIPTION:USENIX Security '20
URL:http://www.wikicfp.com/cfp/servlet/event.showcfp?eventid=88541&copyow
 nerid=157028
UID:cfp803765-D@wikicfp.com
END:VEVENT
BEGIN:VEVENT
DTSTAMP:20260419T165118Z
DTSTART;VALUE=DATE:20190617
SUMMARY:Usenix Security 2020 Notification Due
DESCRIPTION:USENIX Security '20
URL:http://www.wikicfp.com/cfp/servlet/event.showcfp?eventid=88541&copyow
 nerid=157028
UID:cfp803765-N@wikicfp.com
END:VEVENT
BEGIN:VEVENT
DTSTAMP:20260419T165118Z
DTSTART;VALUE=DATE:20190919
SUMMARY:Usenix Security 2020 Final Version Due
DESCRIPTION:USENIX Security '20
URL:http://www.wikicfp.com/cfp/servlet/event.showcfp?eventid=88541&copyow
 nerid=157028
UID:cfp803765-N@wikicfp.com
END:VEVENT
BEGIN:VEVENT
DTSTAMP:20260419T165118Z
DTSTART;VALUE=DATE:20191209
DTEND;VALUE=DATE:20191213
SUMMARY:CoNext 2019
DESCRIPTION:15th International Conference on emerging Networking EXperime
 nts and Technologies
URL:http://www.wikicfp.com/cfp/servlet/event.showcfp?eventid=86634&copyow
 nerid=157028
UID:cfp803838-E@wikicfp.com
END:VEVENT
BEGIN:VEVENT
DTSTAMP:20260419T165118Z
DTSTART;VALUE=DATE:20190619
SUMMARY:CoNext 2019 Abstract Due
DESCRIPTION:15th International Conference on emerging Networking EXperime
 nts and Technologies
URL:http://www.wikicfp.com/cfp/servlet/event.showcfp?eventid=86634&copyow
 nerid=157028
UID:cfp803838-A@wikicfp.com
END:VEVENT
BEGIN:VEVENT
DTSTAMP:20260419T165118Z
DTSTART;VALUE=DATE:20190626
SUMMARY:CoNext 2019 Deadline
DESCRIPTION:15th International Conference on emerging Networking EXperime
 nts and Technologies
URL:http://www.wikicfp.com/cfp/servlet/event.showcfp?eventid=86634&copyow
 nerid=157028
UID:cfp803838-D@wikicfp.com
END:VEVENT
BEGIN:VEVENT
DTSTAMP:20260419T165118Z
DTSTART;VALUE=DATE:20190910
SUMMARY:CoNext 2019 Notification Due
DESCRIPTION:15th International Conference on emerging Networking EXperime
 nts and Technologies
URL:http://www.wikicfp.com/cfp/servlet/event.showcfp?eventid=86634&copyow
 nerid=157028
UID:cfp803838-N@wikicfp.com
END:VEVENT
BEGIN:VEVENT
DTSTAMP:20260419T165118Z
DTSTART;VALUE=DATE:20191013
SUMMARY:CoNext 2019 Final Version Due
DESCRIPTION:15th International Conference on emerging Networking EXperime
 nts and Technologies
URL:http://www.wikicfp.com/cfp/servlet/event.showcfp?eventid=86634&copyow
 nerid=157028
UID:cfp803838-N@wikicfp.com
END:VEVENT
BEGIN:VEVENT
DTSTAMP:20260419T165118Z
DTSTART;VALUE=DATE:20191113
DTEND;VALUE=DATE:20191116
SUMMARY:HotNets 2019
DESCRIPTION:HotNets 2019: Eighteenth ACM Workshop on Hot Topics in Networ
 ks
URL:http://www.wikicfp.com/cfp/servlet/event.showcfp?eventid=89919&copyow
 nerid=157028
UID:cfp803757-E@wikicfp.com
END:VEVENT
BEGIN:VEVENT
DTSTAMP:20260419T165118Z
DTSTART;VALUE=DATE:20190624
SUMMARY:HotNets 2019 Abstract Due
DESCRIPTION:HotNets 2019: Eighteenth ACM Workshop on Hot Topics in Networ
 ks
URL:http://www.wikicfp.com/cfp/servlet/event.showcfp?eventid=89919&copyow
 nerid=157028
UID:cfp803757-A@wikicfp.com
END:VEVENT
BEGIN:VEVENT
DTSTAMP:20260419T165118Z
DTSTART;VALUE=DATE:20190628
SUMMARY:HotNets 2019 Deadline
DESCRIPTION:HotNets 2019: Eighteenth ACM Workshop on Hot Topics in Networ
 ks
URL:http://www.wikicfp.com/cfp/servlet/event.showcfp?eventid=89919&copyow
 nerid=157028
UID:cfp803757-D@wikicfp.com
END:VEVENT
BEGIN:VEVENT
DTSTAMP:20260419T165118Z
DTSTART;VALUE=DATE:20190917
SUMMARY:HotNets 2019 Notification Due
DESCRIPTION:HotNets 2019: Eighteenth ACM Workshop on Hot Topics in Networ
 ks
URL:http://www.wikicfp.com/cfp/servlet/event.showcfp?eventid=89919&copyow
 nerid=157028
UID:cfp803757-N@wikicfp.com
END:VEVENT
BEGIN:VEVENT
DTSTAMP:20260419T165118Z
DTSTART;VALUE=DATE:20200223
DTEND;VALUE=DATE:20200227
SUMMARY:NDSS 2020
DESCRIPTION:Network and Distributed System Security Symposium
URL:http://www.wikicfp.com/cfp/servlet/event.showcfp?eventid=93176&copyow
 nerid=157028
UID:cfp803766-E@wikicfp.com
END:VEVENT
BEGIN:VEVENT
DTSTAMP:20260419T165118Z
DTSTART;VALUE=DATE:20190913
SUMMARY:NDSS 2020 Deadline
DESCRIPTION:Network and Distributed System Security Symposium
URL:http://www.wikicfp.com/cfp/servlet/event.showcfp?eventid=93176&copyow
 nerid=157028
UID:cfp803766-D@wikicfp.com
END:VEVENT
BEGIN:VEVENT
DTSTAMP:20260419T165118Z
DTSTART;VALUE=DATE:20191208
SUMMARY:NDSS 2020 Notification Due
DESCRIPTION:Network and Distributed System Security Symposium
URL:http://www.wikicfp.com/cfp/servlet/event.showcfp?eventid=93176&copyow
 nerid=157028
UID:cfp803766-N@wikicfp.com
END:VEVENT
BEGIN:VEVENT
DTSTAMP:20260419T165118Z
DTSTART;VALUE=DATE:20200124
SUMMARY:NDSS 2020 Final Version Due
DESCRIPTION:Network and Distributed System Security Symposium
URL:http://www.wikicfp.com/cfp/servlet/event.showcfp?eventid=93176&copyow
 nerid=157028
UID:cfp803766-N@wikicfp.com
END:VEVENT
BEGIN:VEVENT
DTSTAMP:20260419T165118Z
DTSTART;VALUE=DATE:20200225
DTEND;VALUE=DATE:20200228
SUMMARY:NSDI 2020
DESCRIPTION:The 17th USENIX Symposium on Networked Systems Design and Imp
 lementation
URL:http://www.wikicfp.com/cfp/servlet/event.showcfp?eventid=86502&copyow
 nerid=157028
UID:cfp803764-E@wikicfp.com
END:VEVENT
BEGIN:VEVENT
DTSTAMP:20260419T165118Z
DTSTART;VALUE=DATE:20190912
SUMMARY:NSDI 2020 Abstract Due
DESCRIPTION:The 17th USENIX Symposium on Networked Systems Design and Imp
 lementation
URL:http://www.wikicfp.com/cfp/servlet/event.showcfp?eventid=86502&copyow
 nerid=157028
UID:cfp803764-A@wikicfp.com
END:VEVENT
BEGIN:VEVENT
DTSTAMP:20260419T165118Z
DTSTART;VALUE=DATE:20190919
SUMMARY:NSDI 2020 Deadline
DESCRIPTION:The 17th USENIX Symposium on Networked Systems Design and Imp
 lementation
URL:http://www.wikicfp.com/cfp/servlet/event.showcfp?eventid=86502&copyow
 nerid=157028
UID:cfp803764-D@wikicfp.com
END:VEVENT
BEGIN:VEVENT
DTSTAMP:20260419T165118Z
DTSTART;VALUE=DATE:20191213
SUMMARY:NSDI 2020 Notification Due
DESCRIPTION:The 17th USENIX Symposium on Networked Systems Design and Imp
 lementation
URL:http://www.wikicfp.com/cfp/servlet/event.showcfp?eventid=86502&copyow
 nerid=157028
UID:cfp803764-N@wikicfp.com
END:VEVENT
BEGIN:VEVENT
DTSTAMP:20260419T165118Z
DTSTART;VALUE=DATE:20200212
SUMMARY:NSDI 2020 Final Version Due
DESCRIPTION:The 17th USENIX Symposium on Networked Systems Design and Imp
 lementation
URL:http://www.wikicfp.com/cfp/servlet/event.showcfp?eventid=86502&copyow
 nerid=157028
UID:cfp803764-N@wikicfp.com
END:VEVENT
BEGIN:VEVENT
DTSTAMP:20260419T165118Z
DTSTART;VALUE=DATE:20190624
DTEND;VALUE=DATE:20190629
SUMMARY:SIGMETRICS 2019
DESCRIPTION:ACM SIGMETRICS / IFIP PERFORMANCE 2019
URL:http://www.wikicfp.com/cfp/servlet/event.showcfp?eventid=81716&copyow
 nerid=157028
UID:cfp803763-E@wikicfp.com
END:VEVENT
BEGIN:VEVENT
DTSTAMP:20260419T165118Z
DTSTART;VALUE=DATE:20191022
SUMMARY:SIGMETRICS 2019 Abstract Due
DESCRIPTION:ACM SIGMETRICS / IFIP PERFORMANCE 2019
URL:http://www.wikicfp.com/cfp/servlet/event.showcfp?eventid=81716&copyow
 nerid=157028
UID:cfp803763-A@wikicfp.com
END:VEVENT
BEGIN:VEVENT
DTSTAMP:20260419T165118Z
DTSTART;VALUE=DATE:20191029
SUMMARY:SIGMETRICS 2019 Deadline
DESCRIPTION:ACM SIGMETRICS / IFIP PERFORMANCE 2019
URL:http://www.wikicfp.com/cfp/servlet/event.showcfp?eventid=81716&copyow
 nerid=157028
UID:cfp803763-D@wikicfp.com
END:VEVENT
BEGIN:VEVENT
DTSTAMP:20260419T165118Z
DTSTART;VALUE=DATE:20191217
SUMMARY:SIGMETRICS 2019 Notification Due
DESCRIPTION:ACM SIGMETRICS / IFIP PERFORMANCE 2019
URL:http://www.wikicfp.com/cfp/servlet/event.showcfp?eventid=81716&copyow
 nerid=157028
UID:cfp803763-N@wikicfp.com
END:VEVENT
BEGIN:VEVENT
DTSTAMP:20260419T165118Z
DTSTART;VALUE=DATE:20200427
DTEND;VALUE=DATE:20200501
SUMMARY:EuroSys 2020
DESCRIPTION:European Conference on Computer Systems
URL:http://www.wikicfp.com/cfp/servlet/event.showcfp?eventid=89498&copyow
 nerid=157028
UID:cfp803760-E@wikicfp.com
END:VEVENT
BEGIN:VEVENT
DTSTAMP:20260419T165118Z
DTSTART;VALUE=DATE:20191104
SUMMARY:EuroSys 2020 Deadline
DESCRIPTION:European Conference on Computer Systems
URL:http://www.wikicfp.com/cfp/servlet/event.showcfp?eventid=89498&copyow
 nerid=157028
UID:cfp803760-D@wikicfp.com
END:VEVENT
BEGIN:VEVENT
DTSTAMP:20260419T165118Z
DTSTART;VALUE=DATE:20200215
SUMMARY:EuroSys 2020 Notification Due
DESCRIPTION:European Conference on Computer Systems
URL:http://www.wikicfp.com/cfp/servlet/event.showcfp?eventid=89498&copyow
 nerid=157028
UID:cfp803760-N@wikicfp.com
END:VEVENT
BEGIN:VEVENT
DTSTAMP:20260419T165118Z
DTSTART;VALUE=DATE:20200315
SUMMARY:EuroSys 2020 Final Version Due
DESCRIPTION:European Conference on Computer Systems
URL:http://www.wikicfp.com/cfp/servlet/event.showcfp?eventid=89498&copyow
 nerid=157028
UID:cfp803760-N@wikicfp.com
END:VEVENT
BEGIN:VEVENT
DTSTAMP:20260419T165118Z
DTSTART;VALUE=DATE:20200303
DTEND;VALUE=DATE:20200304
SUMMARY:SOSR 2020
DESCRIPTION:ACM SIGCOMM Symposium on SDN Research 2020
URL:http://www.wikicfp.com/cfp/servlet/event.showcfp?eventid=93795&copyow
 nerid=157028
UID:cfp803758-E@wikicfp.com
END:VEVENT
BEGIN:VEVENT
DTSTAMP:20260419T165118Z
DTSTART;VALUE=DATE:20191108
SUMMARY:SOSR 2020 Abstract Due
DESCRIPTION:ACM SIGCOMM Symposium on SDN Research 2020
URL:http://www.wikicfp.com/cfp/servlet/event.showcfp?eventid=93795&copyow
 nerid=157028
UID:cfp803758-A@wikicfp.com
END:VEVENT
BEGIN:VEVENT
DTSTAMP:20260419T165118Z
DTSTART;VALUE=DATE:20191115
SUMMARY:SOSR 2020 Deadline
DESCRIPTION:ACM SIGCOMM Symposium on SDN Research 2020
URL:http://www.wikicfp.com/cfp/servlet/event.showcfp?eventid=93795&copyow
 nerid=157028
UID:cfp803758-D@wikicfp.com
END:VEVENT
BEGIN:VEVENT
DTSTAMP:20260419T165118Z
DTSTART;VALUE=DATE:20200114
SUMMARY:SOSR 2020 Notification Due
DESCRIPTION:ACM SIGCOMM Symposium on SDN Research 2020
URL:http://www.wikicfp.com/cfp/servlet/event.showcfp?eventid=93795&copyow
 nerid=157028
UID:cfp803758-N@wikicfp.com
END:VEVENT
BEGIN:VEVENT
DTSTAMP:20260419T165118Z
DTSTART;VALUE=DATE:20200204
SUMMARY:SOSR 2020 Final Version Due
DESCRIPTION:ACM SIGCOMM Symposium on SDN Research 2020
URL:http://www.wikicfp.com/cfp/servlet/event.showcfp?eventid=93795&copyow
 nerid=157028
UID:cfp803758-N@wikicfp.com
END:VEVENT
BEGIN:VEVENT
DTSTAMP:20260419T165118Z
DTSTART;VALUE=DATE:20200629
DTEND;VALUE=DATE:20200703
SUMMARY:DSN 2020
DESCRIPTION:Dependable Systems and Networks
URL:http://www.wikicfp.com/cfp/servlet/event.showcfp?eventid=91892&copyow
 nerid=157028
UID:cfp803761-E@wikicfp.com
END:VEVENT
BEGIN:VEVENT
DTSTAMP:20260419T165118Z
DTSTART;VALUE=DATE:20191203
SUMMARY:DSN 2020 Abstract Due
DESCRIPTION:Dependable Systems and Networks
URL:http://www.wikicfp.com/cfp/servlet/event.showcfp?eventid=91892&copyow
 nerid=157028
UID:cfp803761-A@wikicfp.com
END:VEVENT
BEGIN:VEVENT
DTSTAMP:20260419T165118Z
DTSTART;VALUE=DATE:20191213
SUMMARY:DSN 2020 Deadline
DESCRIPTION:Dependable Systems and Networks
URL:http://www.wikicfp.com/cfp/servlet/event.showcfp?eventid=91892&copyow
 nerid=157028
UID:cfp803761-D@wikicfp.com
END:VEVENT
BEGIN:VEVENT
DTSTAMP:20260419T165118Z
DTSTART;VALUE=DATE:20200304
SUMMARY:DSN 2020 Notification Due
DESCRIPTION:Dependable Systems and Networks
URL:http://www.wikicfp.com/cfp/servlet/event.showcfp?eventid=91892&copyow
 nerid=157028
UID:cfp803761-N@wikicfp.com
END:VEVENT
BEGIN:VEVENT
DTSTAMP:20260419T165118Z
DTSTART;VALUE=DATE:20200414
SUMMARY:DSN 2020 Final Version Due
DESCRIPTION:Dependable Systems and Networks
URL:http://www.wikicfp.com/cfp/servlet/event.showcfp?eventid=91892&copyow
 nerid=157028
UID:cfp803761-N@wikicfp.com
END:VEVENT
BEGIN:VEVENT
DTSTAMP:20260419T165118Z
DTSTART;VALUE=DATE:20200707
DTEND;VALUE=DATE:20200711
SUMMARY:ICDCS 2020
DESCRIPTION:International Conference on Distributed Computing Systems
URL:http://www.wikicfp.com/cfp/servlet/event.showcfp?eventid=93353&copyow
 nerid=157028
UID:cfp803762-E@wikicfp.com
END:VEVENT
BEGIN:VEVENT
DTSTAMP:20260419T165118Z
DTSTART;VALUE=DATE:20200106
SUMMARY:ICDCS 2020 Abstract Due
DESCRIPTION:International Conference on Distributed Computing Systems
URL:http://www.wikicfp.com/cfp/servlet/event.showcfp?eventid=93353&copyow
 nerid=157028
UID:cfp803762-A@wikicfp.com
END:VEVENT
BEGIN:VEVENT
DTSTAMP:20260419T165118Z
DTSTART;VALUE=DATE:20200113
SUMMARY:ICDCS 2020 Deadline
DESCRIPTION:International Conference on Distributed Computing Systems
URL:http://www.wikicfp.com/cfp/servlet/event.showcfp?eventid=93353&copyow
 nerid=157028
UID:cfp803762-D@wikicfp.com
END:VEVENT
BEGIN:VEVENT
DTSTAMP:20260419T165118Z
DTSTART;VALUE=DATE:20200314
SUMMARY:ICDCS 2020 Notification Due
DESCRIPTION:International Conference on Distributed Computing Systems
URL:http://www.wikicfp.com/cfp/servlet/event.showcfp?eventid=93353&copyow
 nerid=157028
UID:cfp803762-N@wikicfp.com
END:VEVENT
BEGIN:VEVENT
DTSTAMP:20260419T165118Z
DTSTART;VALUE=DATE:20200404
SUMMARY:ICDCS 2020 Final Version Due
DESCRIPTION:International Conference on Distributed Computing Systems
URL:http://www.wikicfp.com/cfp/servlet/event.showcfp?eventid=93353&copyow
 nerid=157028
UID:cfp803762-N@wikicfp.com
END:VEVENT
END:VCALENDAR
