BEGIN:VCALENDAR
PRODID:-//WikiCFP//sbasescu 1.0//EN
VERSION:2.0
CALSCALE:GREGORIAN
BEGIN:VEVENT
DTSTAMP:20260423T160602Z
DTSTART;VALUE=DATE:20200203
DTEND;VALUE=DATE:20200207
SUMMARY:HIKM 2020
DESCRIPTION:13th Australasian Conference on Health Informatics and Knowle
 dge Management
URL:http://www.wikicfp.com/cfp/servlet/event.showcfp?eventid=89758&copyow
 nerid=155470
UID:cfp799660-E@wikicfp.com
END:VEVENT
BEGIN:VEVENT
DTSTAMP:20260423T160602Z
DTSTART;VALUE=DATE:20190902
SUMMARY:HIKM 2020 Deadline
DESCRIPTION:13th Australasian Conference on Health Informatics and Knowle
 dge Management
URL:http://www.wikicfp.com/cfp/servlet/event.showcfp?eventid=89758&copyow
 nerid=155470
UID:cfp799660-D@wikicfp.com
END:VEVENT
BEGIN:VEVENT
DTSTAMP:20260423T160602Z
DTSTART;VALUE=DATE:20191014
SUMMARY:HIKM 2020 Notification Due
DESCRIPTION:13th Australasian Conference on Health Informatics and Knowle
 dge Management
URL:http://www.wikicfp.com/cfp/servlet/event.showcfp?eventid=89758&copyow
 nerid=155470
UID:cfp799660-N@wikicfp.com
END:VEVENT
BEGIN:VEVENT
DTSTAMP:20260423T160602Z
DTSTART;VALUE=DATE:20191030
SUMMARY:HIKM 2020 Final Version Due
DESCRIPTION:13th Australasian Conference on Health Informatics and Knowle
 dge Management
URL:http://www.wikicfp.com/cfp/servlet/event.showcfp?eventid=89758&copyow
 nerid=155470
UID:cfp799660-N@wikicfp.com
END:VEVENT
BEGIN:VEVENT
DTSTAMP:20260423T160602Z
DTSTART;VALUE=DATE:20191212
DTEND;VALUE=DATE:20191214
SUMMARY:RCHI 2019
DESCRIPTION:Recent Trends and Challenges in Healthcare Informatics
URL:http://www.wikicfp.com/cfp/servlet/event.showcfp?eventid=91877&copyow
 nerid=155470
UID:cfp799659-E@wikicfp.com
END:VEVENT
BEGIN:VEVENT
DTSTAMP:20260423T160602Z
DTSTART;VALUE=DATE:20190905
SUMMARY:RCHI 2019 Abstract Due
DESCRIPTION:Recent Trends and Challenges in Healthcare Informatics
URL:http://www.wikicfp.com/cfp/servlet/event.showcfp?eventid=91877&copyow
 nerid=155470
UID:cfp799659-A@wikicfp.com
END:VEVENT
BEGIN:VEVENT
DTSTAMP:20260423T160602Z
DTSTART;VALUE=DATE:20191005
SUMMARY:RCHI 2019 Deadline
DESCRIPTION:Recent Trends and Challenges in Healthcare Informatics
URL:http://www.wikicfp.com/cfp/servlet/event.showcfp?eventid=91877&copyow
 nerid=155470
UID:cfp799659-D@wikicfp.com
END:VEVENT
BEGIN:VEVENT
DTSTAMP:20260423T160602Z
DTSTART;VALUE=DATE:20191013
SUMMARY:RCHI 2019 Notification Due
DESCRIPTION:Recent Trends and Challenges in Healthcare Informatics
URL:http://www.wikicfp.com/cfp/servlet/event.showcfp?eventid=91877&copyow
 nerid=155470
UID:cfp799659-N@wikicfp.com
END:VEVENT
BEGIN:VEVENT
DTSTAMP:20260423T160602Z
DTSTART;VALUE=DATE:20191030
SUMMARY:RCHI 2019 Final Version Due
DESCRIPTION:Recent Trends and Challenges in Healthcare Informatics
URL:http://www.wikicfp.com/cfp/servlet/event.showcfp?eventid=91877&copyow
 nerid=155470
UID:cfp799659-N@wikicfp.com
END:VEVENT
BEGIN:VEVENT
DTSTAMP:20260423T160602Z
DTSTART;VALUE=DATE:20200324
DTEND;VALUE=DATE:20200326
SUMMARY:DigiCare 2020
DESCRIPTION:EAI International Conference on Digitalising Healthcare
URL:http://www.wikicfp.com/cfp/servlet/event.showcfp?eventid=92022&copyow
 nerid=155470
UID:cfp799662-E@wikicfp.com
END:VEVENT
BEGIN:VEVENT
DTSTAMP:20260423T160602Z
DTSTART;VALUE=DATE:20191018
SUMMARY:DigiCare 2020 Deadline
DESCRIPTION:EAI International Conference on Digitalising Healthcare
URL:http://www.wikicfp.com/cfp/servlet/event.showcfp?eventid=92022&copyow
 nerid=155470
UID:cfp799662-D@wikicfp.com
END:VEVENT
BEGIN:VEVENT
DTSTAMP:20260423T160602Z
DTSTART;VALUE=DATE:20191129
SUMMARY:DigiCare 2020 Notification Due
DESCRIPTION:EAI International Conference on Digitalising Healthcare
URL:http://www.wikicfp.com/cfp/servlet/event.showcfp?eventid=92022&copyow
 nerid=155470
UID:cfp799662-N@wikicfp.com
END:VEVENT
BEGIN:VEVENT
DTSTAMP:20260423T160602Z
DTSTART;VALUE=DATE:20200102
SUMMARY:DigiCare 2020 Final Version Due
DESCRIPTION:EAI International Conference on Digitalising Healthcare
URL:http://www.wikicfp.com/cfp/servlet/event.showcfp?eventid=92022&copyow
 nerid=155470
UID:cfp799662-N@wikicfp.com
END:VEVENT
BEGIN:VEVENT
DTSTAMP:20260423T160602Z
DTSTART;VALUE=DATE:20200224
DTEND;VALUE=DATE:20200227
SUMMARY:HEALTHINF 2020
DESCRIPTION:13th International Conference on Health Informatics
URL:http://www.wikicfp.com/cfp/servlet/event.showcfp?eventid=90945&copyow
 nerid=155470
UID:cfp799661-E@wikicfp.com
END:VEVENT
BEGIN:VEVENT
DTSTAMP:20260423T160602Z
DTSTART;VALUE=DATE:20191115
SUMMARY:HEALTHINF 2020 Deadline
DESCRIPTION:13th International Conference on Health Informatics
URL:http://www.wikicfp.com/cfp/servlet/event.showcfp?eventid=90945&copyow
 nerid=155470
UID:cfp799661-D@wikicfp.com
END:VEVENT
BEGIN:VEVENT
DTSTAMP:20260423T160602Z
DTSTART;VALUE=DATE:20191220
SUMMARY:HEALTHINF 2020 Notification Due
DESCRIPTION:13th International Conference on Health Informatics
URL:http://www.wikicfp.com/cfp/servlet/event.showcfp?eventid=90945&copyow
 nerid=155470
UID:cfp799661-N@wikicfp.com
END:VEVENT
BEGIN:VEVENT
DTSTAMP:20260423T160602Z
DTSTART;VALUE=DATE:20200108
SUMMARY:HEALTHINF 2020 Final Version Due
DESCRIPTION:13th International Conference on Health Informatics
URL:http://www.wikicfp.com/cfp/servlet/event.showcfp?eventid=90945&copyow
 nerid=155470
UID:cfp799661-N@wikicfp.com
END:VEVENT
BEGIN:VEVENT
DTSTAMP:20260423T160602Z
DTSTART;VALUE=DATE:20200622
DTEND;VALUE=DATE:20200626
SUMMARY:BigData Conference 2020
DESCRIPTION:2020 International Conference on Big Data Call for Papers- EI
  Compendex and Scopus
URL:http://www.wikicfp.com/cfp/servlet/event.showcfp?eventid=93571&copyow
 nerid=155470
UID:cfp811879-E@wikicfp.com
END:VEVENT
BEGIN:VEVENT
DTSTAMP:20260423T160602Z
DTSTART;VALUE=DATE:20191206
SUMMARY:BigData Conference 2020 Deadline
DESCRIPTION:2020 International Conference on Big Data Call for Papers- EI
  Compendex and Scopus
URL:http://www.wikicfp.com/cfp/servlet/event.showcfp?eventid=93571&copyow
 nerid=155470
UID:cfp811879-D@wikicfp.com
END:VEVENT
BEGIN:VEVENT
DTSTAMP:20260423T160602Z
DTSTART;VALUE=DATE:20191231
SUMMARY:BigData Conference 2020 Notification Due
DESCRIPTION:2020 International Conference on Big Data Call for Papers- EI
  Compendex and Scopus
URL:http://www.wikicfp.com/cfp/servlet/event.showcfp?eventid=93571&copyow
 nerid=155470
UID:cfp811879-N@wikicfp.com
END:VEVENT
BEGIN:VEVENT
DTSTAMP:20260423T160602Z
DTSTART;VALUE=DATE:20200422
SUMMARY:BigData Conference 2020 Final Version Due
DESCRIPTION:2020 International Conference on Big Data Call for Papers- EI
  Compendex and Scopus
URL:http://www.wikicfp.com/cfp/servlet/event.showcfp?eventid=93571&copyow
 nerid=155470
UID:cfp811879-N@wikicfp.com
END:VEVENT
BEGIN:VEVENT
DTSTAMP:20260423T160602Z
DTSTART;VALUE=DATE:20191231
SUMMARY:Bioinformatics 2019 Deadline
DESCRIPTION:SCI-indexed Journal Special Issue - Data Science and Modeling
  in Biology\, Health\, and Medicine
URL:http://www.wikicfp.com/cfp/servlet/event.showcfp?eventid=90550&copyow
 nerid=155470
UID:cfp799658-D@wikicfp.com
END:VEVENT
BEGIN:VEVENT
DTSTAMP:20260423T160602Z
DTSTART;VALUE=DATE:20191231
SUMMARY:Bioinformatics 2019 Notification Due
DESCRIPTION:SCI-indexed Journal Special Issue - Data Science and Modeling
  in Biology\, Health\, and Medicine
URL:http://www.wikicfp.com/cfp/servlet/event.showcfp?eventid=90550&copyow
 nerid=155470
UID:cfp799658-N@wikicfp.com
END:VEVENT
BEGIN:VEVENT
DTSTAMP:20260423T160602Z
DTSTART;VALUE=DATE:20191231
SUMMARY:Bioinformatics 2019 Final Version Due
DESCRIPTION:SCI-indexed Journal Special Issue - Data Science and Modeling
  in Biology\, Health\, and Medicine
URL:http://www.wikicfp.com/cfp/servlet/event.showcfp?eventid=90550&copyow
 nerid=155470
UID:cfp799658-N@wikicfp.com
END:VEVENT
BEGIN:VEVENT
DTSTAMP:20260423T160602Z
DTSTART;VALUE=DATE:20200626
DTEND;VALUE=DATE:20200627
SUMMARY:SDS 2020
DESCRIPTION:7th Swiss Conference on Data Science
URL:http://www.wikicfp.com/cfp/servlet/event.showcfp?eventid=94993&copyow
 nerid=155470
UID:cfp811880-E@wikicfp.com
END:VEVENT
BEGIN:VEVENT
DTSTAMP:20260423T160602Z
DTSTART;VALUE=DATE:20200207
SUMMARY:SDS 2020 Deadline
DESCRIPTION:7th Swiss Conference on Data Science
URL:http://www.wikicfp.com/cfp/servlet/event.showcfp?eventid=94993&copyow
 nerid=155470
UID:cfp811880-D@wikicfp.com
END:VEVENT
BEGIN:VEVENT
DTSTAMP:20260423T160602Z
DTSTART;VALUE=DATE:20200406
SUMMARY:SDS 2020 Notification Due
DESCRIPTION:7th Swiss Conference on Data Science
URL:http://www.wikicfp.com/cfp/servlet/event.showcfp?eventid=94993&copyow
 nerid=155470
UID:cfp811880-N@wikicfp.com
END:VEVENT
BEGIN:VEVENT
DTSTAMP:20260423T160602Z
DTSTART;VALUE=DATE:20200501
SUMMARY:SDS 2020 Final Version Due
DESCRIPTION:7th Swiss Conference on Data Science
URL:http://www.wikicfp.com/cfp/servlet/event.showcfp?eventid=94993&copyow
 nerid=155470
UID:cfp811880-N@wikicfp.com
END:VEVENT
BEGIN:VEVENT
DTSTAMP:20260423T160602Z
DTSTART;VALUE=DATE:20200529
DTEND;VALUE=DATE:20200601
SUMMARY:BDE--ACM\, Ei Compendex and Scopu 2020
DESCRIPTION:ACM--2020 2nd International Conference on Big Data Engineerin
 g (BDE 2020)--Ei Compendex\, Scopus
URL:http://www.wikicfp.com/cfp/servlet/event.showcfp?eventid=94844&copyow
 nerid=155470
UID:cfp809526-E@wikicfp.com
END:VEVENT
BEGIN:VEVENT
DTSTAMP:20260423T160602Z
DTSTART;VALUE=DATE:20200415
SUMMARY:BDE--ACM\, Ei Compendex and Scopu 2020 Deadline
DESCRIPTION:ACM--2020 2nd International Conference on Big Data Engineerin
 g (BDE 2020)--Ei Compendex\, Scopus
URL:http://www.wikicfp.com/cfp/servlet/event.showcfp?eventid=94844&copyow
 nerid=155470
UID:cfp809526-D@wikicfp.com
END:VEVENT
BEGIN:VEVENT
DTSTAMP:20260423T160602Z
DTSTART;VALUE=DATE:20200529
DTEND;VALUE=DATE:20200601
SUMMARY:ACM--BDE--Ei and Scopus 2020
DESCRIPTION:ACM--2020 2nd International Conference on Big Data Engineerin
 g (BDE 2020)--Ei Compendex\, Scopus
URL:http://www.wikicfp.com/cfp/servlet/event.showcfp?eventid=94845&copyow
 nerid=155470
UID:cfp809527-E@wikicfp.com
END:VEVENT
BEGIN:VEVENT
DTSTAMP:20260423T160602Z
DTSTART;VALUE=DATE:20200415
SUMMARY:ACM--BDE--Ei and Scopus 2020 Deadline
DESCRIPTION:ACM--2020 2nd International Conference on Big Data Engineerin
 g (BDE 2020)--Ei Compendex\, Scopus
URL:http://www.wikicfp.com/cfp/servlet/event.showcfp?eventid=94845&copyow
 nerid=155470
UID:cfp809527-D@wikicfp.com
END:VEVENT
END:VCALENDAR
