BEGIN:VCALENDAR
PRODID:-//WikiCFP//Abubakar Musa Ahmad 1.0//EN
VERSION:2.0
CALSCALE:GREGORIAN
BEGIN:VEVENT
DTSTAMP:20260421T135958Z
DTSTART;VALUE=DATE:20191107
DTEND;VALUE=DATE:20191110
SUMMARY:CCPI 2019
DESCRIPTION:Cloud Computing Projects and Initiatives
URL:http://www.wikicfp.com/cfp/servlet/event.showcfp?eventid=91908&copyow
 nerid=154889
UID:cfp797791-E@wikicfp.com
END:VEVENT
BEGIN:VEVENT
DTSTAMP:20260421T135958Z
DTSTART;VALUE=DATE:20190731
SUMMARY:CCPI 2019 Deadline
DESCRIPTION:Cloud Computing Projects and Initiatives
URL:http://www.wikicfp.com/cfp/servlet/event.showcfp?eventid=91908&copyow
 nerid=154889
UID:cfp797791-D@wikicfp.com
END:VEVENT
BEGIN:VEVENT
DTSTAMP:20260421T135958Z
DTSTART;VALUE=DATE:20190815
SUMMARY:CCPI 2019 Notification Due
DESCRIPTION:Cloud Computing Projects and Initiatives
URL:http://www.wikicfp.com/cfp/servlet/event.showcfp?eventid=91908&copyow
 nerid=154889
UID:cfp797791-N@wikicfp.com
END:VEVENT
BEGIN:VEVENT
DTSTAMP:20260421T135958Z
DTSTART;VALUE=DATE:20191119
DTEND;VALUE=DATE:20191121
SUMMARY:ISCMI--Ei Compendex\, Scopus 2019
DESCRIPTION:2019 6th Intl. Conference on Soft Computing & Machine Intelli
 gence (ISCMI 2019)--Ei Compendex\, Scopus
URL:http://www.wikicfp.com/cfp/servlet/event.showcfp?eventid=85764&copyow
 nerid=154889
UID:cfp797790-E@wikicfp.com
END:VEVENT
BEGIN:VEVENT
DTSTAMP:20260421T135958Z
DTSTART;VALUE=DATE:20190925
SUMMARY:ISCMI--Ei Compendex\, Scopus 2019 Deadline
DESCRIPTION:2019 6th Intl. Conference on Soft Computing & Machine Intelli
 gence (ISCMI 2019)--Ei Compendex\, Scopus
URL:http://www.wikicfp.com/cfp/servlet/event.showcfp?eventid=85764&copyow
 nerid=154889
UID:cfp797790-D@wikicfp.com
END:VEVENT
BEGIN:VEVENT
DTSTAMP:20260421T135958Z
DTSTART;VALUE=DATE:20200625
DTEND;VALUE=DATE:20200627
SUMMARY:MAPD 2020
DESCRIPTION:Multidisciplinary Approaches to Political Discourse #3: Respo
 nding to new challenges 25-26 June 2020 University of Liverpool
URL:http://www.wikicfp.com/cfp/servlet/event.showcfp?eventid=92212&copyow
 nerid=154889
UID:cfp797788-E@wikicfp.com
END:VEVENT
BEGIN:VEVENT
DTSTAMP:20260421T135958Z
DTSTART;VALUE=DATE:20191215
SUMMARY:MAPD 2020 Deadline
DESCRIPTION:Multidisciplinary Approaches to Political Discourse #3: Respo
 nding to new challenges 25-26 June 2020 University of Liverpool
URL:http://www.wikicfp.com/cfp/servlet/event.showcfp?eventid=92212&copyow
 nerid=154889
UID:cfp797788-D@wikicfp.com
END:VEVENT
BEGIN:VEVENT
DTSTAMP:20260421T135958Z
DTSTART;VALUE=DATE:20200131
SUMMARY:MAPD 2020 Notification Due
DESCRIPTION:Multidisciplinary Approaches to Political Discourse #3: Respo
 nding to new challenges 25-26 June 2020 University of Liverpool
URL:http://www.wikicfp.com/cfp/servlet/event.showcfp?eventid=92212&copyow
 nerid=154889
UID:cfp797788-N@wikicfp.com
END:VEVENT
END:VCALENDAR
