BEGIN:VCALENDAR
PRODID:-//WikiCFP//daisuke_kaji 1.0//EN
VERSION:2.0
CALSCALE:GREGORIAN
BEGIN:VEVENT
DTSTAMP:20260420T173113Z
DTSTART;VALUE=DATE:20191208
DTEND;VALUE=DATE:20191211
SUMMARY:ICAIML 2019
DESCRIPTION:ãEI SCOPUS CPCIã2019 1st International Conference on Arti
 ficial Intelligence and Machine Learning
URL:http://www.wikicfp.com/cfp/servlet/event.showcfp?eventid=85467&copyow
 nerid=154219
UID:cfp796073-E@wikicfp.com
END:VEVENT
BEGIN:VEVENT
DTSTAMP:20260420T173113Z
DTSTART;VALUE=DATE:20191008
SUMMARY:ICAIML 2019 Deadline
DESCRIPTION:ãEI SCOPUS CPCIã2019 1st International Conference on Arti
 ficial Intelligence and Machine Learning
URL:http://www.wikicfp.com/cfp/servlet/event.showcfp?eventid=85467&copyow
 nerid=154219
UID:cfp796073-D@wikicfp.com
END:VEVENT
BEGIN:VEVENT
DTSTAMP:20260420T173113Z
DTSTART;VALUE=DATE:20200603
DTEND;VALUE=DATE:20200606
SUMMARY:AISTATS 2020
DESCRIPTION:The 23rd International Conference on Artificial Intelligence 
 and Statistics
URL:http://www.wikicfp.com/cfp/servlet/event.showcfp?eventid=92246&copyow
 nerid=154219
UID:cfp798202-E@wikicfp.com
END:VEVENT
BEGIN:VEVENT
DTSTAMP:20260420T173113Z
DTSTART;VALUE=DATE:20191008
SUMMARY:AISTATS 2020 Deadline
DESCRIPTION:The 23rd International Conference on Artificial Intelligence 
 and Statistics
URL:http://www.wikicfp.com/cfp/servlet/event.showcfp?eventid=92246&copyow
 nerid=154219
UID:cfp798202-D@wikicfp.com
END:VEVENT
BEGIN:VEVENT
DTSTAMP:20260420T173113Z
DTSTART;VALUE=DATE:20200106
SUMMARY:AISTATS 2020 Notification Due
DESCRIPTION:The 23rd International Conference on Artificial Intelligence 
 and Statistics
URL:http://www.wikicfp.com/cfp/servlet/event.showcfp?eventid=92246&copyow
 nerid=154219
UID:cfp798202-N@wikicfp.com
END:VEVENT
BEGIN:VEVENT
DTSTAMP:20260420T173113Z
DTSTART;VALUE=DATE:20200410
DTEND;VALUE=DATE:20200414
SUMMARY:ACM--ICMAI--EI and Scopus 2020
DESCRIPTION:ACM--2020 5th International Conference on Mathematics and Art
 ificial Intelligence (ICMAI 2020)--Ei Compendex and Scopus
URL:http://www.wikicfp.com/cfp/servlet/event.showcfp?eventid=90441&copyow
 nerid=154219
UID:cfp796077-E@wikicfp.com
END:VEVENT
BEGIN:VEVENT
DTSTAMP:20260420T173113Z
DTSTART;VALUE=DATE:20200301
SUMMARY:ACM--ICMAI--EI and Scopus 2020 Deadline
DESCRIPTION:ACM--2020 5th International Conference on Mathematics and Art
 ificial Intelligence (ICMAI 2020)--Ei Compendex and Scopus
URL:http://www.wikicfp.com/cfp/servlet/event.showcfp?eventid=90441&copyow
 nerid=154219
UID:cfp796077-D@wikicfp.com
END:VEVENT
BEGIN:VEVENT
DTSTAMP:20260420T173113Z
DTSTART;VALUE=DATE:20200627
DTEND;VALUE=DATE:20200630
SUMMARY:WSAI--IEEE\, Ei and Scopus 2020
DESCRIPTION:IEEE--2020 the 2nd World Symposium on Artificial Intelligence
  (WSAI 2020)--Scopus & Ei Compendex
URL:http://www.wikicfp.com/cfp/servlet/event.showcfp?eventid=90437&copyow
 nerid=154219
UID:cfp796076-E@wikicfp.com
END:VEVENT
BEGIN:VEVENT
DTSTAMP:20260420T173113Z
DTSTART;VALUE=DATE:20200515
SUMMARY:WSAI--IEEE\, Ei and Scopus 2020 Deadline
DESCRIPTION:IEEE--2020 the 2nd World Symposium on Artificial Intelligence
  (WSAI 2020)--Scopus & Ei Compendex
URL:http://www.wikicfp.com/cfp/servlet/event.showcfp?eventid=90437&copyow
 nerid=154219
UID:cfp796076-D@wikicfp.com
END:VEVENT
BEGIN:VEVENT
DTSTAMP:20260420T173113Z
DTSTART;VALUE=DATE:20240830
DTEND;VALUE=DATE:20240902
SUMMARY:CCVPR 2024
DESCRIPTION:2024 International Joint Conference on Computer Vision and Pa
 ttern Recognition (CCVPR 2024)
URL:http://www.wikicfp.com/cfp/servlet/event.showcfp?eventid=86376&copyow
 nerid=154219
UID:cfp796075-E@wikicfp.com
END:VEVENT
BEGIN:VEVENT
DTSTAMP:20260420T173113Z
DTSTART;VALUE=DATE:20240719
SUMMARY:CCVPR 2024 Abstract Due
DESCRIPTION:2024 International Joint Conference on Computer Vision and Pa
 ttern Recognition (CCVPR 2024)
URL:http://www.wikicfp.com/cfp/servlet/event.showcfp?eventid=86376&copyow
 nerid=154219
UID:cfp796075-A@wikicfp.com
END:VEVENT
BEGIN:VEVENT
DTSTAMP:20260420T173113Z
DTSTART;VALUE=DATE:20240710
SUMMARY:CCVPR 2024 Deadline
DESCRIPTION:2024 International Joint Conference on Computer Vision and Pa
 ttern Recognition (CCVPR 2024)
URL:http://www.wikicfp.com/cfp/servlet/event.showcfp?eventid=86376&copyow
 nerid=154219
UID:cfp796075-D@wikicfp.com
END:VEVENT
BEGIN:VEVENT
DTSTAMP:20260420T173113Z
DTSTART;VALUE=DATE:20240725
SUMMARY:CCVPR 2024 Notification Due
DESCRIPTION:2024 International Joint Conference on Computer Vision and Pa
 ttern Recognition (CCVPR 2024)
URL:http://www.wikicfp.com/cfp/servlet/event.showcfp?eventid=86376&copyow
 nerid=154219
UID:cfp796075-N@wikicfp.com
END:VEVENT
BEGIN:VEVENT
DTSTAMP:20260420T173113Z
DTSTART;VALUE=DATE:20240801
SUMMARY:CCVPR 2024 Final Version Due
DESCRIPTION:2024 International Joint Conference on Computer Vision and Pa
 ttern Recognition (CCVPR 2024)
URL:http://www.wikicfp.com/cfp/servlet/event.showcfp?eventid=86376&copyow
 nerid=154219
UID:cfp796075-N@wikicfp.com
END:VEVENT
END:VCALENDAR
