BEGIN:VCALENDAR
PRODID:-//WikiCFP//shawnf 1.0//EN
VERSION:2.0
CALSCALE:GREGORIAN
BEGIN:VEVENT
DTSTAMP:20260421T065436Z
DTSTART;VALUE=DATE:20190925
DTEND;VALUE=DATE:20190928
SUMMARY:GC 2019
DESCRIPTION:Graph Computing 2019
URL:http://www.wikicfp.com/cfp/servlet/event.showcfp?eventid=83456&copyow
 nerid=153670
UID:cfp795256-E@wikicfp.com
END:VEVENT
BEGIN:VEVENT
DTSTAMP:20260421T065436Z
DTSTART;VALUE=DATE:20190722
SUMMARY:GC 2019 Deadline
DESCRIPTION:Graph Computing 2019
URL:http://www.wikicfp.com/cfp/servlet/event.showcfp?eventid=83456&copyow
 nerid=153670
UID:cfp795256-D@wikicfp.com
END:VEVENT
BEGIN:VEVENT
DTSTAMP:20260421T065436Z
DTSTART;VALUE=DATE:20190812
SUMMARY:GC 2019 Notification Due
DESCRIPTION:Graph Computing 2019
URL:http://www.wikicfp.com/cfp/servlet/event.showcfp?eventid=83456&copyow
 nerid=153670
UID:cfp795256-N@wikicfp.com
END:VEVENT
BEGIN:VEVENT
DTSTAMP:20260421T065436Z
DTSTART;VALUE=DATE:20190826
SUMMARY:GC 2019 Final Version Due
DESCRIPTION:Graph Computing 2019
URL:http://www.wikicfp.com/cfp/servlet/event.showcfp?eventid=83456&copyow
 nerid=153670
UID:cfp795256-N@wikicfp.com
END:VEVENT
BEGIN:VEVENT
DTSTAMP:20260421T065436Z
DTSTART;VALUE=DATE:20190925
DTEND;VALUE=DATE:20190928
SUMMARY:ai4i 2019
DESCRIPTION:Artificial Intelligence for Industries 2019
URL:http://www.wikicfp.com/cfp/servlet/event.showcfp?eventid=83457&copyow
 nerid=153670
UID:cfp795255-E@wikicfp.com
END:VEVENT
BEGIN:VEVENT
DTSTAMP:20260421T065436Z
DTSTART;VALUE=DATE:20190722
SUMMARY:ai4i 2019 Deadline
DESCRIPTION:Artificial Intelligence for Industries 2019
URL:http://www.wikicfp.com/cfp/servlet/event.showcfp?eventid=83457&copyow
 nerid=153670
UID:cfp795255-D@wikicfp.com
END:VEVENT
BEGIN:VEVENT
DTSTAMP:20260421T065436Z
DTSTART;VALUE=DATE:20190801
SUMMARY:ai4i 2019 Notification Due
DESCRIPTION:Artificial Intelligence for Industries 2019
URL:http://www.wikicfp.com/cfp/servlet/event.showcfp?eventid=83457&copyow
 nerid=153670
UID:cfp795255-N@wikicfp.com
END:VEVENT
BEGIN:VEVENT
DTSTAMP:20260421T065436Z
DTSTART;VALUE=DATE:20190814
SUMMARY:ai4i 2019 Final Version Due
DESCRIPTION:Artificial Intelligence for Industries 2019
URL:http://www.wikicfp.com/cfp/servlet/event.showcfp?eventid=83457&copyow
 nerid=153670
UID:cfp795255-N@wikicfp.com
END:VEVENT
BEGIN:VEVENT
DTSTAMP:20260421T065436Z
DTSTART;VALUE=DATE:20191020
DTEND;VALUE=DATE:20191021
SUMMARY:VISxAI 2019
DESCRIPTION:2nd Workshop on Visualization for AI Explainability (VISxAI) 
 at IEEE VIS 2019
URL:http://www.wikicfp.com/cfp/servlet/event.showcfp?eventid=91283&copyow
 nerid=153670
UID:cfp795258-E@wikicfp.com
END:VEVENT
BEGIN:VEVENT
DTSTAMP:20260421T065436Z
DTSTART;VALUE=DATE:20190724
SUMMARY:VISxAI 2019 Deadline
DESCRIPTION:2nd Workshop on Visualization for AI Explainability (VISxAI) 
 at IEEE VIS 2019
URL:http://www.wikicfp.com/cfp/servlet/event.showcfp?eventid=91283&copyow
 nerid=153670
UID:cfp795258-D@wikicfp.com
END:VEVENT
BEGIN:VEVENT
DTSTAMP:20260421T065436Z
DTSTART;VALUE=DATE:20190802
SUMMARY:VISxAI 2019 Notification Due
DESCRIPTION:2nd Workshop on Visualization for AI Explainability (VISxAI) 
 at IEEE VIS 2019
URL:http://www.wikicfp.com/cfp/servlet/event.showcfp?eventid=91283&copyow
 nerid=153670
UID:cfp795258-N@wikicfp.com
END:VEVENT
BEGIN:VEVENT
DTSTAMP:20260421T065436Z
DTSTART;VALUE=DATE:20190903
SUMMARY:VISxAI 2019 Final Version Due
DESCRIPTION:2nd Workshop on Visualization for AI Explainability (VISxAI) 
 at IEEE VIS 2019
URL:http://www.wikicfp.com/cfp/servlet/event.showcfp?eventid=91283&copyow
 nerid=153670
UID:cfp795258-N@wikicfp.com
END:VEVENT
BEGIN:VEVENT
DTSTAMP:20260421T065436Z
DTSTART;VALUE=DATE:20191110
DTEND;VALUE=DATE:20191114
SUMMARY:AIChallengeIoT 2019
DESCRIPTION:International Workshop on Challenges in Artificial Intelligen
 ce and Machine Learning for Internet of Things (in conjunction with ACM 
 SenSys)
URL:http://www.wikicfp.com/cfp/servlet/event.showcfp?eventid=91239&copyow
 nerid=153670
UID:cfp794655-E@wikicfp.com
END:VEVENT
BEGIN:VEVENT
DTSTAMP:20260421T065436Z
DTSTART;VALUE=DATE:20190802
SUMMARY:AIChallengeIoT 2019 Abstract Due
DESCRIPTION:International Workshop on Challenges in Artificial Intelligen
 ce and Machine Learning for Internet of Things (in conjunction with ACM 
 SenSys)
URL:http://www.wikicfp.com/cfp/servlet/event.showcfp?eventid=91239&copyow
 nerid=153670
UID:cfp794655-A@wikicfp.com
END:VEVENT
BEGIN:VEVENT
DTSTAMP:20260421T065436Z
DTSTART;VALUE=DATE:20190809
SUMMARY:AIChallengeIoT 2019 Deadline
DESCRIPTION:International Workshop on Challenges in Artificial Intelligen
 ce and Machine Learning for Internet of Things (in conjunction with ACM 
 SenSys)
URL:http://www.wikicfp.com/cfp/servlet/event.showcfp?eventid=91239&copyow
 nerid=153670
UID:cfp794655-D@wikicfp.com
END:VEVENT
BEGIN:VEVENT
DTSTAMP:20260421T065436Z
DTSTART;VALUE=DATE:20190910
SUMMARY:AIChallengeIoT 2019 Notification Due
DESCRIPTION:International Workshop on Challenges in Artificial Intelligen
 ce and Machine Learning for Internet of Things (in conjunction with ACM 
 SenSys)
URL:http://www.wikicfp.com/cfp/servlet/event.showcfp?eventid=91239&copyow
 nerid=153670
UID:cfp794655-N@wikicfp.com
END:VEVENT
BEGIN:VEVENT
DTSTAMP:20260421T065436Z
DTSTART;VALUE=DATE:20190920
SUMMARY:AIChallengeIoT 2019 Final Version Due
DESCRIPTION:International Workshop on Challenges in Artificial Intelligen
 ce and Machine Learning for Internet of Things (in conjunction with ACM 
 SenSys)
URL:http://www.wikicfp.com/cfp/servlet/event.showcfp?eventid=91239&copyow
 nerid=153670
UID:cfp794655-N@wikicfp.com
END:VEVENT
BEGIN:VEVENT
DTSTAMP:20260421T065436Z
DTSTART;VALUE=DATE:20200207
DTEND;VALUE=DATE:20200213
SUMMARY:AAAI 2020
DESCRIPTION:The Thirty-Fourth AAAI Conference on Artificial Intelligence
URL:http://www.wikicfp.com/cfp/servlet/event.showcfp?eventid=90881&copyow
 nerid=153670
UID:cfp795257-E@wikicfp.com
END:VEVENT
BEGIN:VEVENT
DTSTAMP:20260421T065436Z
DTSTART;VALUE=DATE:20190830
SUMMARY:AAAI 2020 Abstract Due
DESCRIPTION:The Thirty-Fourth AAAI Conference on Artificial Intelligence
URL:http://www.wikicfp.com/cfp/servlet/event.showcfp?eventid=90881&copyow
 nerid=153670
UID:cfp795257-A@wikicfp.com
END:VEVENT
BEGIN:VEVENT
DTSTAMP:20260421T065436Z
DTSTART;VALUE=DATE:20190905
SUMMARY:AAAI 2020 Deadline
DESCRIPTION:The Thirty-Fourth AAAI Conference on Artificial Intelligence
URL:http://www.wikicfp.com/cfp/servlet/event.showcfp?eventid=90881&copyow
 nerid=153670
UID:cfp795257-D@wikicfp.com
END:VEVENT
BEGIN:VEVENT
DTSTAMP:20260421T065436Z
DTSTART;VALUE=DATE:20191110
SUMMARY:AAAI 2020 Notification Due
DESCRIPTION:The Thirty-Fourth AAAI Conference on Artificial Intelligence
URL:http://www.wikicfp.com/cfp/servlet/event.showcfp?eventid=90881&copyow
 nerid=153670
UID:cfp795257-N@wikicfp.com
END:VEVENT
BEGIN:VEVENT
DTSTAMP:20260421T065436Z
DTSTART;VALUE=DATE:20191121
SUMMARY:AAAI 2020 Final Version Due
DESCRIPTION:The Thirty-Fourth AAAI Conference on Artificial Intelligence
URL:http://www.wikicfp.com/cfp/servlet/event.showcfp?eventid=90881&copyow
 nerid=153670
UID:cfp795257-N@wikicfp.com
END:VEVENT
BEGIN:VEVENT
DTSTAMP:20260421T065436Z
DTSTART;VALUE=DATE:20200718
DTEND;VALUE=DATE:20200724
SUMMARY:MLDM 2020
DESCRIPTION:16th International Conference on Machine Learning and Data Mi
 ning MLDM 2020
URL:http://www.wikicfp.com/cfp/servlet/event.showcfp?eventid=94971&copyow
 nerid=153670
UID:cfp809216-E@wikicfp.com
END:VEVENT
BEGIN:VEVENT
DTSTAMP:20260421T065436Z
DTSTART;VALUE=DATE:20200115
SUMMARY:MLDM 2020 Deadline
DESCRIPTION:16th International Conference on Machine Learning and Data Mi
 ning MLDM 2020
URL:http://www.wikicfp.com/cfp/servlet/event.showcfp?eventid=94971&copyow
 nerid=153670
UID:cfp809216-D@wikicfp.com
END:VEVENT
BEGIN:VEVENT
DTSTAMP:20260421T065436Z
DTSTART;VALUE=DATE:20200410
SUMMARY:MLDM 2020 Notification Due
DESCRIPTION:16th International Conference on Machine Learning and Data Mi
 ning MLDM 2020
URL:http://www.wikicfp.com/cfp/servlet/event.showcfp?eventid=94971&copyow
 nerid=153670
UID:cfp809216-N@wikicfp.com
END:VEVENT
BEGIN:VEVENT
DTSTAMP:20260421T065436Z
DTSTART;VALUE=DATE:20200505
SUMMARY:MLDM 2020 Final Version Due
DESCRIPTION:16th International Conference on Machine Learning and Data Mi
 ning MLDM 2020
URL:http://www.wikicfp.com/cfp/servlet/event.showcfp?eventid=94971&copyow
 nerid=153670
UID:cfp809216-N@wikicfp.com
END:VEVENT
BEGIN:VEVENT
DTSTAMP:20260421T065436Z
DTSTART;VALUE=DATE:20200806
DTEND;VALUE=DATE:20200809
SUMMARY:DSIS 2020
DESCRIPTION: 2nd ISSAT International Conference on Data Science and Intel
 ligent Systems
URL:http://www.wikicfp.com/cfp/servlet/event.showcfp?eventid=93745&copyow
 nerid=153670
UID:cfp809217-E@wikicfp.com
END:VEVENT
BEGIN:VEVENT
DTSTAMP:20260421T065436Z
DTSTART;VALUE=DATE:20200215
SUMMARY:DSIS 2020 Deadline
DESCRIPTION: 2nd ISSAT International Conference on Data Science and Intel
 ligent Systems
URL:http://www.wikicfp.com/cfp/servlet/event.showcfp?eventid=93745&copyow
 nerid=153670
UID:cfp809217-D@wikicfp.com
END:VEVENT
BEGIN:VEVENT
DTSTAMP:20260421T065436Z
DTSTART;VALUE=DATE:20200331
SUMMARY:DSIS 2020 Notification Due
DESCRIPTION: 2nd ISSAT International Conference on Data Science and Intel
 ligent Systems
URL:http://www.wikicfp.com/cfp/servlet/event.showcfp?eventid=93745&copyow
 nerid=153670
UID:cfp809217-N@wikicfp.com
END:VEVENT
BEGIN:VEVENT
DTSTAMP:20260421T065436Z
DTSTART;VALUE=DATE:20200515
SUMMARY:DSIS 2020 Final Version Due
DESCRIPTION: 2nd ISSAT International Conference on Data Science and Intel
 ligent Systems
URL:http://www.wikicfp.com/cfp/servlet/event.showcfp?eventid=93745&copyow
 nerid=153670
UID:cfp809217-N@wikicfp.com
END:VEVENT
END:VCALENDAR
