BEGIN:VCALENDAR
PRODID:-//WikiCFP//hsiaohung_wu 1.0//EN
VERSION:2.0
CALSCALE:GREGORIAN
BEGIN:VEVENT
DTSTAMP:20260424T113320Z
DTSTART;VALUE=DATE:20080111
DTEND;VALUE=DATE:20080113
SUMMARY:SIGHAN 2008
DESCRIPTION:The Sixth SIGHAN Workshop on Chinese Language Processing
URL:http://www.wikicfp.com/cfp/servlet/event.showcfp?eventid=8&copyowneri
 d=153
UID:cfp1678-E@wikicfp.com
END:VEVENT
BEGIN:VEVENT
DTSTAMP:20260424T113320Z
DTSTART;VALUE=DATE:20070921
SUMMARY:SIGHAN 2008 Deadline
DESCRIPTION:The Sixth SIGHAN Workshop on Chinese Language Processing
URL:http://www.wikicfp.com/cfp/servlet/event.showcfp?eventid=8&copyowneri
 d=153
UID:cfp1678-D@wikicfp.com
END:VEVENT
BEGIN:VEVENT
DTSTAMP:20260424T113320Z
DTSTART;VALUE=DATE:20080111
DTEND;VALUE=DATE:20080113
SUMMARY:ALR 2008
DESCRIPTION:The 6th Workshop on Asian Language Resources
URL:http://www.wikicfp.com/cfp/servlet/event.showcfp?eventid=9&copyowneri
 d=153
UID:cfp1677-E@wikicfp.com
END:VEVENT
BEGIN:VEVENT
DTSTAMP:20260424T113320Z
DTSTART;VALUE=DATE:20070921
SUMMARY:ALR 2008 Deadline
DESCRIPTION:The 6th Workshop on Asian Language Resources
URL:http://www.wikicfp.com/cfp/servlet/event.showcfp?eventid=9&copyowneri
 d=153
UID:cfp1677-D@wikicfp.com
END:VEVENT
BEGIN:VEVENT
DTSTAMP:20260424T113320Z
DTSTART;VALUE=DATE:20071026
SUMMARY:ALR 2008 Notification Due
DESCRIPTION:The 6th Workshop on Asian Language Resources
URL:http://www.wikicfp.com/cfp/servlet/event.showcfp?eventid=9&copyowneri
 d=153
UID:cfp1677-N@wikicfp.com
END:VEVENT
BEGIN:VEVENT
DTSTAMP:20260424T113320Z
DTSTART;VALUE=DATE:20080528
DTEND;VALUE=DATE:20080531
SUMMARY:LREC 2008
DESCRIPTION:The 6th edition of the Language Resources and Evaluation Conf
 erence
URL:http://www.wikicfp.com/cfp/servlet/event.showcfp?eventid=2&copyowneri
 d=153
UID:cfp1679-E@wikicfp.com
END:VEVENT
BEGIN:VEVENT
DTSTAMP:20260424T113320Z
DTSTART;VALUE=DATE:20071031
SUMMARY:LREC 2008 Deadline
DESCRIPTION:The 6th edition of the Language Resources and Evaluation Conf
 erence
URL:http://www.wikicfp.com/cfp/servlet/event.showcfp?eventid=2&copyowneri
 d=153
UID:cfp1679-D@wikicfp.com
END:VEVENT
BEGIN:VEVENT
DTSTAMP:20260424T113320Z
DTSTART;VALUE=DATE:20081022
DTEND;VALUE=DATE:20081025
SUMMARY:Translation Traditions 2008
DESCRIPTION:The Third Asian Translation Traditions Conference
URL:http://www.wikicfp.com/cfp/servlet/event.showcfp?eventid=305&copyowne
 rid=153
UID:cfp1675-E@wikicfp.com
END:VEVENT
BEGIN:VEVENT
DTSTAMP:20260424T113320Z
DTSTART;VALUE=DATE:20071201
SUMMARY:Translation Traditions 2008 Deadline
DESCRIPTION:The Third Asian Translation Traditions Conference
URL:http://www.wikicfp.com/cfp/servlet/event.showcfp?eventid=305&copyowne
 rid=153
UID:cfp1675-D@wikicfp.com
END:VEVENT
BEGIN:VEVENT
DTSTAMP:20260424T113320Z
DTSTART;VALUE=DATE:20080818
DTEND;VALUE=DATE:20080823
SUMMARY:COLING 2008
DESCRIPTION:The 22nd International Conference on Computational Linguistic
 s
URL:http://www.wikicfp.com/cfp/servlet/event.showcfp?eventid=158&copyowne
 rid=153
UID:cfp1676-E@wikicfp.com
END:VEVENT
BEGIN:VEVENT
DTSTAMP:20260424T113320Z
DTSTART;VALUE=DATE:20080330
SUMMARY:COLING 2008 Deadline
DESCRIPTION:The 22nd International Conference on Computational Linguistic
 s
URL:http://www.wikicfp.com/cfp/servlet/event.showcfp?eventid=158&copyowne
 rid=153
UID:cfp1676-D@wikicfp.com
END:VEVENT
BEGIN:VEVENT
DTSTAMP:20260424T113320Z
DTSTART;VALUE=DATE:20080530
SUMMARY:COLING 2008 Notification Due
DESCRIPTION:The 22nd International Conference on Computational Linguistic
 s
URL:http://www.wikicfp.com/cfp/servlet/event.showcfp?eventid=158&copyowne
 rid=153
UID:cfp1676-N@wikicfp.com
END:VEVENT
END:VCALENDAR
