BEGIN:VCALENDAR
PRODID:-//WikiCFP//SFriedl 1.0//EN
VERSION:2.0
CALSCALE:GREGORIAN
BEGIN:VEVENT
DTSTAMP:20260423T182125Z
DTSTART;VALUE=DATE:20200609
DTEND;VALUE=DATE:20200613
SUMMARY:ICPS 2020
DESCRIPTION:IEEE International Conference on Industrial Cyber-Physical Sy
 stems
URL:http://www.wikicfp.com/cfp/servlet/event.showcfp?eventid=93953&copyow
 nerid=152357
UID:cfp809940-E@wikicfp.com
END:VEVENT
BEGIN:VEVENT
DTSTAMP:20260423T182125Z
DTSTART;VALUE=DATE:20200120
SUMMARY:ICPS 2020 Deadline
DESCRIPTION:IEEE International Conference on Industrial Cyber-Physical Sy
 stems
URL:http://www.wikicfp.com/cfp/servlet/event.showcfp?eventid=93953&copyow
 nerid=152357
UID:cfp809940-D@wikicfp.com
END:VEVENT
BEGIN:VEVENT
DTSTAMP:20260423T182125Z
DTSTART;VALUE=DATE:20200331
SUMMARY:ICPS 2020 Notification Due
DESCRIPTION:IEEE International Conference on Industrial Cyber-Physical Sy
 stems
URL:http://www.wikicfp.com/cfp/servlet/event.showcfp?eventid=93953&copyow
 nerid=152357
UID:cfp809940-N@wikicfp.com
END:VEVENT
BEGIN:VEVENT
DTSTAMP:20260423T182125Z
DTSTART;VALUE=DATE:20200415
SUMMARY:ICPS 2020 Final Version Due
DESCRIPTION:IEEE International Conference on Industrial Cyber-Physical Sy
 stems
URL:http://www.wikicfp.com/cfp/servlet/event.showcfp?eventid=93953&copyow
 nerid=152357
UID:cfp809940-N@wikicfp.com
END:VEVENT
BEGIN:VEVENT
DTSTAMP:20260423T182125Z
DTSTART;VALUE=DATE:20210113
DTEND;VALUE=DATE:20210116
SUMMARY:CFIMA  2021
DESCRIPTION:2021 2nd International Conference on Frontiers of Intelligent
  Manufacturing and Automation (CFIMA 2021)
URL:http://www.wikicfp.com/cfp/servlet/event.showcfp?eventid=86397&copyow
 nerid=152357
UID:cfp809939-E@wikicfp.com
END:VEVENT
BEGIN:VEVENT
DTSTAMP:20260423T182125Z
DTSTART;VALUE=DATE:20201130
SUMMARY:CFIMA  2021 Deadline
DESCRIPTION:2021 2nd International Conference on Frontiers of Intelligent
  Manufacturing and Automation (CFIMA 2021)
URL:http://www.wikicfp.com/cfp/servlet/event.showcfp?eventid=86397&copyow
 nerid=152357
UID:cfp809939-D@wikicfp.com
END:VEVENT
BEGIN:VEVENT
DTSTAMP:20260423T182125Z
DTSTART;VALUE=DATE:20201130
SUMMARY:CFIMA  2021 Notification Due
DESCRIPTION:2021 2nd International Conference on Frontiers of Intelligent
  Manufacturing and Automation (CFIMA 2021)
URL:http://www.wikicfp.com/cfp/servlet/event.showcfp?eventid=86397&copyow
 nerid=152357
UID:cfp809939-N@wikicfp.com
END:VEVENT
BEGIN:VEVENT
DTSTAMP:20260423T182125Z
DTSTART;VALUE=DATE:20201130
SUMMARY:CFIMA  2021 Final Version Due
DESCRIPTION:2021 2nd International Conference on Frontiers of Intelligent
  Manufacturing and Automation (CFIMA 2021)
URL:http://www.wikicfp.com/cfp/servlet/event.showcfp?eventid=86397&copyow
 nerid=152357
UID:cfp809939-N@wikicfp.com
END:VEVENT
END:VCALENDAR
