BEGIN:VCALENDAR
PRODID:-//WikiCFP//Porfirio2 1.0//EN
VERSION:2.0
CALSCALE:GREGORIAN
BEGIN:VEVENT
DTSTAMP:20260425T115649Z
DTSTART;VALUE=DATE:20100929
DTEND;VALUE=DATE:20101003
SUMMARY:QUATIC 2010
DESCRIPTION:7th International Conference on the Quality of Information an
 d Communications Technology
URL:http://www.wikicfp.com/cfp/servlet/event.showcfp?eventid=9345&copyown
 erid=15230
UID:cfp105264-E@wikicfp.com
END:VEVENT
BEGIN:VEVENT
DTSTAMP:20260425T115649Z
DTSTART;VALUE=DATE:20100401
SUMMARY:QUATIC 2010 Abstract Due
DESCRIPTION:7th International Conference on the Quality of Information an
 d Communications Technology
URL:http://www.wikicfp.com/cfp/servlet/event.showcfp?eventid=9345&copyown
 erid=15230
UID:cfp105264-A@wikicfp.com
END:VEVENT
BEGIN:VEVENT
DTSTAMP:20260425T115649Z
DTSTART;VALUE=DATE:20100411
SUMMARY:QUATIC 2010 Deadline
DESCRIPTION:7th International Conference on the Quality of Information an
 d Communications Technology
URL:http://www.wikicfp.com/cfp/servlet/event.showcfp?eventid=9345&copyown
 erid=15230
UID:cfp105264-D@wikicfp.com
END:VEVENT
BEGIN:VEVENT
DTSTAMP:20260425T115649Z
DTSTART;VALUE=DATE:20100505
SUMMARY:QUATIC 2010 Notification Due
DESCRIPTION:7th International Conference on the Quality of Information an
 d Communications Technology
URL:http://www.wikicfp.com/cfp/servlet/event.showcfp?eventid=9345&copyown
 erid=15230
UID:cfp105264-N@wikicfp.com
END:VEVENT
BEGIN:VEVENT
DTSTAMP:20260425T115649Z
DTSTART;VALUE=DATE:20100606
SUMMARY:QUATIC 2010 Final Version Due
DESCRIPTION:7th International Conference on the Quality of Information an
 d Communications Technology
URL:http://www.wikicfp.com/cfp/servlet/event.showcfp?eventid=9345&copyown
 erid=15230
UID:cfp105264-N@wikicfp.com
END:VEVENT
BEGIN:VEVENT
DTSTAMP:20260425T115649Z
DTSTART;VALUE=DATE:20101107
DTEND;VALUE=DATE:20101112
SUMMARY:ISWC 2010
DESCRIPTION:The 9th International Semantic Web Conference
URL:http://www.wikicfp.com/cfp/servlet/event.showcfp?eventid=6864&copyown
 erid=15230
UID:cfp105266-E@wikicfp.com
END:VEVENT
BEGIN:VEVENT
DTSTAMP:20260425T115649Z
DTSTART;VALUE=DATE:20100621
SUMMARY:ISWC 2010 Abstract Due
DESCRIPTION:The 9th International Semantic Web Conference
URL:http://www.wikicfp.com/cfp/servlet/event.showcfp?eventid=6864&copyown
 erid=15230
UID:cfp105266-A@wikicfp.com
END:VEVENT
BEGIN:VEVENT
DTSTAMP:20260425T115649Z
DTSTART;VALUE=DATE:20100628
SUMMARY:ISWC 2010 Deadline
DESCRIPTION:The 9th International Semantic Web Conference
URL:http://www.wikicfp.com/cfp/servlet/event.showcfp?eventid=6864&copyown
 erid=15230
UID:cfp105266-D@wikicfp.com
END:VEVENT
BEGIN:VEVENT
DTSTAMP:20260425T115649Z
DTSTART;VALUE=DATE:20100816
SUMMARY:ISWC 2010 Notification Due
DESCRIPTION:The 9th International Semantic Web Conference
URL:http://www.wikicfp.com/cfp/servlet/event.showcfp?eventid=6864&copyown
 erid=15230
UID:cfp105266-N@wikicfp.com
END:VEVENT
BEGIN:VEVENT
DTSTAMP:20260425T115649Z
DTSTART;VALUE=DATE:20110506
DTEND;VALUE=DATE:20110510
SUMMARY:WEBIST 2011
DESCRIPTION: 7th International Conference on Web Information Systems and 
 Technologies (WEBIST)
URL:http://www.wikicfp.com/cfp/servlet/event.showcfp?eventid=10368&copyow
 nerid=15230
UID:cfp105267-E@wikicfp.com
END:VEVENT
BEGIN:VEVENT
DTSTAMP:20260425T115649Z
DTSTART;VALUE=DATE:20110131
SUMMARY:WEBIST 2011 Abstract Due
DESCRIPTION: 7th International Conference on Web Information Systems and 
 Technologies (WEBIST)
URL:http://www.wikicfp.com/cfp/servlet/event.showcfp?eventid=10368&copyow
 nerid=15230
UID:cfp105267-A@wikicfp.com
END:VEVENT
BEGIN:VEVENT
DTSTAMP:20260425T115649Z
DTSTART;VALUE=DATE:20100930
SUMMARY:WEBIST 2011 Deadline
DESCRIPTION: 7th International Conference on Web Information Systems and 
 Technologies (WEBIST)
URL:http://www.wikicfp.com/cfp/servlet/event.showcfp?eventid=10368&copyow
 nerid=15230
UID:cfp105267-D@wikicfp.com
END:VEVENT
BEGIN:VEVENT
DTSTAMP:20260425T115649Z
DTSTART;VALUE=DATE:20110111
SUMMARY:WEBIST 2011 Notification Due
DESCRIPTION: 7th International Conference on Web Information Systems and 
 Technologies (WEBIST)
URL:http://www.wikicfp.com/cfp/servlet/event.showcfp?eventid=10368&copyow
 nerid=15230
UID:cfp105267-N@wikicfp.com
END:VEVENT
BEGIN:VEVENT
DTSTAMP:20260425T115649Z
DTSTART;VALUE=DATE:20110131
SUMMARY:WEBIST 2011 Final Version Due
DESCRIPTION: 7th International Conference on Web Information Systems and 
 Technologies (WEBIST)
URL:http://www.wikicfp.com/cfp/servlet/event.showcfp?eventid=10368&copyow
 nerid=15230
UID:cfp105267-N@wikicfp.com
END:VEVENT
BEGIN:VEVENT
DTSTAMP:20260425T115649Z
DTSTART;VALUE=DATE:20110321
DTEND;VALUE=DATE:20110326
SUMMARY:ICST 2011
DESCRIPTION:International Conference on Software Testing\, Validation and
  Verification
URL:http://www.wikicfp.com/cfp/servlet/event.showcfp?eventid=10092&copyow
 nerid=15230
UID:cfp105265-E@wikicfp.com
END:VEVENT
BEGIN:VEVENT
DTSTAMP:20260425T115649Z
DTSTART;VALUE=DATE:20100925
SUMMARY:ICST 2011 Abstract Due
DESCRIPTION:International Conference on Software Testing\, Validation and
  Verification
URL:http://www.wikicfp.com/cfp/servlet/event.showcfp?eventid=10092&copyow
 nerid=15230
UID:cfp105265-A@wikicfp.com
END:VEVENT
BEGIN:VEVENT
DTSTAMP:20260425T115649Z
DTSTART;VALUE=DATE:20101001
SUMMARY:ICST 2011 Deadline
DESCRIPTION:International Conference on Software Testing\, Validation and
  Verification
URL:http://www.wikicfp.com/cfp/servlet/event.showcfp?eventid=10092&copyow
 nerid=15230
UID:cfp105265-D@wikicfp.com
END:VEVENT
BEGIN:VEVENT
DTSTAMP:20260425T115649Z
DTSTART;VALUE=DATE:20110301
DTEND;VALUE=DATE:20110305
SUMMARY:CSMR 2011
DESCRIPTION:15th European Conference on Software Maintenance and Reengine
 ering
URL:http://www.wikicfp.com/cfp/servlet/event.showcfp?eventid=10549&copyow
 nerid=15230
UID:cfp105270-E@wikicfp.com
END:VEVENT
BEGIN:VEVENT
DTSTAMP:20260425T115649Z
DTSTART;VALUE=DATE:20101015
SUMMARY:CSMR 2011 Abstract Due
DESCRIPTION:15th European Conference on Software Maintenance and Reengine
 ering
URL:http://www.wikicfp.com/cfp/servlet/event.showcfp?eventid=10549&copyow
 nerid=15230
UID:cfp105270-A@wikicfp.com
END:VEVENT
BEGIN:VEVENT
DTSTAMP:20260425T115649Z
DTSTART;VALUE=DATE:20101022
SUMMARY:CSMR 2011 Deadline
DESCRIPTION:15th European Conference on Software Maintenance and Reengine
 ering
URL:http://www.wikicfp.com/cfp/servlet/event.showcfp?eventid=10549&copyow
 nerid=15230
UID:cfp105270-D@wikicfp.com
END:VEVENT
BEGIN:VEVENT
DTSTAMP:20260425T115649Z
DTSTART;VALUE=DATE:20101129
SUMMARY:CSMR 2011 Notification Due
DESCRIPTION:15th European Conference on Software Maintenance and Reengine
 ering
URL:http://www.wikicfp.com/cfp/servlet/event.showcfp?eventid=10549&copyow
 nerid=15230
UID:cfp105270-N@wikicfp.com
END:VEVENT
BEGIN:VEVENT
DTSTAMP:20260425T115649Z
DTSTART;VALUE=DATE:20110121
SUMMARY:CSMR 2011 Final Version Due
DESCRIPTION:15th European Conference on Software Maintenance and Reengine
 ering
URL:http://www.wikicfp.com/cfp/servlet/event.showcfp?eventid=10549&copyow
 nerid=15230
UID:cfp105270-N@wikicfp.com
END:VEVENT
BEGIN:VEVENT
DTSTAMP:20260425T115649Z
DTSTART;VALUE=DATE:20110328
DTEND;VALUE=DATE:20110402
SUMMARY:WWW 2011
DESCRIPTION:20th International World Wide Web Conference
URL:http://www.wikicfp.com/cfp/servlet/event.showcfp?eventid=10779&copyow
 nerid=15230
UID:cfp105268-E@wikicfp.com
END:VEVENT
BEGIN:VEVENT
DTSTAMP:20260425T115649Z
DTSTART;VALUE=DATE:20101022
SUMMARY:WWW 2011 Abstract Due
DESCRIPTION:20th International World Wide Web Conference
URL:http://www.wikicfp.com/cfp/servlet/event.showcfp?eventid=10779&copyow
 nerid=15230
UID:cfp105268-A@wikicfp.com
END:VEVENT
BEGIN:VEVENT
DTSTAMP:20260425T115649Z
DTSTART;VALUE=DATE:20101029
SUMMARY:WWW 2011 Deadline
DESCRIPTION:20th International World Wide Web Conference
URL:http://www.wikicfp.com/cfp/servlet/event.showcfp?eventid=10779&copyow
 nerid=15230
UID:cfp105268-D@wikicfp.com
END:VEVENT
BEGIN:VEVENT
DTSTAMP:20260425T115649Z
DTSTART;VALUE=DATE:20110117
SUMMARY:WWW 2011 Notification Due
DESCRIPTION:20th International World Wide Web Conference
URL:http://www.wikicfp.com/cfp/servlet/event.showcfp?eventid=10779&copyow
 nerid=15230
UID:cfp105268-N@wikicfp.com
END:VEVENT
BEGIN:VEVENT
DTSTAMP:20260425T115649Z
DTSTART;VALUE=DATE:20110131
SUMMARY:WWW 2011 Final Version Due
DESCRIPTION:20th International World Wide Web Conference
URL:http://www.wikicfp.com/cfp/servlet/event.showcfp?eventid=10779&copyow
 nerid=15230
UID:cfp105268-N@wikicfp.com
END:VEVENT
BEGIN:VEVENT
DTSTAMP:20260425T115649Z
DTSTART;VALUE=DATE:20110717
DTEND;VALUE=DATE:20110722
SUMMARY:ISSTA 2011
DESCRIPTION:International Symposium on Software Testing and Analysis
URL:http://www.wikicfp.com/cfp/servlet/event.showcfp?eventid=10360&copyow
 nerid=15230
UID:cfp105269-E@wikicfp.com
END:VEVENT
BEGIN:VEVENT
DTSTAMP:20260425T115649Z
DTSTART;VALUE=DATE:20110204
SUMMARY:ISSTA 2011 Deadline
DESCRIPTION:International Symposium on Software Testing and Analysis
URL:http://www.wikicfp.com/cfp/servlet/event.showcfp?eventid=10360&copyow
 nerid=15230
UID:cfp105269-D@wikicfp.com
END:VEVENT
BEGIN:VEVENT
DTSTAMP:20260425T115649Z
DTSTART;VALUE=DATE:20110415
SUMMARY:ISSTA 2011 Notification Due
DESCRIPTION:International Symposium on Software Testing and Analysis
URL:http://www.wikicfp.com/cfp/servlet/event.showcfp?eventid=10360&copyow
 nerid=15230
UID:cfp105269-N@wikicfp.com
END:VEVENT
BEGIN:VEVENT
DTSTAMP:20260425T115649Z
DTSTART;VALUE=DATE:20110513
SUMMARY:ISSTA 2011 Final Version Due
DESCRIPTION:International Symposium on Software Testing and Analysis
URL:http://www.wikicfp.com/cfp/servlet/event.showcfp?eventid=10360&copyow
 nerid=15230
UID:cfp105269-N@wikicfp.com
END:VEVENT
END:VCALENDAR
