BEGIN:VCALENDAR
PRODID:-//WikiCFP//cfybasil 1.0//EN
VERSION:2.0
CALSCALE:GREGORIAN
BEGIN:VEVENT
DTSTAMP:20260423T150717Z
DTSTART;VALUE=DATE:20190416
DTEND;VALUE=DATE:20190419
SUMMARY:ICCPS  2019
DESCRIPTION:The 10th ACM/IEEE International Conference on Cyber-Physical 
 Systems
URL:http://www.wikicfp.com/cfp/servlet/event.showcfp?eventid=79784&copyow
 nerid=151605
UID:cfp790669-E@wikicfp.com
END:VEVENT
BEGIN:VEVENT
DTSTAMP:20260423T150717Z
DTSTART;VALUE=DATE:20181017
SUMMARY:ICCPS  2019 Deadline
DESCRIPTION:The 10th ACM/IEEE International Conference on Cyber-Physical 
 Systems
URL:http://www.wikicfp.com/cfp/servlet/event.showcfp?eventid=79784&copyow
 nerid=151605
UID:cfp790669-D@wikicfp.com
END:VEVENT
BEGIN:VEVENT
DTSTAMP:20260423T150717Z
DTSTART;VALUE=DATE:20181228
SUMMARY:ICCPS  2019 Notification Due
DESCRIPTION:The 10th ACM/IEEE International Conference on Cyber-Physical 
 Systems
URL:http://www.wikicfp.com/cfp/servlet/event.showcfp?eventid=79784&copyow
 nerid=151605
UID:cfp790669-N@wikicfp.com
END:VEVENT
BEGIN:VEVENT
DTSTAMP:20260423T150717Z
DTSTART;VALUE=DATE:20190215
SUMMARY:ICCPS  2019 Final Version Due
DESCRIPTION:The 10th ACM/IEEE International Conference on Cyber-Physical 
 Systems
URL:http://www.wikicfp.com/cfp/servlet/event.showcfp?eventid=79784&copyow
 nerid=151605
UID:cfp790669-N@wikicfp.com
END:VEVENT
BEGIN:VEVENT
DTSTAMP:20260423T150717Z
DTSTART;VALUE=DATE:20191013
DTEND;VALUE=DATE:20191019
SUMMARY:EMSOFT 2019
DESCRIPTION:International Conference on Embedded Software
URL:http://www.wikicfp.com/cfp/servlet/event.showcfp?eventid=83547&copyow
 nerid=151605
UID:cfp800294-E@wikicfp.com
END:VEVENT
BEGIN:VEVENT
DTSTAMP:20260423T150717Z
DTSTART;VALUE=DATE:20190405
SUMMARY:EMSOFT 2019 Abstract Due
DESCRIPTION:International Conference on Embedded Software
URL:http://www.wikicfp.com/cfp/servlet/event.showcfp?eventid=83547&copyow
 nerid=151605
UID:cfp800294-A@wikicfp.com
END:VEVENT
BEGIN:VEVENT
DTSTAMP:20260423T150717Z
DTSTART;VALUE=DATE:20190412
SUMMARY:EMSOFT 2019 Deadline
DESCRIPTION:International Conference on Embedded Software
URL:http://www.wikicfp.com/cfp/servlet/event.showcfp?eventid=83547&copyow
 nerid=151605
UID:cfp800294-D@wikicfp.com
END:VEVENT
BEGIN:VEVENT
DTSTAMP:20260423T150717Z
DTSTART;VALUE=DATE:20190710
SUMMARY:EMSOFT 2019 Notification Due
DESCRIPTION:International Conference on Embedded Software
URL:http://www.wikicfp.com/cfp/servlet/event.showcfp?eventid=83547&copyow
 nerid=151605
UID:cfp800294-N@wikicfp.com
END:VEVENT
END:VCALENDAR
