BEGIN:VCALENDAR
PRODID:-//WikiCFP//Vietwoojagig 1.0//EN
VERSION:2.0
CALSCALE:GREGORIAN
BEGIN:VEVENT
DTSTAMP:20260422T041215Z
DTSTART;VALUE=DATE:20191001
DTEND;VALUE=DATE:20191002
SUMMARY:DRSS 2019
DESCRIPTION:1st Workshop on Distributed and Reliable Storage Systems 
URL:http://www.wikicfp.com/cfp/servlet/event.showcfp?eventid=89718&copyow
 nerid=151085
UID:cfp789514-E@wikicfp.com
END:VEVENT
BEGIN:VEVENT
DTSTAMP:20260422T041215Z
DTSTART;VALUE=DATE:20190621
SUMMARY:DRSS 2019 Deadline
DESCRIPTION:1st Workshop on Distributed and Reliable Storage Systems 
URL:http://www.wikicfp.com/cfp/servlet/event.showcfp?eventid=89718&copyow
 nerid=151085
UID:cfp789514-D@wikicfp.com
END:VEVENT
BEGIN:VEVENT
DTSTAMP:20260422T041215Z
DTSTART;VALUE=DATE:20190719
SUMMARY:DRSS 2019 Notification Due
DESCRIPTION:1st Workshop on Distributed and Reliable Storage Systems 
URL:http://www.wikicfp.com/cfp/servlet/event.showcfp?eventid=89718&copyow
 nerid=151085
UID:cfp789514-N@wikicfp.com
END:VEVENT
BEGIN:VEVENT
DTSTAMP:20260422T041215Z
DTSTART;VALUE=DATE:20190802
SUMMARY:DRSS 2019 Final Version Due
DESCRIPTION:1st Workshop on Distributed and Reliable Storage Systems 
URL:http://www.wikicfp.com/cfp/servlet/event.showcfp?eventid=89718&copyow
 nerid=151085
UID:cfp789514-N@wikicfp.com
END:VEVENT
BEGIN:VEVENT
DTSTAMP:20260422T041215Z
DTSTART;VALUE=DATE:20190920
DTEND;VALUE=DATE:20190923
SUMMARY:SEEDA-CECNSM 2019
DESCRIPTION:Special Track on Knowledge acquisition in smart contexts: Sys
 tems\, Methods and Applications
URL:http://www.wikicfp.com/cfp/servlet/event.showcfp?eventid=90081&copyow
 nerid=151085
UID:cfp789513-E@wikicfp.com
END:VEVENT
BEGIN:VEVENT
DTSTAMP:20260422T041215Z
DTSTART;VALUE=DATE:20190622
SUMMARY:SEEDA-CECNSM 2019 Deadline
DESCRIPTION:Special Track on Knowledge acquisition in smart contexts: Sys
 tems\, Methods and Applications
URL:http://www.wikicfp.com/cfp/servlet/event.showcfp?eventid=90081&copyow
 nerid=151085
UID:cfp789513-D@wikicfp.com
END:VEVENT
BEGIN:VEVENT
DTSTAMP:20260422T041215Z
DTSTART;VALUE=DATE:20190630
SUMMARY:SEEDA-CECNSM 2019 Notification Due
DESCRIPTION:Special Track on Knowledge acquisition in smart contexts: Sys
 tems\, Methods and Applications
URL:http://www.wikicfp.com/cfp/servlet/event.showcfp?eventid=90081&copyow
 nerid=151085
UID:cfp789513-N@wikicfp.com
END:VEVENT
BEGIN:VEVENT
DTSTAMP:20260422T041215Z
DTSTART;VALUE=DATE:20190714
SUMMARY:SEEDA-CECNSM 2019 Final Version Due
DESCRIPTION:Special Track on Knowledge acquisition in smart contexts: Sys
 tems\, Methods and Applications
URL:http://www.wikicfp.com/cfp/servlet/event.showcfp?eventid=90081&copyow
 nerid=151085
UID:cfp789513-N@wikicfp.com
END:VEVENT
BEGIN:VEVENT
DTSTAMP:20260422T041215Z
DTSTART;VALUE=DATE:20191022
DTEND;VALUE=DATE:20191026
SUMMARY:IEEE BCCA 2019
DESCRIPTION:The IEEE International Symposium on Blockchain Computing and 
 Applications
URL:http://www.wikicfp.com/cfp/servlet/event.showcfp?eventid=89860&copyow
 nerid=151085
UID:cfp789512-E@wikicfp.com
END:VEVENT
BEGIN:VEVENT
DTSTAMP:20260422T041215Z
DTSTART;VALUE=DATE:20190701
SUMMARY:IEEE BCCA 2019 Deadline
DESCRIPTION:The IEEE International Symposium on Blockchain Computing and 
 Applications
URL:http://www.wikicfp.com/cfp/servlet/event.showcfp?eventid=89860&copyow
 nerid=151085
UID:cfp789512-D@wikicfp.com
END:VEVENT
BEGIN:VEVENT
DTSTAMP:20260422T041215Z
DTSTART;VALUE=DATE:20190820
SUMMARY:IEEE BCCA 2019 Notification Due
DESCRIPTION:The IEEE International Symposium on Blockchain Computing and 
 Applications
URL:http://www.wikicfp.com/cfp/servlet/event.showcfp?eventid=89860&copyow
 nerid=151085
UID:cfp789512-N@wikicfp.com
END:VEVENT
BEGIN:VEVENT
DTSTAMP:20260422T041215Z
DTSTART;VALUE=DATE:20190905
SUMMARY:IEEE BCCA 2019 Final Version Due
DESCRIPTION:The IEEE International Symposium on Blockchain Computing and 
 Applications
URL:http://www.wikicfp.com/cfp/servlet/event.showcfp?eventid=89860&copyow
 nerid=151085
UID:cfp789512-N@wikicfp.com
END:VEVENT
END:VCALENDAR
