BEGIN:VCALENDAR
PRODID:-//WikiCFP//anilsamayam 1.0//EN
VERSION:2.0
CALSCALE:GREGORIAN
BEGIN:VEVENT
DTSTAMP:20260424T013228Z
DTSTART;VALUE=DATE:20191103
DTEND;VALUE=DATE:20191108
SUMMARY:IEEE BCA  2019
DESCRIPTION:The 1st IEEE International Workshop on Blockchain and its App
 lications
URL:http://www.wikicfp.com/cfp/servlet/event.showcfp?eventid=88435&copyow
 nerid=150479
UID:cfp788217-E@wikicfp.com
END:VEVENT
BEGIN:VEVENT
DTSTAMP:20260424T013228Z
DTSTART;VALUE=DATE:20190620
SUMMARY:IEEE BCA  2019 Deadline
DESCRIPTION:The 1st IEEE International Workshop on Blockchain and its App
 lications
URL:http://www.wikicfp.com/cfp/servlet/event.showcfp?eventid=88435&copyow
 nerid=150479
UID:cfp788217-D@wikicfp.com
END:VEVENT
BEGIN:VEVENT
DTSTAMP:20260424T013228Z
DTSTART;VALUE=DATE:20190725
SUMMARY:IEEE BCA  2019 Notification Due
DESCRIPTION:The 1st IEEE International Workshop on Blockchain and its App
 lications
URL:http://www.wikicfp.com/cfp/servlet/event.showcfp?eventid=88435&copyow
 nerid=150479
UID:cfp788217-N@wikicfp.com
END:VEVENT
BEGIN:VEVENT
DTSTAMP:20260424T013228Z
DTSTART;VALUE=DATE:20190801
SUMMARY:IEEE BCA  2019 Final Version Due
DESCRIPTION:The 1st IEEE International Workshop on Blockchain and its App
 lications
URL:http://www.wikicfp.com/cfp/servlet/event.showcfp?eventid=88435&copyow
 nerid=150479
UID:cfp788217-N@wikicfp.com
END:VEVENT
BEGIN:VEVENT
DTSTAMP:20260424T013228Z
DTSTART;VALUE=DATE:20191022
DTEND;VALUE=DATE:20191026
SUMMARY:IEEE BCCA 2019
DESCRIPTION:The IEEE International Symposium on Blockchain Computing and 
 Applications
URL:http://www.wikicfp.com/cfp/servlet/event.showcfp?eventid=89860&copyow
 nerid=150479
UID:cfp788218-E@wikicfp.com
END:VEVENT
BEGIN:VEVENT
DTSTAMP:20260424T013228Z
DTSTART;VALUE=DATE:20190701
SUMMARY:IEEE BCCA 2019 Deadline
DESCRIPTION:The IEEE International Symposium on Blockchain Computing and 
 Applications
URL:http://www.wikicfp.com/cfp/servlet/event.showcfp?eventid=89860&copyow
 nerid=150479
UID:cfp788218-D@wikicfp.com
END:VEVENT
BEGIN:VEVENT
DTSTAMP:20260424T013228Z
DTSTART;VALUE=DATE:20190820
SUMMARY:IEEE BCCA 2019 Notification Due
DESCRIPTION:The IEEE International Symposium on Blockchain Computing and 
 Applications
URL:http://www.wikicfp.com/cfp/servlet/event.showcfp?eventid=89860&copyow
 nerid=150479
UID:cfp788218-N@wikicfp.com
END:VEVENT
BEGIN:VEVENT
DTSTAMP:20260424T013228Z
DTSTART;VALUE=DATE:20190905
SUMMARY:IEEE BCCA 2019 Final Version Due
DESCRIPTION:The IEEE International Symposium on Blockchain Computing and 
 Applications
URL:http://www.wikicfp.com/cfp/servlet/event.showcfp?eventid=89860&copyow
 nerid=150479
UID:cfp788218-N@wikicfp.com
END:VEVENT
BEGIN:VEVENT
DTSTAMP:20260424T013228Z
DTSTART;VALUE=DATE:20191011
DTEND;VALUE=DATE:20191012
SUMMARY:IWBIS 2019
DESCRIPTION:The 4th IEEE International Workshop on Big Data and Informati
 on Security
URL:http://www.wikicfp.com/cfp/servlet/event.showcfp?eventid=86645&copyow
 nerid=150479
UID:cfp788216-E@wikicfp.com
END:VEVENT
BEGIN:VEVENT
DTSTAMP:20260424T013228Z
DTSTART;VALUE=DATE:20190726
SUMMARY:IWBIS 2019 Deadline
DESCRIPTION:The 4th IEEE International Workshop on Big Data and Informati
 on Security
URL:http://www.wikicfp.com/cfp/servlet/event.showcfp?eventid=86645&copyow
 nerid=150479
UID:cfp788216-D@wikicfp.com
END:VEVENT
BEGIN:VEVENT
DTSTAMP:20260424T013228Z
DTSTART;VALUE=DATE:20190904
SUMMARY:IWBIS 2019 Notification Due
DESCRIPTION:The 4th IEEE International Workshop on Big Data and Informati
 on Security
URL:http://www.wikicfp.com/cfp/servlet/event.showcfp?eventid=86645&copyow
 nerid=150479
UID:cfp788216-N@wikicfp.com
END:VEVENT
BEGIN:VEVENT
DTSTAMP:20260424T013228Z
DTSTART;VALUE=DATE:20190920
SUMMARY:IWBIS 2019 Final Version Due
DESCRIPTION:The 4th IEEE International Workshop on Big Data and Informati
 on Security
URL:http://www.wikicfp.com/cfp/servlet/event.showcfp?eventid=86645&copyow
 nerid=150479
UID:cfp788216-N@wikicfp.com
END:VEVENT
END:VCALENDAR
