BEGIN:VCALENDAR
PRODID:-//WikiCFP//calclavia 1.0//EN
VERSION:2.0
CALSCALE:GREGORIAN
BEGIN:VEVENT
DTSTAMP:20260426T022459Z
DTSTART;VALUE=DATE:20191103
DTEND;VALUE=DATE:20191108
SUMMARY:EMNLP-IJCNLP  2019
DESCRIPTION:Conference on Empirical Methods in Natural Language Processin
 g & International Joint Conference on Natural Language Processing 2019 
URL:http://www.wikicfp.com/cfp/servlet/event.showcfp?eventid=83376&copyow
 nerid=149833
UID:cfp785403-E@wikicfp.com
END:VEVENT
BEGIN:VEVENT
DTSTAMP:20260426T022459Z
DTSTART;VALUE=DATE:20190521
SUMMARY:EMNLP-IJCNLP  2019 Deadline
DESCRIPTION:Conference on Empirical Methods in Natural Language Processin
 g & International Joint Conference on Natural Language Processing 2019 
URL:http://www.wikicfp.com/cfp/servlet/event.showcfp?eventid=83376&copyow
 nerid=149833
UID:cfp785403-D@wikicfp.com
END:VEVENT
BEGIN:VEVENT
DTSTAMP:20260426T022459Z
DTSTART;VALUE=DATE:20190812
SUMMARY:EMNLP-IJCNLP  2019 Notification Due
DESCRIPTION:Conference on Empirical Methods in Natural Language Processin
 g & International Joint Conference on Natural Language Processing 2019 
URL:http://www.wikicfp.com/cfp/servlet/event.showcfp?eventid=83376&copyow
 nerid=149833
UID:cfp785403-N@wikicfp.com
END:VEVENT
BEGIN:VEVENT
DTSTAMP:20260426T022459Z
DTSTART;VALUE=DATE:20190830
SUMMARY:EMNLP-IJCNLP  2019 Final Version Due
DESCRIPTION:Conference on Empirical Methods in Natural Language Processin
 g & International Joint Conference on Natural Language Processing 2019 
URL:http://www.wikicfp.com/cfp/servlet/event.showcfp?eventid=83376&copyow
 nerid=149833
UID:cfp785403-N@wikicfp.com
END:VEVENT
END:VCALENDAR
