BEGIN:VCALENDAR
PRODID:-//WikiCFP//rachid 1.0//EN
VERSION:2.0
CALSCALE:GREGORIAN
BEGIN:VEVENT
DTSTAMP:20260422T113658Z
DTSTART;VALUE=DATE:20090419
DTEND;VALUE=DATE:20090423
SUMMARY:VTC-Sping 2009
DESCRIPTION:IEEE Vehicular Technology Conference
URL:http://www.wikicfp.com/cfp/servlet/event.showcfp?eventid=3492&copyown
 erid=1495
UID:cfp11921-E@wikicfp.com
END:VEVENT
BEGIN:VEVENT
DTSTAMP:20260422T113658Z
DTSTART;VALUE=DATE:20080915
SUMMARY:VTC-Sping 2009 Deadline
DESCRIPTION:IEEE Vehicular Technology Conference
URL:http://www.wikicfp.com/cfp/servlet/event.showcfp?eventid=3492&copyown
 erid=1495
UID:cfp11921-D@wikicfp.com
END:VEVENT
BEGIN:VEVENT
DTSTAMP:20260422T113658Z
DTSTART;VALUE=DATE:20081215
SUMMARY:VTC-Sping 2009 Notification Due
DESCRIPTION:IEEE Vehicular Technology Conference
URL:http://www.wikicfp.com/cfp/servlet/event.showcfp?eventid=3492&copyown
 erid=1495
UID:cfp11921-N@wikicfp.com
END:VEVENT
BEGIN:VEVENT
DTSTAMP:20260422T113658Z
DTSTART;VALUE=DATE:20090123
SUMMARY:VTC-Sping 2009 Final Version Due
DESCRIPTION:IEEE Vehicular Technology Conference
URL:http://www.wikicfp.com/cfp/servlet/event.showcfp?eventid=3492&copyown
 erid=1495
UID:cfp11921-N@wikicfp.com
END:VEVENT
BEGIN:VEVENT
DTSTAMP:20260422T113658Z
DTSTART;VALUE=DATE:20090413
DTEND;VALUE=DATE:20090416
SUMMARY:HSCC 2009
DESCRIPTION:Hybrid Systems: Computation & Control
URL:http://www.wikicfp.com/cfp/servlet/event.showcfp?eventid=3483&copyown
 erid=1495
UID:cfp11919-E@wikicfp.com
END:VEVENT
BEGIN:VEVENT
DTSTAMP:20260422T113658Z
DTSTART;VALUE=DATE:20081010
SUMMARY:HSCC 2009 Deadline
DESCRIPTION:Hybrid Systems: Computation & Control
URL:http://www.wikicfp.com/cfp/servlet/event.showcfp?eventid=3483&copyown
 erid=1495
UID:cfp11919-D@wikicfp.com
END:VEVENT
BEGIN:VEVENT
DTSTAMP:20260422T113658Z
DTSTART;VALUE=DATE:20081130
SUMMARY:HSCC 2009 Notification Due
DESCRIPTION:Hybrid Systems: Computation & Control
URL:http://www.wikicfp.com/cfp/servlet/event.showcfp?eventid=3483&copyown
 erid=1495
UID:cfp11919-N@wikicfp.com
END:VEVENT
BEGIN:VEVENT
DTSTAMP:20260422T113658Z
DTSTART;VALUE=DATE:20090109
SUMMARY:HSCC 2009 Final Version Due
DESCRIPTION:Hybrid Systems: Computation & Control
URL:http://www.wikicfp.com/cfp/servlet/event.showcfp?eventid=3483&copyown
 erid=1495
UID:cfp11919-N@wikicfp.com
END:VEVENT
BEGIN:VEVENT
DTSTAMP:20260422T113658Z
DTSTART;VALUE=DATE:20090610
DTEND;VALUE=DATE:20090613
SUMMARY:IbPRIA 2009
DESCRIPTION:4th Iberian Conference on Pattern Recognition and Image Analy
 sis
URL:http://www.wikicfp.com/cfp/servlet/event.showcfp?eventid=3484&copyown
 erid=1495
UID:cfp11920-E@wikicfp.com
END:VEVENT
BEGIN:VEVENT
DTSTAMP:20260422T113658Z
DTSTART;VALUE=DATE:20081216
SUMMARY:IbPRIA 2009 Deadline
DESCRIPTION:4th Iberian Conference on Pattern Recognition and Image Analy
 sis
URL:http://www.wikicfp.com/cfp/servlet/event.showcfp?eventid=3484&copyown
 erid=1495
UID:cfp11920-D@wikicfp.com
END:VEVENT
END:VCALENDAR
